BEGIN:VCALENDAR
VERSION:2.0
PRODID:-//IZZBW - ECPv6.15.20//NONSGML v1.0//EN
CALSCALE:GREGORIAN
METHOD:PUBLISH
X-WR-CALNAME:IZZBW
X-ORIGINAL-URL:https://izzbw.de
X-WR-CALDESC:Veranstaltungen für IZZBW
REFRESH-INTERVAL;VALUE=DURATION:PT1H
X-Robots-Tag:noindex
X-PUBLISHED-TTL:PT1H
BEGIN:VTIMEZONE
TZID:Europe/Berlin
BEGIN:DAYLIGHT
TZOFFSETFROM:+0100
TZOFFSETTO:+0200
TZNAME:CEST
DTSTART:20190331T010000
END:DAYLIGHT
BEGIN:STANDARD
TZOFFSETFROM:+0200
TZOFFSETTO:+0100
TZNAME:CET
DTSTART:20191027T010000
END:STANDARD
BEGIN:DAYLIGHT
TZOFFSETFROM:+0100
TZOFFSETTO:+0200
TZNAME:CEST
DTSTART:20200329T010000
END:DAYLIGHT
BEGIN:STANDARD
TZOFFSETFROM:+0200
TZOFFSETTO:+0100
TZNAME:CET
DTSTART:20201025T010000
END:STANDARD
BEGIN:DAYLIGHT
TZOFFSETFROM:+0100
TZOFFSETTO:+0200
TZNAME:CEST
DTSTART:20210328T010000
END:DAYLIGHT
BEGIN:STANDARD
TZOFFSETFROM:+0200
TZOFFSETTO:+0100
TZNAME:CET
DTSTART:20211031T010000
END:STANDARD
BEGIN:DAYLIGHT
TZOFFSETFROM:+0100
TZOFFSETTO:+0200
TZNAME:CEST
DTSTART:20220327T010000
END:DAYLIGHT
BEGIN:STANDARD
TZOFFSETFROM:+0200
TZOFFSETTO:+0100
TZNAME:CET
DTSTART:20221030T010000
END:STANDARD
BEGIN:DAYLIGHT
TZOFFSETFROM:+0100
TZOFFSETTO:+0200
TZNAME:CEST
DTSTART:20230326T010000
END:DAYLIGHT
BEGIN:STANDARD
TZOFFSETFROM:+0200
TZOFFSETTO:+0100
TZNAME:CET
DTSTART:20231029T010000
END:STANDARD
BEGIN:DAYLIGHT
TZOFFSETFROM:+0100
TZOFFSETTO:+0200
TZNAME:CEST
DTSTART:20240331T010000
END:DAYLIGHT
BEGIN:STANDARD
TZOFFSETFROM:+0200
TZOFFSETTO:+0100
TZNAME:CET
DTSTART:20241027T010000
END:STANDARD
BEGIN:DAYLIGHT
TZOFFSETFROM:+0100
TZOFFSETTO:+0200
TZNAME:CEST
DTSTART:20250330T010000
END:DAYLIGHT
BEGIN:STANDARD
TZOFFSETFROM:+0200
TZOFFSETTO:+0100
TZNAME:CET
DTSTART:20251026T010000
END:STANDARD
BEGIN:DAYLIGHT
TZOFFSETFROM:+0100
TZOFFSETTO:+0200
TZNAME:CEST
DTSTART:20260329T010000
END:DAYLIGHT
BEGIN:STANDARD
TZOFFSETFROM:+0200
TZOFFSETTO:+0100
TZNAME:CET
DTSTART:20261025T010000
END:STANDARD
BEGIN:DAYLIGHT
TZOFFSETFROM:+0100
TZOFFSETTO:+0200
TZNAME:CEST
DTSTART:20270328T010000
END:DAYLIGHT
BEGIN:STANDARD
TZOFFSETFROM:+0200
TZOFFSETTO:+0100
TZNAME:CET
DTSTART:20271031T010000
END:STANDARD
END:VTIMEZONE
BEGIN:VEVENT
DTSTART;TZID=Europe/Berlin:20260227T090000
DTEND;TZID=Europe/Berlin:20260228T150000
DTSTAMP:20260420T032312
CREATED:20251211T135228Z
LAST-MODIFIED:20251211T135228Z
UID:10000296-1772182800-1772290800@izzbw.de
SUMMARY:First Job\, Stuttgart
DESCRIPTION:
URL:https://izzbw.de/termin/first-job-stuttgart-2/
LOCATION:Wagenhallen Stuttgart\, Innerer Nordbahnhof 1\, 70191 Stuttgart
CATEGORIES:Ausbildung
ATTACH;FMTTYPE=image/jpeg:https://izzbw.de/wp-content/uploads/VORSCHAU_JPF_200710_1715-1.jpg
END:VEVENT
BEGIN:VEVENT
DTSTART;TZID=Europe/Berlin:20250221T100000
DTEND;TZID=Europe/Berlin:20250222T160000
DTSTAMP:20260420T032312
CREATED:20250102T122540Z
LAST-MODIFIED:20250102T122540Z
UID:10000250-1740132000-1740240000@izzbw.de
SUMMARY:First Job - Ausbildungsmesse\, Stuttgart
DESCRIPTION:
URL:https://izzbw.de/termin/first-job-ausbildungsmesse-stuttgart-4/
LOCATION:Wagenhallen Stuttgart\, Innerer Nordbahnhof 1\, 70191 Stuttgart
CATEGORIES:Ausbildung
ATTACH;FMTTYPE=image/jpeg:https://izzbw.de/wp-content/uploads/VORSCHAU_JPF_200710_3823.jpg
END:VEVENT
BEGIN:VEVENT
DTSTART;TZID=Europe/Berlin:20240301T100000
DTEND;TZID=Europe/Berlin:20240302T160000
DTSTAMP:20260420T032312
CREATED:20240104T072122Z
LAST-MODIFIED:20240104T072122Z
UID:10000202-1709287200-1709395200@izzbw.de
SUMMARY:First Job\, Stuttgart
DESCRIPTION:
URL:https://izzbw.de/termin/first-job-stuttgart/
LOCATION:Wagenhallen Stuttgart\, Innerer Nordbahnhof 1\, 70191 Stuttgart
CATEGORIES:Ausbildung
ATTACH;FMTTYPE=image/jpeg:https://izzbw.de/wp-content/uploads/VORSCHAU_JPF_200710_0946.jpg
END:VEVENT
BEGIN:VEVENT
DTSTART;TZID=Europe/Berlin:20230915T100000
DTEND;TZID=Europe/Berlin:20230916T160000
DTSTAMP:20260420T032312
CREATED:20230620T122706Z
LAST-MODIFIED:20230620T122706Z
UID:10000154-1694772000-1694880000@izzbw.de
SUMMARY:First Job. Ausbildungsmesse\, Stuttgart
DESCRIPTION:
URL:https://izzbw.de/termin/first-job-ausbildungsmesse-stuttgart-3/
LOCATION:Wagenhallen Stuttgart\, Innerer Nordbahnhof 1\, 70191 Stuttgart
CATEGORIES:Ausbildung
ATTACH;FMTTYPE=image/jpeg:https://izzbw.de/wp-content/uploads/VORSCHAU_JPF_200710_1839.jpg
END:VEVENT
BEGIN:VEVENT
DTSTART;TZID=Europe/Berlin:20200925T100000
DTEND;TZID=Europe/Berlin:20200926T160000
DTSTAMP:20260420T032312
CREATED:20200906T191640Z
LAST-MODIFIED:20200906T191640Z
UID:10000002-1601028000-1601136000@izzbw.de
SUMMARY:First Job. Ausbildungsmesse\, Stuttgart
DESCRIPTION:
URL:https://izzbw.de/termin/first-job-ausbildungsmesse/
LOCATION:Wagenhallen Stuttgart\, Innerer Nordbahnhof 1\, 70191 Stuttgart
CATEGORIES:Ausbildung
ATTACH;FMTTYPE=image/jpeg:https://izzbw.de/wp-content/uploads/FRK_4552-1-scaled-1.jpg
END:VEVENT
END:VCALENDAR