BEGIN:VCALENDAR
VERSION:2.0
PRODID:-//IZZBW - ECPv6.15.20//NONSGML v1.0//EN
CALSCALE:GREGORIAN
METHOD:PUBLISH
X-ORIGINAL-URL:https://izzbw.de
X-WR-CALDESC:Veranstaltungen für IZZBW
REFRESH-INTERVAL;VALUE=DURATION:PT1H
X-Robots-Tag:noindex
X-PUBLISHED-TTL:PT1H
BEGIN:VTIMEZONE
TZID:Europe/Berlin
BEGIN:DAYLIGHT
TZOFFSETFROM:+0100
TZOFFSETTO:+0200
TZNAME:CEST
DTSTART:20240331T010000
END:DAYLIGHT
BEGIN:STANDARD
TZOFFSETFROM:+0200
TZOFFSETTO:+0100
TZNAME:CET
DTSTART:20241027T010000
END:STANDARD
BEGIN:DAYLIGHT
TZOFFSETFROM:+0100
TZOFFSETTO:+0200
TZNAME:CEST
DTSTART:20250330T010000
END:DAYLIGHT
BEGIN:STANDARD
TZOFFSETFROM:+0200
TZOFFSETTO:+0100
TZNAME:CET
DTSTART:20251026T010000
END:STANDARD
BEGIN:DAYLIGHT
TZOFFSETFROM:+0100
TZOFFSETTO:+0200
TZNAME:CEST
DTSTART:20260329T010000
END:DAYLIGHT
BEGIN:STANDARD
TZOFFSETFROM:+0200
TZOFFSETTO:+0100
TZNAME:CET
DTSTART:20261025T010000
END:STANDARD
END:VTIMEZONE
BEGIN:VEVENT
DTSTART;TZID=Europe/Berlin:20251007T180000
DTEND;TZID=Europe/Berlin:20251008T120000
DTSTAMP:20260420T101453
CREATED:20250805T090713Z
LAST-MODIFIED:20250805T090713Z
UID:10000271-1759860000-1759924800@izzbw.de
SUMMARY:Job-Start-Börse\, Kirchzarten
DESCRIPTION:
URL:https://izzbw.de/termin/job-start-boerse-kirchzarten/
LOCATION:Black Forest Studios\, Dietenbacher Str. 20-22\, Kirchzarten\, Baden-Württemberg\, 79199\, Germany
CATEGORIES:Ausbildung
ATTACH;FMTTYPE=image/jpeg:https://izzbw.de/wp-content/uploads/VORSCHAU_JPF_200710_2891-1.jpg
END:VEVENT
BEGIN:VEVENT
DTSTART;TZID=Europe/Berlin:20251009T090000
DTEND;TZID=Europe/Berlin:20251009T150000
DTSTAMP:20260420T101453
CREATED:20250805T090143Z
LAST-MODIFIED:20250805T090143Z
UID:10000270-1760000400-1760022000@izzbw.de
SUMMARY:Berufsorientierungstag\, Waldshut-Tiengen
DESCRIPTION:
URL:https://izzbw.de/termin/berufsorientierungstag-waldshut-tiengen/
LOCATION:Stadthalle Waldhut\, Friedrichstraße 9\, Waldshut\, Baden-Württemberg\, 79761\, Germany
CATEGORIES:Ausbildung
ATTACH;FMTTYPE=image/jpeg:https://izzbw.de/wp-content/uploads/VORSCHAU_JPF_200710_3274-1.jpg
END:VEVENT
BEGIN:VEVENT
DTSTART;TZID=Europe/Berlin:20251011T090000
DTEND;TZID=Europe/Berlin:20251011T140000
DTSTAMP:20260420T101453
CREATED:20250805T091051Z
LAST-MODIFIED:20250805T091051Z
UID:10000272-1760173200-1760191200@izzbw.de
SUMMARY:Aus- und Weiterbildungsbörse\, Mühlacker
DESCRIPTION:
URL:https://izzbw.de/termin/aus-und-weiterbildungsboerse-muehlacker-2/
LOCATION:Berufliche Schule Mühlacker\, Lienzinger Str. 46\, Mühlacker\, 75417
CATEGORIES:Ausbildung
ATTACH;FMTTYPE=image/jpeg:https://izzbw.de/wp-content/uploads/VORSCHAU_JPF_200710_2073-2.jpg
END:VEVENT
BEGIN:VEVENT
DTSTART;TZID=Europe/Berlin:20251011T090000
DTEND;TZID=Europe/Berlin:20251011T140000
DTSTAMP:20260420T101453
CREATED:20250805T091426Z
LAST-MODIFIED:20250805T091426Z
UID:10000273-1760173200-1760191200@izzbw.de
SUMMARY:Bildungsmesse\, Uhingen
DESCRIPTION:
URL:https://izzbw.de/termin/bildungsmesse-uhingen-2/
LOCATION:Uditorium Uhingen\, Ulmer Str. 7\, Uhingen\, Badenwüttenberg\, 73066\, Germany
CATEGORIES:Ausbildung
ATTACH;FMTTYPE=image/jpeg:https://izzbw.de/wp-content/uploads/VORSCHAU_JPF_200710_3580.jpg
END:VEVENT
BEGIN:VEVENT
DTSTART;TZID=Europe/Berlin:20251016T090000
DTEND;TZID=Europe/Berlin:20251018T140000
DTSTAMP:20260420T101453
CREATED:20250805T092420Z
LAST-MODIFIED:20250805T092420Z
UID:10000275-1760605200-1760796000@izzbw.de
SUMMARY:Visionen\, Balingen
DESCRIPTION:
URL:https://izzbw.de/termin/visionen-balingen/
LOCATION:Volksbankmesse Balingen\, Auf Stetten\, Balingen\, 72336
CATEGORIES:Ausbildung
ATTACH;FMTTYPE=image/jpeg:https://izzbw.de/wp-content/uploads/VORSCHAU_JPF_200710_3793-1.jpg
END:VEVENT
BEGIN:VEVENT
DTSTART;TZID=Europe/Berlin:20251016T180000
DTEND;TZID=Europe/Berlin:20251017T120000
DTSTAMP:20260420T101453
CREATED:20250805T091821Z
LAST-MODIFIED:20250805T091821Z
UID:10000274-1760637600-1760702400@izzbw.de
SUMMARY:Job-Start-Börse\, Breisach am Rhein
DESCRIPTION:
URL:https://izzbw.de/termin/job-start-boerse-breisach-am-rhein-3/
LOCATION:Breisgau-Halle\, Breisgaustraße 6\, Breisach\, 79206
CATEGORIES:Ausbildung
ATTACH;FMTTYPE=image/jpeg:https://izzbw.de/wp-content/uploads/VORSCHAU_JPF_200710_1241.jpg
END:VEVENT
BEGIN:VEVENT
DTSTART;TZID=Europe/Berlin:20251017T090000
DTEND;TZID=Europe/Berlin:20251018T130000
DTSTAMP:20260420T101453
CREATED:20250805T093317Z
LAST-MODIFIED:20250805T093317Z
UID:10000276-1760691600-1760792400@izzbw.de
SUMMARY:BANE-Berufs-Ausbildung Neckar-Enz\, Besigheim
DESCRIPTION:
URL:https://izzbw.de/termin/bane-berufs-ausbildung-neckar-enz-besigheim-6/
LOCATION:Stadthalle Alte Kelter Besigheim\, Hauptstraße 57\, Besigheim\, 74354
CATEGORIES:Ausbildung
ATTACH;FMTTYPE=image/jpeg:https://izzbw.de/wp-content/uploads/VORSCHAU_JPF_200710_4004.jpg
END:VEVENT
BEGIN:VEVENT
DTSTART;TZID=Europe/Berlin:20251018T093000
DTEND;TZID=Europe/Berlin:20251018T130000
DTSTAMP:20260420T101453
CREATED:20250805T093359Z
LAST-MODIFIED:20250805T093652Z
UID:10000277-1760779800-1760792400@izzbw.de
SUMMARY:IBIS\, Holzgerlingen
DESCRIPTION:
URL:https://izzbw.de/termin/ibis-holzgerlingen-5/
LOCATION:Stadthalle Holzgerlingen\, Berkenstraße 18\, Holzgerlingen\, 71088
CATEGORIES:Ausbildung
ATTACH;FMTTYPE=image/jpeg:https://izzbw.de/wp-content/uploads/VORSCHAU_JPF_200710_2040.jpg
END:VEVENT
END:VCALENDAR