BEGIN:VCALENDAR
VERSION:2.0
PRODID:-//IZZBW - ECPv6.15.20//NONSGML v1.0//EN
CALSCALE:GREGORIAN
METHOD:PUBLISH
X-ORIGINAL-URL:https://izzbw.de
X-WR-CALDESC:Veranstaltungen für IZZBW
REFRESH-INTERVAL;VALUE=DURATION:PT1H
X-Robots-Tag:noindex
X-PUBLISHED-TTL:PT1H
BEGIN:VTIMEZONE
TZID:Europe/Berlin
BEGIN:DAYLIGHT
TZOFFSETFROM:+0100
TZOFFSETTO:+0200
TZNAME:CEST
DTSTART:20240331T010000
END:DAYLIGHT
BEGIN:STANDARD
TZOFFSETFROM:+0200
TZOFFSETTO:+0100
TZNAME:CET
DTSTART:20241027T010000
END:STANDARD
BEGIN:DAYLIGHT
TZOFFSETFROM:+0100
TZOFFSETTO:+0200
TZNAME:CEST
DTSTART:20250330T010000
END:DAYLIGHT
BEGIN:STANDARD
TZOFFSETFROM:+0200
TZOFFSETTO:+0100
TZNAME:CET
DTSTART:20251026T010000
END:STANDARD
BEGIN:DAYLIGHT
TZOFFSETFROM:+0100
TZOFFSETTO:+0200
TZNAME:CEST
DTSTART:20260329T010000
END:DAYLIGHT
BEGIN:STANDARD
TZOFFSETFROM:+0200
TZOFFSETTO:+0100
TZNAME:CET
DTSTART:20261025T010000
END:STANDARD
END:VTIMEZONE
BEGIN:VEVENT
DTSTART;TZID=Europe/Berlin:20250201T093000
DTEND;TZID=Europe/Berlin:20250201T130000
DTSTAMP:20260422T213714
CREATED:20250102T121242Z
LAST-MODIFIED:20250102T121242Z
UID:10000247-1738402200-1738414800@izzbw.de
SUMMARY:Berufsinformationstag BIT\, Bad Säckingen
DESCRIPTION:
URL:https://izzbw.de/termin/berufsinformationstag-bit-bad-saeckingen-2/
LOCATION:Beruflichen Schulen Bad Säckingen\, Rippolinger Str. 1-3\, Bad Säckingen\, 79713
CATEGORIES:Ausbildung
ATTACH;FMTTYPE=image/jpeg:https://izzbw.de/wp-content/uploads/VORSCHAU_JPF_200710_2891-1.jpg
END:VEVENT
BEGIN:VEVENT
DTSTART;TZID=Europe/Berlin:20250213T090000
DTEND;TZID=Europe/Berlin:20250215T160000
DTSTAMP:20260422T213714
CREATED:20250102T121642Z
LAST-MODIFIED:20250102T121642Z
UID:10000248-1739437200-1739635200@izzbw.de
SUMMARY:Bildungsmesse\, Ulm
DESCRIPTION:
URL:https://izzbw.de/termin/bildungsmesse-ulm-4/
LOCATION:Messegelände Ulm\, Böfinger Straße 50\, Ulm\, 89073
CATEGORIES:Ausbildung
ATTACH;FMTTYPE=image/jpeg:https://izzbw.de/wp-content/uploads/VORSCHAU_JPF_200710_2082.jpg
END:VEVENT
BEGIN:VEVENT
DTSTART;TZID=Europe/Berlin:20250214T090000
DTEND;TZID=Europe/Berlin:20250214T160000
DTSTAMP:20260422T213714
CREATED:20250102T121858Z
LAST-MODIFIED:20250102T121858Z
UID:10000249-1739523600-1739548800@izzbw.de
SUMMARY:Durchstarter\, Nürtingen
DESCRIPTION:
URL:https://izzbw.de/termin/durchstarter-nuertingen-4/
LOCATION:Stadthalle K3N\, Heiligkreuzstraße 4\, Nürtingen\, 72622
CATEGORIES:Ausbildung
ATTACH;FMTTYPE=image/jpeg:https://izzbw.de/wp-content/uploads/VORSCHAU_JPF_200710_3793-1.jpg
END:VEVENT
BEGIN:VEVENT
DTSTART;TZID=Europe/Berlin:20250220T090000
DTEND;TZID=Europe/Berlin:20250222T160000
DTSTAMP:20260422T213714
CREATED:20250102T123013Z
LAST-MODIFIED:20250102T123013Z
UID:10000251-1740042000-1740240000@izzbw.de
SUMMARY:Jobs for Future\, Mannheim
DESCRIPTION:
URL:https://izzbw.de/termin/jobs-for-future-mannheim-5/
LOCATION:Maimarkthalle Mannheim\, Xaver-Fuhr-Straße. 101\, Mannheim\, 68163
CATEGORIES:Ausbildung
ATTACH;FMTTYPE=image/jpeg:https://izzbw.de/wp-content/uploads/VORSCHAU_JPF_200710_1796-2.jpg
END:VEVENT
BEGIN:VEVENT
DTSTART;TZID=Europe/Berlin:20250221T100000
DTEND;TZID=Europe/Berlin:20250222T160000
DTSTAMP:20260422T213714
CREATED:20250102T122540Z
LAST-MODIFIED:20250102T122540Z
UID:10000250-1740132000-1740240000@izzbw.de
SUMMARY:First Job - Ausbildungsmesse\, Stuttgart
DESCRIPTION:
URL:https://izzbw.de/termin/first-job-ausbildungsmesse-stuttgart-4/
LOCATION:Wagenhallen Stuttgart\, Innerer Nordbahnhof 1\, 70191 Stuttgart
CATEGORIES:Ausbildung
ATTACH;FMTTYPE=image/jpeg:https://izzbw.de/wp-content/uploads/VORSCHAU_JPF_200710_3823.jpg
END:VEVENT
END:VCALENDAR