BEGIN:VCALENDAR
VERSION:2.0
PRODID:-//IZZBW - ECPv6.15.20//NONSGML v1.0//EN
CALSCALE:GREGORIAN
METHOD:PUBLISH
X-ORIGINAL-URL:https://izzbw.de
X-WR-CALDESC:Veranstaltungen für IZZBW
REFRESH-INTERVAL;VALUE=DURATION:PT1H
X-Robots-Tag:noindex
X-PUBLISHED-TTL:PT1H
BEGIN:VTIMEZONE
TZID:Europe/Berlin
BEGIN:DAYLIGHT
TZOFFSETFROM:+0100
TZOFFSETTO:+0200
TZNAME:CEST
DTSTART:20230326T010000
END:DAYLIGHT
BEGIN:STANDARD
TZOFFSETFROM:+0200
TZOFFSETTO:+0100
TZNAME:CET
DTSTART:20231029T010000
END:STANDARD
BEGIN:DAYLIGHT
TZOFFSETFROM:+0100
TZOFFSETTO:+0200
TZNAME:CEST
DTSTART:20240331T010000
END:DAYLIGHT
BEGIN:STANDARD
TZOFFSETFROM:+0200
TZOFFSETTO:+0100
TZNAME:CET
DTSTART:20241027T010000
END:STANDARD
BEGIN:DAYLIGHT
TZOFFSETFROM:+0100
TZOFFSETTO:+0200
TZNAME:CEST
DTSTART:20250330T010000
END:DAYLIGHT
BEGIN:STANDARD
TZOFFSETFROM:+0200
TZOFFSETTO:+0100
TZNAME:CET
DTSTART:20251026T010000
END:STANDARD
END:VTIMEZONE
BEGIN:VEVENT
DTSTART;TZID=Europe/Berlin:20241001T180000
DTEND;TZID=Europe/Berlin:20241002T120000
DTSTAMP:20260423T022418
CREATED:20240705T083704Z
LAST-MODIFIED:20240705T083704Z
UID:10000233-1727805600-1727870400@izzbw.de
SUMMARY:Job-Start-Börse\, Titisee-Neustadt
DESCRIPTION:
URL:https://izzbw.de/termin/job-start-boerse-titisee-neustadt-3/
LOCATION:Kurhaus am Titisee\, Strandbadstraße 4\, Titisee-Neustadt\, 79822
CATEGORIES:Ausbildung
ATTACH;FMTTYPE=image/jpeg:https://izzbw.de/wp-content/uploads/VORSCHAU_JPF_200710_1205.jpg
END:VEVENT
BEGIN:VEVENT
DTSTART;TZID=Europe/Berlin:20241010T090000
DTEND;TZID=Europe/Berlin:20241010T160000
DTSTAMP:20260423T022418
CREATED:20240813T073950Z
LAST-MODIFIED:20240813T073950Z
UID:10000241-1728550800-1728576000@izzbw.de
SUMMARY:Berufsorientierungstag\, Waldshut
DESCRIPTION:
URL:https://izzbw.de/termin/berufsorientierungstag-waldshut-3/
LOCATION:Justus von Liebig Schule Waldshut\, Von-Kilian-Straße 5\, 79761 Waldshut
CATEGORIES:Ausbildung
ATTACH;FMTTYPE=image/jpeg:https://izzbw.de/wp-content/uploads/VORSCHAU_JPF_200710_3651.jpg
END:VEVENT
BEGIN:VEVENT
DTSTART;TZID=Europe/Berlin:20241017T090000
DTEND;TZID=Europe/Berlin:20241019T140000
DTSTAMP:20260423T022418
CREATED:20240705T084213Z
LAST-MODIFIED:20240705T085838Z
UID:10000234-1729155600-1729346400@izzbw.de
SUMMARY:Bildungsmesse\, Balingen
DESCRIPTION:
URL:https://izzbw.de/termin/bildungsmesse-balingen-5/
LOCATION:Volksbankmesse Balingen\, Auf Stetten\, Balingen\, 72336
CATEGORIES:Ausbildung
ATTACH;FMTTYPE=image/jpeg:https://izzbw.de/wp-content/uploads/VORSCHAU_JPF_200710_2040.jpg
END:VEVENT
BEGIN:VEVENT
DTSTART;TZID=Europe/Berlin:20241018T090000
DTEND;TZID=Europe/Berlin:20241019T130000
DTSTAMP:20260423T022418
CREATED:20240705T085334Z
LAST-MODIFIED:20240813T072315Z
UID:10000236-1729242000-1729342800@izzbw.de
SUMMARY:BANE- Berufs-Ausbildung Neckar-Enz\, Besigheim
DESCRIPTION:
URL:https://izzbw.de/termin/bane-berufs-ausbildung-neckar-enz-besigheim-5/
LOCATION:Stadthalle Alte Kelter Besigheim\, Hauptstraße 57\, Besigheim\, 74354
CATEGORIES:Ausbildung
ATTACH;FMTTYPE=image/jpeg:https://izzbw.de/wp-content/uploads/VORSCHAU_JPF_200710_2073-1.jpg
END:VEVENT
BEGIN:VEVENT
DTSTART;TZID=Europe/Berlin:20241019T093000
DTEND;TZID=Europe/Berlin:20241019T130000
DTSTAMP:20260423T022418
CREATED:20240705T084634Z
LAST-MODIFIED:20240705T085614Z
UID:10000235-1729330200-1729342800@izzbw.de
SUMMARY:IBIS\, Holzgerlingen
DESCRIPTION:
URL:https://izzbw.de/termin/ibis-holzgerlingen-4/
LOCATION:Stadthalle Holzgerlingen\, Berkenstraße 18\, Holzgerlingen\, 71088
CATEGORIES:Ausbildung
ATTACH;FMTTYPE=image/jpeg:https://izzbw.de/wp-content/uploads/VORSCHAU_JPF_200710_4004.jpg
END:VEVENT
BEGIN:VEVENT
DTSTART;TZID=Europe/Berlin:20241022T180000
DTEND;TZID=Europe/Berlin:20241023T120000
DTSTAMP:20260423T022418
CREATED:20240705T090326Z
LAST-MODIFIED:20240705T090452Z
UID:10000237-1729620000-1729684800@izzbw.de
SUMMARY:Job-Start-Börse\, Emmendingen / Wasser
DESCRIPTION:
URL:https://izzbw.de/termin/job-start-boerse-emmendingen-wasser/
LOCATION:Fritz-Boehle-Halle\, Rosenweg 3\, Emmendingen\, 79312
CATEGORIES:Ausbildung
ATTACH;FMTTYPE=image/jpeg:https://izzbw.de/wp-content/uploads/VORSCHAU_JPF_200710_3274.jpg
END:VEVENT
END:VCALENDAR