BEGIN:VCALENDAR
VERSION:2.0
PRODID:-//IZZBW - ECPv6.15.20//NONSGML v1.0//EN
CALSCALE:GREGORIAN
METHOD:PUBLISH
X-ORIGINAL-URL:https://izzbw.de
X-WR-CALDESC:Veranstaltungen für IZZBW
REFRESH-INTERVAL;VALUE=DURATION:PT1H
X-Robots-Tag:noindex
X-PUBLISHED-TTL:PT1H
BEGIN:VTIMEZONE
TZID:Europe/Berlin
BEGIN:DAYLIGHT
TZOFFSETFROM:+0100
TZOFFSETTO:+0200
TZNAME:CEST
DTSTART:20230326T010000
END:DAYLIGHT
BEGIN:STANDARD
TZOFFSETFROM:+0200
TZOFFSETTO:+0100
TZNAME:CET
DTSTART:20231029T010000
END:STANDARD
BEGIN:DAYLIGHT
TZOFFSETFROM:+0100
TZOFFSETTO:+0200
TZNAME:CEST
DTSTART:20240331T010000
END:DAYLIGHT
BEGIN:STANDARD
TZOFFSETFROM:+0200
TZOFFSETTO:+0100
TZNAME:CET
DTSTART:20241027T010000
END:STANDARD
BEGIN:DAYLIGHT
TZOFFSETFROM:+0100
TZOFFSETTO:+0200
TZNAME:CEST
DTSTART:20250330T010000
END:DAYLIGHT
BEGIN:STANDARD
TZOFFSETFROM:+0200
TZOFFSETTO:+0100
TZNAME:CET
DTSTART:20251026T010000
END:STANDARD
END:VTIMEZONE
BEGIN:VEVENT
DTSTART;TZID=Europe/Berlin:20240120T100000
DTEND;TZID=Europe/Berlin:20240120T150000
DTSTAMP:20260423T134643
CREATED:20231121T140448Z
LAST-MODIFIED:20231121T140448Z
UID:10000189-1705744800-1705762800@izzbw.de
SUMMARY:Ausbildungsmesse\, Sindelfingen
DESCRIPTION:
URL:https://izzbw.de/termin/ausbildungsmesse-sindelfingen/
LOCATION:Stadthalle Sindelfingen\, Schillerstraße 23\, Sindelfingen\, 71065
CATEGORIES:Ausbildung
ATTACH;FMTTYPE=image/jpeg:https://izzbw.de/wp-content/uploads/VORSCHAU_JPF_200710_3823.jpg
END:VEVENT
BEGIN:VEVENT
DTSTART;TZID=Europe/Berlin:20240120T100000
DTEND;TZID=Europe/Berlin:20240120T153000
DTSTAMP:20260423T134643
CREATED:20231121T132142Z
LAST-MODIFIED:20231121T132142Z
UID:10000188-1705744800-1705764600@izzbw.de
SUMMARY:Einstieg Beruf\, Karlsruhe
DESCRIPTION:
URL:https://izzbw.de/termin/einstieg-beruf-karlsruhe/
LOCATION:Messehalle & dm-Arena\, Messeallee 1\, Rheinstetten\, 76287
CATEGORIES:Ausbildung
ATTACH;FMTTYPE=image/jpeg:https://izzbw.de/wp-content/uploads/VORSCHAU_JPF_200710_2099.jpg
END:VEVENT
BEGIN:VEVENT
DTSTART;TZID=Europe/Berlin:20240126T090000
DTEND;TZID=Europe/Berlin:20240127T160000
DTSTAMP:20260423T134643
CREATED:20231121T141651Z
LAST-MODIFIED:20231121T143957Z
UID:10000190-1706259600-1706371200@izzbw.de
SUMMARY:Binea-Bildungsmesse\, Reutlingen
DESCRIPTION:
URL:https://izzbw.de/termin/binea-bildungsmesse-reutlingen-2/
LOCATION:Stadthalle Reutlingen\, Manfred-Oechsle-Platz 1\, Reutlingen\, 72762
CATEGORIES:Ausbildung
ATTACH;FMTTYPE=image/jpeg:https://izzbw.de/wp-content/uploads/VORSCHAU_JPF_200710_2891-1.jpg
END:VEVENT
END:VCALENDAR