BEGIN:VCALENDAR
VERSION:2.0
PRODID:-//IZZBW - ECPv6.15.20//NONSGML v1.0//EN
CALSCALE:GREGORIAN
METHOD:PUBLISH
X-ORIGINAL-URL:https://izzbw.de
X-WR-CALDESC:Veranstaltungen für IZZBW
REFRESH-INTERVAL;VALUE=DURATION:PT1H
X-Robots-Tag:noindex
X-PUBLISHED-TTL:PT1H
BEGIN:VTIMEZONE
TZID:Europe/Berlin
BEGIN:DAYLIGHT
TZOFFSETFROM:+0100
TZOFFSETTO:+0200
TZNAME:CEST
DTSTART:20220327T010000
END:DAYLIGHT
BEGIN:STANDARD
TZOFFSETFROM:+0200
TZOFFSETTO:+0100
TZNAME:CET
DTSTART:20221030T010000
END:STANDARD
BEGIN:DAYLIGHT
TZOFFSETFROM:+0100
TZOFFSETTO:+0200
TZNAME:CEST
DTSTART:20230326T010000
END:DAYLIGHT
BEGIN:STANDARD
TZOFFSETFROM:+0200
TZOFFSETTO:+0100
TZNAME:CET
DTSTART:20231029T010000
END:STANDARD
BEGIN:DAYLIGHT
TZOFFSETFROM:+0100
TZOFFSETTO:+0200
TZNAME:CEST
DTSTART:20240331T010000
END:DAYLIGHT
BEGIN:STANDARD
TZOFFSETFROM:+0200
TZOFFSETTO:+0100
TZNAME:CET
DTSTART:20241027T010000
END:STANDARD
END:VTIMEZONE
BEGIN:VEVENT
DTSTART;TZID=Europe/Berlin:20230404T130000
DTEND;TZID=Europe/Berlin:20230404T160000
DTSTAMP:20260424T004538
CREATED:20230228T162706Z
LAST-MODIFIED:20230228T162706Z
UID:10000143-1680613200-1680624000@izzbw.de
SUMMARY:Ausbildungsplatzbörse 2023\, Heidenheim
DESCRIPTION:
URL:https://izzbw.de/termin/ausbildungsplatzboerse-2023-heidenheim/
LOCATION:Schulverbund im Heckental\, Heckenstraße 55\, Heidenheim an der Brenz\, 89518
CATEGORIES:Ausbildung
ATTACH;FMTTYPE=image/jpeg:https://izzbw.de/wp-content/uploads/VORSCHAU_JPF_200710_0946.jpg
END:VEVENT
BEGIN:VEVENT
DTSTART;TZID=Europe/Berlin:20230422T110000
DTEND;TZID=Europe/Berlin:20230423T160000
DTSTAMP:20260424T004538
CREATED:20230228T163455Z
LAST-MODIFIED:20230228T163455Z
UID:10000144-1682161200-1682265600@izzbw.de
SUMMARY:Ausbildungsbörse\, Tuttlingen
DESCRIPTION:
URL:https://izzbw.de/termin/ausbildungsboerse-tuttlingen-2/
LOCATION:Stadthalle Tuttlingen\, Königstraße 39\, Tuttlingen\, 78532
CATEGORIES:Ausbildung
ATTACH;FMTTYPE=image/jpeg:https://izzbw.de/wp-content/uploads/VORSCHAU_JPF_200710_1446.jpg
END:VEVENT
BEGIN:VEVENT
DTSTART;TZID=Europe/Berlin:20230428T090000
DTEND;TZID=Europe/Berlin:20230428T170000
DTSTAMP:20260424T004538
CREATED:20230228T164409Z
LAST-MODIFIED:20230228T164409Z
UID:10000146-1682672400-1682701200@izzbw.de
SUMMARY:Future 4 you\, Biberach
DESCRIPTION:
URL:https://izzbw.de/termin/future-4-you-biberach-3/
LOCATION:B1 Baumark\, Obere Stegwiesen 10\, Biberach an der Riß\, 88400
CATEGORIES:Ausbildung
ATTACH;FMTTYPE=image/jpeg:https://izzbw.de/wp-content/uploads/VORSCHAU_JPF_200710_2188.jpg
END:VEVENT
END:VCALENDAR