BEGIN:VCALENDAR
VERSION:2.0
PRODID:-//IZZBW - ECPv6.15.20//NONSGML v1.0//EN
CALSCALE:GREGORIAN
METHOD:PUBLISH
X-ORIGINAL-URL:https://izzbw.de
X-WR-CALDESC:Veranstaltungen für IZZBW
REFRESH-INTERVAL;VALUE=DURATION:PT1H
X-Robots-Tag:noindex
X-PUBLISHED-TTL:PT1H
BEGIN:VTIMEZONE
TZID:Europe/Berlin
BEGIN:DAYLIGHT
TZOFFSETFROM:+0100
TZOFFSETTO:+0200
TZNAME:CEST
DTSTART:20220327T010000
END:DAYLIGHT
BEGIN:STANDARD
TZOFFSETFROM:+0200
TZOFFSETTO:+0100
TZNAME:CET
DTSTART:20221030T010000
END:STANDARD
BEGIN:DAYLIGHT
TZOFFSETFROM:+0100
TZOFFSETTO:+0200
TZNAME:CEST
DTSTART:20230326T010000
END:DAYLIGHT
BEGIN:STANDARD
TZOFFSETFROM:+0200
TZOFFSETTO:+0100
TZNAME:CET
DTSTART:20231029T010000
END:STANDARD
BEGIN:DAYLIGHT
TZOFFSETFROM:+0100
TZOFFSETTO:+0200
TZNAME:CEST
DTSTART:20240331T010000
END:DAYLIGHT
BEGIN:STANDARD
TZOFFSETFROM:+0200
TZOFFSETTO:+0100
TZNAME:CET
DTSTART:20241027T010000
END:STANDARD
END:VTIMEZONE
BEGIN:VEVENT
DTSTART;TZID=Europe/Berlin:20230201T140000
DTEND;TZID=Europe/Berlin:20230201T190000
DTSTAMP:20260424T030541
CREATED:20221214T142105Z
LAST-MODIFIED:20221214T142105Z
UID:10000117-1675260000-1675278000@izzbw.de
SUMMARY:Job-Start-Börse\, Freiburg
DESCRIPTION:
URL:https://izzbw.de/termin/job-start-boerse-freiburg/
LOCATION:Messe Freiburg\, Hermann-Mitsch-Straße 3\, Freiburg im Breisgau\, 79108
CATEGORIES:Ausbildung
ATTACH;FMTTYPE=image/jpeg:https://izzbw.de/wp-content/uploads/VORSCHAU_JPF_200710_2497-2.jpg
END:VEVENT
BEGIN:VEVENT
DTSTART;TZID=Europe/Berlin:20230202T083000
DTEND;TZID=Europe/Berlin:20230202T133000
DTSTAMP:20260424T030541
CREATED:20221214T142226Z
LAST-MODIFIED:20221214T142226Z
UID:10000118-1675326600-1675344600@izzbw.de
SUMMARY:Job-Start-Börse\, Freiburg
DESCRIPTION:
URL:https://izzbw.de/termin/job-start-boerse-freiburg-2/
LOCATION:Messe Freiburg\, Hermann-Mitsch-Straße 3\, Freiburg im Breisgau\, 79108
CATEGORIES:Ausbildung
ATTACH;FMTTYPE=image/jpeg:https://izzbw.de/wp-content/uploads/VORSCHAU_JPF_200710_2497-2.jpg
END:VEVENT
BEGIN:VEVENT
DTSTART;TZID=Europe/Berlin:20230202T090000
DTEND;TZID=Europe/Berlin:20230202T150000
DTSTAMP:20260424T030541
CREATED:20221214T142545Z
LAST-MODIFIED:20221214T142545Z
UID:10000119-1675328400-1675350000@izzbw.de
SUMMARY:Berufsorientierungsschau\, Pforzheim
DESCRIPTION:
URL:https://izzbw.de/termin/berufsorientierungsschau-pforzheim/
LOCATION:Ludwig-Erhard-Schule (Sporthalle)\, Schoderweg 21\, Pforzheim\, 75175
CATEGORIES:Ausbildung
ATTACH;FMTTYPE=image/jpeg:https://izzbw.de/wp-content/uploads/VORSCHAU_JPF_200710_2891-1.jpg
END:VEVENT
BEGIN:VEVENT
DTSTART;TZID=Europe/Berlin:20230204T090000
DTEND;TZID=Europe/Berlin:20230204T130000
DTSTAMP:20260424T030541
CREATED:20221214T142806Z
LAST-MODIFIED:20221214T142806Z
UID:10000120-1675501200-1675515600@izzbw.de
SUMMARY:Ausbildungsmesse Ostwürttemberg\, Aalen
DESCRIPTION:
URL:https://izzbw.de/termin/ausbildungsmesse-ostwuerttemberg-aalen-3/
LOCATION:Berufliches Schulzentrum Aalen\, Steinbeisstraße 4\, Aalen\, 73430
CATEGORIES:Ausbildung
ATTACH;FMTTYPE=image/jpeg:https://izzbw.de/wp-content/uploads/VORSCHAU_JPF_200710_3282-2.jpg
END:VEVENT
BEGIN:VEVENT
DTSTART;TZID=Europe/Berlin:20230204T093000
DTEND;TZID=Europe/Berlin:20230204T130000
DTSTAMP:20260424T030541
CREATED:20221214T143449Z
LAST-MODIFIED:20221214T143449Z
UID:10000121-1675503000-1675515600@izzbw.de
SUMMARY:Berufsinformationstag BIT\, Bad Säckingen
DESCRIPTION:
URL:https://izzbw.de/termin/berufsinformationstag-bit-bad-saeckingen/
LOCATION:Beruflichen Schulen Bad Säckingen\, Rippolinger Str. 1-3\, Bad Säckingen\, 79713
CATEGORIES:Ausbildung
ATTACH;FMTTYPE=image/jpeg:https://izzbw.de/wp-content/uploads/VORSCHAU_JPF_200710_4004.jpg
END:VEVENT
BEGIN:VEVENT
DTSTART;TZID=Europe/Berlin:20230209T090000
DTEND;TZID=Europe/Berlin:20230209T160000
DTSTAMP:20260424T030541
CREATED:20221214T144022Z
LAST-MODIFIED:20221214T144022Z
UID:10000123-1675933200-1675958400@izzbw.de
SUMMARY:Bildungsmesse\, Ulm
DESCRIPTION:
URL:https://izzbw.de/termin/bildungsmesse-ulm/
LOCATION:Messegelände Ulm\, Böfinger Straße 50\, Ulm\, 89073
CATEGORIES:Ausbildung
ATTACH;FMTTYPE=image/jpeg:https://izzbw.de/wp-content/uploads/VORSCHAU_JPF_200710_1715-1.jpg
END:VEVENT
BEGIN:VEVENT
DTSTART;TZID=Europe/Berlin:20230209T090000
DTEND;TZID=Europe/Berlin:20230211T170000
DTSTAMP:20260424T030541
CREATED:20221214T143632Z
LAST-MODIFIED:20221214T143632Z
UID:10000122-1675933200-1676134800@izzbw.de
SUMMARY:Jobs for Future\, Mannheim
DESCRIPTION:
URL:https://izzbw.de/termin/jobs-for-future-mannheim-3/
LOCATION:Maimarkthalle Mannheim\, Xaver-Fuhr-Straße. 101\, Mannheim\, 68163
CATEGORIES:Ausbildung
ATTACH;FMTTYPE=image/jpeg:https://izzbw.de/wp-content/uploads/VORSCHAU_JPF_200710_1153-1.jpg
END:VEVENT
BEGIN:VEVENT
DTSTART;TZID=Europe/Berlin:20230210T090000
DTEND;TZID=Europe/Berlin:20230210T180000
DTSTAMP:20260424T030541
CREATED:20221214T144654Z
LAST-MODIFIED:20221214T144654Z
UID:10000125-1676019600-1676052000@izzbw.de
SUMMARY:Bildungsmesse\, Ulm
DESCRIPTION:
URL:https://izzbw.de/termin/bildungsmesse-ulm-3/
LOCATION:Messegelände Ulm\, Böfinger Straße 50\, Ulm\, 89073
CATEGORIES:Ausbildung
ATTACH;FMTTYPE=image/jpeg:https://izzbw.de/wp-content/uploads/VORSCHAU_JPF_200710_1715-1.jpg
END:VEVENT
BEGIN:VEVENT
DTSTART;TZID=Europe/Berlin:20230211T090000
DTEND;TZID=Europe/Berlin:20230211T160000
DTSTAMP:20260424T030541
CREATED:20221214T144138Z
LAST-MODIFIED:20221214T144548Z
UID:10000124-1676106000-1676131200@izzbw.de
SUMMARY:Bildungsmesse\, Ulm
DESCRIPTION:
URL:https://izzbw.de/termin/bildungsmesse-ulm-2/
LOCATION:Messegelände Ulm\, Böfinger Straße 50\, Ulm\, 89073
CATEGORIES:Ausbildung
ATTACH;FMTTYPE=image/jpeg:https://izzbw.de/wp-content/uploads/VORSCHAU_JPF_200710_1715-1.jpg
END:VEVENT
BEGIN:VEVENT
DTSTART;TZID=Europe/Berlin:20230218T100000
DTEND;TZID=Europe/Berlin:20230218T150000
DTSTAMP:20260424T030541
CREATED:20221214T144917Z
LAST-MODIFIED:20221214T144917Z
UID:10000126-1676714400-1676732400@izzbw.de
SUMMARY:Job & Azubi\, Sindelfingen
DESCRIPTION:
URL:https://izzbw.de/termin/job-azubi-sindelfingen/
LOCATION:Stadthalle Sindelfingen\, Schillerstraße 23\, Sindelfingen\, 71065
CATEGORIES:Ausbildung
ATTACH;FMTTYPE=image/jpeg:https://izzbw.de/wp-content/uploads/VORSCHAU_JPF_200710_1518-1.jpg
END:VEVENT
END:VCALENDAR