BEGIN:VCALENDAR
VERSION:2.0
PRODID:-//IZZBW - ECPv6.15.20//NONSGML v1.0//EN
CALSCALE:GREGORIAN
METHOD:PUBLISH
X-ORIGINAL-URL:https://izzbw.de
X-WR-CALDESC:Veranstaltungen für IZZBW
REFRESH-INTERVAL;VALUE=DURATION:PT1H
X-Robots-Tag:noindex
X-PUBLISHED-TTL:PT1H
BEGIN:VTIMEZONE
TZID:Europe/Berlin
BEGIN:DAYLIGHT
TZOFFSETFROM:+0100
TZOFFSETTO:+0200
TZNAME:CEST
DTSTART:20200329T010000
END:DAYLIGHT
BEGIN:STANDARD
TZOFFSETFROM:+0200
TZOFFSETTO:+0100
TZNAME:CET
DTSTART:20201025T010000
END:STANDARD
BEGIN:DAYLIGHT
TZOFFSETFROM:+0100
TZOFFSETTO:+0200
TZNAME:CEST
DTSTART:20210328T010000
END:DAYLIGHT
BEGIN:STANDARD
TZOFFSETFROM:+0200
TZOFFSETTO:+0100
TZNAME:CET
DTSTART:20211031T010000
END:STANDARD
BEGIN:DAYLIGHT
TZOFFSETFROM:+0100
TZOFFSETTO:+0200
TZNAME:CEST
DTSTART:20220327T010000
END:DAYLIGHT
BEGIN:STANDARD
TZOFFSETFROM:+0200
TZOFFSETTO:+0100
TZNAME:CET
DTSTART:20221030T010000
END:STANDARD
BEGIN:DAYLIGHT
TZOFFSETFROM:+0100
TZOFFSETTO:+0200
TZNAME:CEST
DTSTART:20230326T010000
END:DAYLIGHT
BEGIN:STANDARD
TZOFFSETFROM:+0200
TZOFFSETTO:+0100
TZNAME:CET
DTSTART:20231029T010000
END:STANDARD
END:VTIMEZONE
BEGIN:VEVENT
DTSTART;VALUE=DATE:20210303
DTEND;VALUE=DATE:20220101
DTSTAMP:20260425T043310
CREATED:20210303T144913Z
LAST-MODIFIED:20210303T144913Z
UID:10000034-1614729600-1640995199@izzbw.de
SUMMARY:Brettener Ausbildungsbörse 2021
DESCRIPTION:
URL:https://izzbw.de/termin/brettener-ausbildungsboerse-2021/
LOCATION:Online
CATEGORIES:Ausbildung
ATTACH;FMTTYPE=image/jpeg:https://izzbw.de/wp-content/uploads/VORSCHAU_JPF_200710_3817-1.jpg
END:VEVENT
BEGIN:VEVENT
DTSTART;VALUE=DATE:20210305
DTEND;VALUE=DATE:20220301
DTSTAMP:20260425T043310
CREATED:20210204T125458Z
LAST-MODIFIED:20210204T125458Z
UID:10000023-1614902400-1646092799@izzbw.de
SUMMARY:Fokus Beruf\, Rems-Murr-Kreis
DESCRIPTION:
URL:https://izzbw.de/termin/fokus-beruf-rems-murr-kreis/
LOCATION:Online
CATEGORIES:Ausbildung
ATTACH;FMTTYPE=image/jpeg:https://izzbw.de/wp-content/uploads/VORSCHAU_JPF_200710_1371.jpg
END:VEVENT
BEGIN:VEVENT
DTSTART;VALUE=DATE:20211004
DTEND;VALUE=DATE:20211115
DTSTAMP:20260425T043310
CREATED:20210712T130938Z
LAST-MODIFIED:20210712T130938Z
UID:10000049-1633305600-1636934399@izzbw.de
SUMMARY:Job-Start-Börse\, Raum Freiburg
DESCRIPTION:
URL:https://izzbw.de/termin/job-start-boerse-raum-freiburg/
LOCATION:Online
CATEGORIES:Ausbildung
ATTACH;FMTTYPE=image/jpeg:https://izzbw.de/wp-content/uploads/AdobeStock_108634665_Photographee.eu_-scaled-2.jpeg
END:VEVENT
BEGIN:VEVENT
DTSTART;TZID=Europe/Berlin:20211113T090000
DTEND;TZID=Europe/Berlin:20211113T160000
DTSTAMP:20260425T043310
CREATED:20210204T154615Z
LAST-MODIFIED:20210204T154615Z
UID:10000029-1636794000-1636819200@izzbw.de
SUMMARY:Bildung\, Göppingen
DESCRIPTION:  \n 
URL:https://izzbw.de/termin/bildung-goeppingen-2/
LOCATION:WerftHalle Stauferpark\, Manfred-Wörner-Str. 104\, Göppingen\, 73037
CATEGORIES:Ausbildung
ATTACH;FMTTYPE=image/jpeg:https://izzbw.de/wp-content/uploads/VORSCHAU_JPF_200710_3274.jpg
END:VEVENT
BEGIN:VEVENT
DTSTART;TZID=Europe/Berlin:20211119T150000
DTEND;TZID=Europe/Berlin:20211119T190000
DTSTAMP:20260425T043310
CREATED:20210204T153400Z
LAST-MODIFIED:20210204T153400Z
UID:10000028-1637334000-1637348400@izzbw.de
SUMMARY:Marktplatz: Arbeit Südbaden\, Freiburg
DESCRIPTION:
URL:https://izzbw.de/termin/marktplatz-arbeit-suedbaden-freiburg/
LOCATION:Messe Freiburg\, Hermann-Mitsch-Straße 3\, Freiburg im Breisgau\, 79108
CATEGORIES:Ausbildung
ATTACH;FMTTYPE=image/jpeg:https://izzbw.de/wp-content/uploads/DSC_8338-scaled-1.jpg
END:VEVENT
BEGIN:VEVENT
DTSTART;TZID=Europe/Berlin:20211120T090000
DTEND;TZID=Europe/Berlin:20211120T130000
DTSTAMP:20260425T043310
CREATED:20211102T144206Z
LAST-MODIFIED:20211102T144206Z
UID:10000060-1637398800-1637413200@izzbw.de
SUMMARY:STARTit! Ellwangen 2021
DESCRIPTION:
URL:https://izzbw.de/termin/startit-ellwangen-2021/
LOCATION:Kreisberufsschulzentrum Ellwangen\, Hariolf-Gymnasium und Eugen-Bolz-Realschule\, Berliner Str. 19\, Ellwangen/Jagst\, 73479
CATEGORIES:Ausbildung
ATTACH;FMTTYPE=image/jpeg:https://izzbw.de/wp-content/uploads/FRK_5360-Franziska-Kraufmann-2-scaled-1.jpg
END:VEVENT
BEGIN:VEVENT
DTSTART;TZID=Europe/Berlin:20211120T100000
DTEND;TZID=Europe/Berlin:20211120T160000
DTSTAMP:20260425T043310
CREATED:20211021T084403Z
LAST-MODIFIED:20211021T084403Z
UID:10000059-1637402400-1637424000@izzbw.de
SUMMARY:Marktplatz: Arbeit Südbaden\, Freiburg
DESCRIPTION:
URL:https://izzbw.de/termin/marktplatz-arbeit-suedbaden-freiburg-2/
LOCATION:Messe Freiburg\, Hermann-Mitsch-Straße 3\, Freiburg im Breisgau\, 79108
CATEGORIES:Ausbildung
ATTACH;FMTTYPE=image/jpeg:https://izzbw.de/wp-content/uploads/DSC_8338-scaled-1.jpg
END:VEVENT
END:VCALENDAR