BEGIN:VCALENDAR
VERSION:2.0
PRODID:-//IZZBW - ECPv6.15.20//NONSGML v1.0//EN
CALSCALE:GREGORIAN
METHOD:PUBLISH
X-ORIGINAL-URL:https://izzbw.de
X-WR-CALDESC:Veranstaltungen für IZZBW
REFRESH-INTERVAL;VALUE=DURATION:PT1H
X-Robots-Tag:noindex
X-PUBLISHED-TTL:PT1H
BEGIN:VTIMEZONE
TZID:Europe/Berlin
BEGIN:DAYLIGHT
TZOFFSETFROM:+0100
TZOFFSETTO:+0200
TZNAME:CEST
DTSTART:20230326T010000
END:DAYLIGHT
BEGIN:STANDARD
TZOFFSETFROM:+0200
TZOFFSETTO:+0100
TZNAME:CET
DTSTART:20231029T010000
END:STANDARD
BEGIN:DAYLIGHT
TZOFFSETFROM:+0100
TZOFFSETTO:+0200
TZNAME:CEST
DTSTART:20240331T010000
END:DAYLIGHT
BEGIN:STANDARD
TZOFFSETFROM:+0200
TZOFFSETTO:+0100
TZNAME:CET
DTSTART:20241027T010000
END:STANDARD
BEGIN:DAYLIGHT
TZOFFSETFROM:+0100
TZOFFSETTO:+0200
TZNAME:CEST
DTSTART:20250330T010000
END:DAYLIGHT
BEGIN:STANDARD
TZOFFSETFROM:+0200
TZOFFSETTO:+0100
TZNAME:CET
DTSTART:20251026T010000
END:STANDARD
END:VTIMEZONE
BEGIN:VEVENT
DTSTART;TZID=Europe/Berlin:20240921T100000
DTEND;TZID=Europe/Berlin:20240921T140000
DTSTAMP:20260420T101530
CREATED:20240813T073025Z
LAST-MODIFIED:20240813T073127Z
UID:10000240-1726912800-1726927200@izzbw.de
SUMMARY:Ausbildungsplattform Stutensee 2024\, Stutensee
DESCRIPTION:
URL:https://izzbw.de/termin/ausbildungsplattform-stutensee-2024-stutensee/
LOCATION:Messezelt Festplatz Stutensee\, Erich-Kästner-Straße\, Stutensee\, 76297
CATEGORIES:Ausbildung
ATTACH;FMTTYPE=image/jpeg:https://izzbw.de/wp-content/uploads/VORSCHAU_JPF_200710_2073-1.jpg
END:VEVENT
BEGIN:VEVENT
DTSTART;TZID=Europe/Berlin:20240921T090000
DTEND;TZID=Europe/Berlin:20240921T130000
DTSTAMP:20260420T101530
CREATED:20240813T071611Z
LAST-MODIFIED:20240813T072031Z
UID:10000239-1726909200-1726923600@izzbw.de
SUMMARY:Ausbildungsbörse\, Weil am Rhein
DESCRIPTION:
URL:https://izzbw.de/termin/ausbildungsboerse-weil-am-rhein-3/
LOCATION:In und vor der Realschule Dreiländereck und dem Oberrhein-Gymnasium an der Egerstraße/ Königsberger Straße\, Egerstraße 3\, Weil am Rhein\, 79576
CATEGORIES:Ausbildung
ATTACH;FMTTYPE=image/jpeg:https://izzbw.de/wp-content/uploads/VORSCHAU_JPF_200710_2040.jpg
END:VEVENT
BEGIN:VEVENT
DTSTART;TZID=Europe/Berlin:20240914T100000
DTEND;TZID=Europe/Berlin:20240914T150000
DTSTAMP:20260420T101530
CREATED:20240527T112455Z
LAST-MODIFIED:20240527T112455Z
UID:10000230-1726308000-1726326000@izzbw.de
SUMMARY:Job & Azubi\, Böblingen
DESCRIPTION:
URL:https://izzbw.de/termin/job-azubi-boeblingen-3/
LOCATION:Kongresshalle Böblingen\, Ida-Ehre-Platz 1\, Böblingen\, 71032
CATEGORIES:Ausbildung
ATTACH;FMTTYPE=image/jpeg:https://izzbw.de/wp-content/uploads/VORSCHAU_JPF_200710_3282-3.jpg
END:VEVENT
BEGIN:VEVENT
DTSTART;TZID=Europe/Berlin:20240712T080000
DTEND;TZID=Europe/Berlin:20240712T160000
DTSTAMP:20260420T101530
CREATED:20240411T140818Z
LAST-MODIFIED:20240411T140818Z
UID:10000229-1720771200-1720800000@izzbw.de
SUMMARY:Ausbildungsmesse\, Rastatt
DESCRIPTION:
URL:https://izzbw.de/termin/ausbildungsmesse-rastatt-2/
LOCATION:BadnerHalle\, Kapellenstraße 20-22\, Rastatt\, 76437
CATEGORIES:Ausbildung
ATTACH;FMTTYPE=image/jpeg:https://izzbw.de/wp-content/uploads/VORSCHAU_JPF_200710_3793-1.jpg
END:VEVENT
BEGIN:VEVENT
DTSTART;TZID=Europe/Berlin:20240709T110000
DTEND;TZID=Europe/Berlin:20240709T170000
DTSTAMP:20260420T101530
CREATED:20240411T140602Z
LAST-MODIFIED:20240411T140602Z
UID:10000228-1720522800-1720544400@izzbw.de
SUMMARY:Ausbildungsmesse\, Baden-Baden
DESCRIPTION:
URL:https://izzbw.de/termin/ausbildungsmesse-baden-baden-2/
LOCATION:Kongresshaus Baden-Baden\, Augustapl. 10\, Baden-Baden\, 76530
CATEGORIES:Ausbildung
ATTACH;FMTTYPE=image/jpeg:https://izzbw.de/wp-content/uploads/VORSCHAU_JPF_200710_2073-1.jpg
END:VEVENT
BEGIN:VEVENT
DTSTART;TZID=Europe/Berlin:20240626T090000
DTEND;TZID=Europe/Berlin:20240626T170000
DTSTAMP:20260420T101530
CREATED:20240104T104422Z
LAST-MODIFIED:20240104T104422Z
UID:10000222-1719392400-1719421200@izzbw.de
SUMMARY:WHAT 2024\, Weinheim
DESCRIPTION:
URL:https://izzbw.de/termin/what-2024-weinheim/
LOCATION:Stadthalle Weinheim\, Birkenauer Talstraße 1\, Weinheim\, 69469
CATEGORIES:Ausbildung
ATTACH;FMTTYPE=image/jpeg:https://izzbw.de/wp-content/uploads/VORSCHAU_JPF_200710_1446.jpg
END:VEVENT
BEGIN:VEVENT
DTSTART;TZID=Europe/Berlin:20240622T100000
DTEND;TZID=Europe/Berlin:20240622T150000
DTSTAMP:20260420T101530
CREATED:20240411T140005Z
LAST-MODIFIED:20240411T140005Z
UID:10000227-1719050400-1719068400@izzbw.de
SUMMARY:Karrieremesse\, Konstanz
DESCRIPTION:
URL:https://izzbw.de/termin/karrieremesse-konstanz/
LOCATION:Bodenseeforum\, Reichenauerstraße 21\, 78467 Konstanz
CATEGORIES:Ausbildung
ATTACH;FMTTYPE=image/jpeg:https://izzbw.de/wp-content/uploads/VORSCHAU_JPF_200710_3580.jpg
END:VEVENT
BEGIN:VEVENT
DTSTART;TZID=Europe/Berlin:20240621T083000
DTEND;TZID=Europe/Berlin:20240622T140000
DTSTAMP:20260420T101530
CREATED:20240104T093449Z
LAST-MODIFIED:20240104T093449Z
UID:10000220-1718958600-1719064800@izzbw.de
SUMMARY:Bildungsmesse\, Lauda-Königshofen
DESCRIPTION:
URL:https://izzbw.de/termin/bildungsmesse-lauda-koenigshofen-2/
LOCATION:Stadt- & Sporthalle Lauda\, Becksteiner Str. 58-60\, Lauda-Königshofen\, 97922
CATEGORIES:Ausbildung
ATTACH;FMTTYPE=image/jpeg:https://izzbw.de/wp-content/uploads/VORSCHAU_JPF_200710_4004.jpg
END:VEVENT
BEGIN:VEVENT
DTSTART;TZID=Europe/Berlin:20240620T083000
DTEND;TZID=Europe/Berlin:20240621T150000
DTSTAMP:20260420T101530
CREATED:20240104T093114Z
LAST-MODIFIED:20240104T093114Z
UID:10000219-1718872200-1718982000@izzbw.de
SUMMARY:Vocatium Ausbildung und Studium\, Sinsheim
DESCRIPTION:
URL:https://izzbw.de/termin/vocatium-ausbildung-und-studium-sinsheim/
LOCATION:Dr. Sieber-Halle\, Friedrichstraße 17\, Sinsheim\, 74889
CATEGORIES:Ausbildung
ATTACH;FMTTYPE=image/jpeg:https://izzbw.de/wp-content/uploads/VORSCHAU_JPF_200710_2099.jpg
END:VEVENT
BEGIN:VEVENT
DTSTART;TZID=Europe/Berlin:20240612T083000
DTEND;TZID=Europe/Berlin:20240613T150000
DTSTAMP:20260420T101530
CREATED:20240104T092736Z
LAST-MODIFIED:20240104T092736Z
UID:10000218-1718181000-1718290800@izzbw.de
SUMMARY:Vocatium Ausbildung und Studium\, Karlsruhe
DESCRIPTION:
URL:https://izzbw.de/termin/vocatium-ausbildung-und-studium-karlsruhe/
LOCATION:Gartenhalle Karlsruhe\, Festpl. 3\, Karlsruhe\, 76137
CATEGORIES:Ausbildung
ATTACH;FMTTYPE=image/jpeg:https://izzbw.de/wp-content/uploads/VORSCHAU_JPF_200710_1275.jpg
END:VEVENT
BEGIN:VEVENT
DTSTART;TZID=Europe/Berlin:20240504T100000
DTEND;TZID=Europe/Berlin:20240504T150000
DTSTAMP:20260420T101530
CREATED:20240411T135252Z
LAST-MODIFIED:20240411T135252Z
UID:10000226-1714816800-1714834800@izzbw.de
SUMMARY:Job-Börse\, Schwäbisch Hall
DESCRIPTION:
URL:https://izzbw.de/termin/job-boerse-schwaebisch-hall/
LOCATION:Kocherwiesen\, Steinbacher Straße\, 74523 Schwäbisch Hall\, Baden-Württemberg
CATEGORIES:Ausbildung
ATTACH;FMTTYPE=image/jpeg:https://izzbw.de/wp-content/uploads/VORSCHAU_JPF_200710_1839.jpg
END:VEVENT
BEGIN:VEVENT
DTSTART;TZID=Europe/Berlin:20240427T110000
DTEND;TZID=Europe/Berlin:20240428T160000
DTSTAMP:20260420T101530
CREATED:20240104T092342Z
LAST-MODIFIED:20240104T092342Z
UID:10000217-1714215600-1714320000@izzbw.de
SUMMARY:Ausbildungsbörse\, Tuttlingen
DESCRIPTION:
URL:https://izzbw.de/termin/ausbildungsboerse-tuttlingen-3/
LOCATION:Stadthalle Tuttlingen\, Königstraße 39\, Tuttlingen\, 78532
CATEGORIES:Ausbildung
ATTACH;FMTTYPE=image/jpeg:https://izzbw.de/wp-content/uploads/VORSCHAU_JPF_200710_1796-2.jpg
END:VEVENT
BEGIN:VEVENT
DTSTART;TZID=Europe/Berlin:20240426T090000
DTEND;TZID=Europe/Berlin:20240427T130000
DTSTAMP:20260420T101530
CREATED:20240104T091941Z
LAST-MODIFIED:20240104T092042Z
UID:10000216-1714122000-1714222800@izzbw.de
SUMMARY:Bildungsmesse\, Heilbronn
DESCRIPTION:
URL:https://izzbw.de/termin/bildungsmesse-heilbronn-2/
LOCATION:INTERSPORT redblue\, Wannenäckerstraße 50\, Heilbronn\, 74078
CATEGORIES:Ausbildung
ATTACH;FMTTYPE=image/jpeg:https://izzbw.de/wp-content/uploads/VORSCHAU_JPF_200710_1096.jpg
END:VEVENT
BEGIN:VEVENT
DTSTART;TZID=Europe/Berlin:20240423T140000
DTEND;TZID=Europe/Berlin:20240423T183000
DTSTAMP:20260420T101530
CREATED:20240411T134252Z
LAST-MODIFIED:20240411T134252Z
UID:10000225-1713880800-1713897000@izzbw.de
SUMMARY:Ausbildungsmesse "SUPERJOB"\, Rastatt
DESCRIPTION:
URL:https://izzbw.de/termin/ausbildungsmesse-superjob-rastatt/
LOCATION:Stadthalle Gernsbach\, Badener Straße 1\, 76593 Gernsbach\, Baden-Württemberg
CATEGORIES:Ausbildung
ATTACH;FMTTYPE=image/jpeg:https://izzbw.de/wp-content/uploads/VORSCHAU_JPF_200710_3165.jpg
END:VEVENT
BEGIN:VEVENT
DTSTART;TZID=Europe/Berlin:20240420T090000
DTEND;TZID=Europe/Berlin:20240420T130000
DTSTAMP:20260420T101530
CREATED:20240104T091717Z
LAST-MODIFIED:20240104T091717Z
UID:10000215-1713603600-1713618000@izzbw.de
SUMMARY:Ausbildungsmesse\, Geislingen an der Steige
DESCRIPTION:
URL:https://izzbw.de/termin/ausbildungsmesse-geislingen-an-der-steige-2/
LOCATION:Berufschule Geislingen\, Rheinlandstraße 80\, Geislingen an der Steige\, 73312
CATEGORIES:Ausbildung
ATTACH;FMTTYPE=image/jpeg:https://izzbw.de/wp-content/uploads/VORSCHAU_JPF_200710_2891-1.jpg
END:VEVENT
BEGIN:VEVENT
DTSTART;TZID=Europe/Berlin:20240419T110000
DTEND;TZID=Europe/Berlin:20240419T160000
DTSTAMP:20260420T101530
CREATED:20240411T132339Z
LAST-MODIFIED:20240411T132719Z
UID:10000224-1713524400-1713542400@izzbw.de
SUMMARY:JCBS-Tag der Berufe\, Lomersheim-Mühlacker
DESCRIPTION:
URL:https://izzbw.de/termin/jcbs-lomersheim-muehlacker/
LOCATION:Johann-Christoph-Blumhardt-Schule\, Im Letten 8\, 75417 Mühlacker\, Baden-Württemberg
CATEGORIES:Ausbildung
ATTACH;FMTTYPE=image/jpeg:https://izzbw.de/wp-content/uploads/VORSCHAU_JPF_200710_3282-1.jpg
END:VEVENT
BEGIN:VEVENT
DTSTART;TZID=Europe/Berlin:20240419T090000
DTEND;TZID=Europe/Berlin:20240420T170000
DTSTAMP:20260420T101530
CREATED:20240104T091155Z
LAST-MODIFIED:20240104T091155Z
UID:10000214-1713517200-1713632400@izzbw.de
SUMMARY:Berufinfomesse\, Offenburg
DESCRIPTION:
URL:https://izzbw.de/termin/berufinfomesse-offenburg/
LOCATION:Messegelände Offenburg\, Oberrheinhalle\, Ortenauhalle und Baden-Arena\, Schutterwälder Str. 3\, Offenburg\, 77656
CATEGORIES:Ausbildung
ATTACH;FMTTYPE=image/jpeg:https://izzbw.de/wp-content/uploads/VORSCHAU_JPF_200710_3793-1.jpg
END:VEVENT
BEGIN:VEVENT
DTSTART;TZID=Europe/Berlin:20240413T100000
DTEND;TZID=Europe/Berlin:20240413T140000
DTSTAMP:20260420T101530
CREATED:20240104T090146Z
LAST-MODIFIED:20240104T090146Z
UID:10000213-1713002400-1713016800@izzbw.de
SUMMARY:Ausbildungsmesse\, Bretten
DESCRIPTION:
URL:https://izzbw.de/termin/ausbildungsmesse-bretten-3/
LOCATION:Hallensportzentrum „Im Grüne“\, Max-Planck-Straße 3\, Bretten\, 75015
CATEGORIES:Ausbildung
ATTACH;FMTTYPE=image/jpeg:https://izzbw.de/wp-content/uploads/VORSCHAU_JPF_200710_2073-2.jpg
END:VEVENT
BEGIN:VEVENT
DTSTART;TZID=Europe/Berlin:20240412T080000
DTEND;TZID=Europe/Berlin:20240412T170000
DTSTAMP:20260420T101530
CREATED:20240104T085146Z
LAST-MODIFIED:20240104T085237Z
UID:10000212-1712908800-1712941200@izzbw.de
SUMMARY:Future 4 you\, Biberach an der Riß
DESCRIPTION:
URL:https://izzbw.de/termin/future-4-you-biberach-an-der-riss/
LOCATION:Stadthalle Biberach Gigelberg- und Stadtbierhalle\, Theaterstraße 4-8\, Biberach an der Riß\, 88400
CATEGORIES:Ausbildung
ATTACH;FMTTYPE=image/jpeg:https://izzbw.de/wp-content/uploads/VORSCHAU_JPF_200710_3823.jpg
END:VEVENT
BEGIN:VEVENT
DTSTART;TZID=Europe/Berlin:20240411T083000
DTEND;TZID=Europe/Berlin:20240412T160000
DTSTAMP:20260420T101530
CREATED:20240104T084449Z
LAST-MODIFIED:20240104T084449Z
UID:10000211-1712824200-1712937600@izzbw.de
SUMMARY:JobDays\, Singen
DESCRIPTION:
URL:https://izzbw.de/termin/jobdays-singen-3/
LOCATION:Stadthalle Singen\, Hohgarten 4\, Singen\, 78224
CATEGORIES:Ausbildung
ATTACH;FMTTYPE=image/jpeg:https://izzbw.de/wp-content/uploads/VORSCHAU_JPF_200710_3274-1.jpg
END:VEVENT
BEGIN:VEVENT
DTSTART;TZID=Europe/Berlin:20240320T093000
DTEND;TZID=Europe/Berlin:20240320T150000
DTSTAMP:20260420T101530
CREATED:20240104T095347Z
LAST-MODIFIED:20240104T095347Z
UID:10000221-1710927000-1710946800@izzbw.de
SUMMARY:Zukunft Karriere\, Bad Mergentheim
DESCRIPTION:
URL:https://izzbw.de/termin/zukunft-karriere-bad-mergentheim/
LOCATION:Kursaal Bad Mergentheim\, Lothar-Daiker-Straße 2\, Bad Mergentheim\, 97980
CATEGORIES:Ausbildung
ATTACH;FMTTYPE=image/jpeg:https://izzbw.de/wp-content/uploads/VORSCHAU_JPF_200710_2497-2.jpg
END:VEVENT
BEGIN:VEVENT
DTSTART;TZID=Europe/Berlin:20240319T170000
DTEND;TZID=Europe/Berlin:20240319T190000
DTSTAMP:20260420T101530
CREATED:20240104T082513Z
LAST-MODIFIED:20240104T082614Z
UID:10000210-1710867600-1710874800@izzbw.de
SUMMARY:Berufe im Blickpunkt\, Süßen
DESCRIPTION:
URL:https://izzbw.de/termin/berufe-im-blickpunkt-suessen/
LOCATION:Schulverbund Süßen – Realschule\, Schulstraße 4\, Süßen\, 73079
CATEGORIES:Ausbildung
ATTACH;FMTTYPE=image/jpeg:https://izzbw.de/wp-content/uploads/VORSCHAU_JPF_200710_3425.jpg
END:VEVENT
BEGIN:VEVENT
DTSTART;TZID=Europe/Berlin:20240315T090000
DTEND;TZID=Europe/Berlin:20240316T150000
DTSTAMP:20260420T101530
CREATED:20240104T081516Z
LAST-MODIFIED:20240104T082051Z
UID:10000209-1710493200-1710601200@izzbw.de
SUMMARY:Fokus Berufe 24 Rems-Murr-Kreis\, Winnenden
DESCRIPTION:
URL:https://izzbw.de/termin/fokus-berufe-24-rems-murr-kreis-winnenden/
LOCATION:Bildungszentren Winnenden\, Linsenhalde 11\, Winnenden\, 71364
CATEGORIES:Ausbildung
ATTACH;FMTTYPE=image/jpeg:https://izzbw.de/wp-content/uploads/VORSCHAU_JPF_200710_1548.jpg
END:VEVENT
BEGIN:VEVENT
DTSTART;TZID=Europe/Berlin:20240314T090000
DTEND;TZID=Europe/Berlin:20240316T170000
DTSTAMP:20260420T101530
CREATED:20240104T080851Z
LAST-MODIFIED:20240104T080851Z
UID:10000208-1710406800-1710608400@izzbw.de
SUMMARY:Jobs for Future\, Villingen-Schwenningen
DESCRIPTION:
URL:https://izzbw.de/termin/jobs-for-future-villingen-schwenningen-4/
LOCATION:Messegelände VS-Schwenningen\, Waldeckweg 1\, Villingen-Schwenningen\, 78056
CATEGORIES:Ausbildung
ATTACH;FMTTYPE=image/jpeg:https://izzbw.de/wp-content/uploads/VORSCHAU_JPF_200710_1275-1.jpg
END:VEVENT
BEGIN:VEVENT
DTSTART;TZID=Europe/Berlin:20240311T180000
DTEND;TZID=Europe/Berlin:20240311T203000
DTSTAMP:20260420T101530
CREATED:20240104T080059Z
LAST-MODIFIED:20240104T080345Z
UID:10000207-1710180000-1710189000@izzbw.de
SUMMARY:Ausbildungsbörse\, Ettlingen
DESCRIPTION:
URL:https://izzbw.de/termin/ausbildungsboerse-ettlingen-2/
LOCATION:Albgauhalle im Horbachpark\, Middelkerker Str. 1-5\, Ettlingen\, 76275
CATEGORIES:Ausbildung
ATTACH;FMTTYPE=image/jpeg:https://izzbw.de/wp-content/uploads/VORSCHAU_JPF_200710_2370.jpg
END:VEVENT
BEGIN:VEVENT
DTSTART;TZID=Europe/Berlin:20240308T160000
DTEND;TZID=Europe/Berlin:20240308T200000
DTSTAMP:20260420T101530
CREATED:20240104T075445Z
LAST-MODIFIED:20240104T075445Z
UID:10000206-1709913600-1709928000@izzbw.de
SUMMARY:Gmünder Ausbildungs- und Studienmesse\, Schwäbisch Gmünd
DESCRIPTION:
URL:https://izzbw.de/termin/gmuender-ausbildungs-und-studienmesse-schwaebisch-gmuend/
LOCATION:Congress-Centrum Stadtgarten\, Rektor-Klaus-Straße 9\, Schwäbisch Gmünd\, 73525
CATEGORIES:Ausbildung
ATTACH;FMTTYPE=image/jpeg:https://izzbw.de/wp-content/uploads/VORSCHAU_JPF_200710_2497-2.jpg
END:VEVENT
BEGIN:VEVENT
DTSTART;TZID=Europe/Berlin:20240308T090000
DTEND;TZID=Europe/Berlin:20240309T160000
DTSTAMP:20260420T101530
CREATED:20240229T150436Z
LAST-MODIFIED:20240229T150436Z
UID:10000223-1709888400-1710000000@izzbw.de
SUMMARY:Karriere. Ausbildungs- und Weiterbildungsmesse\, Esslingen
DESCRIPTION:
URL:https://izzbw.de/termin/karriere-ausbildungs-und-weiterbildungsmesse-esslingen/
LOCATION:Neckar Forum\, Ebershaldenstraße 12\, Esslingen am Neckar\, 73728
CATEGORIES:Ausbildung
ATTACH;FMTTYPE=image/jpeg:https://izzbw.de/wp-content/uploads/VORSCHAU_JPF_200710_2040.jpg
END:VEVENT
BEGIN:VEVENT
DTSTART;TZID=Europe/Berlin:20240308T083000
DTEND;TZID=Europe/Berlin:20240308T143000
DTSTAMP:20260420T101530
CREATED:20240104T074812Z
LAST-MODIFIED:20240104T074812Z
UID:10000205-1709886600-1709908200@izzbw.de
SUMMARY:Karrieremesse Bodensee- Oberschwaben- Allgäu\, Friedrichshafen
DESCRIPTION:
URL:https://izzbw.de/termin/karrieremesse-bodensee-oberschwaben-allgaeu-friedrichshafen/
LOCATION:Messe Friedrichshafen\, Neue Messe 1\, Friedrichshafen\, 88046
CATEGORIES:Ausbildung
ATTACH;FMTTYPE=image/jpeg:https://izzbw.de/wp-content/uploads/VORSCHAU_JPF_200710_2891-1.jpg
END:VEVENT
BEGIN:VEVENT
DTSTART;TZID=Europe/Berlin:20240307T093000
DTEND;TZID=Europe/Berlin:20240307T150000
DTSTAMP:20260420T101530
CREATED:20240104T073537Z
LAST-MODIFIED:20240104T073537Z
UID:10000204-1709803800-1709823600@izzbw.de
SUMMARY:Zukunft Karriere\, Tauberbischofsheim
DESCRIPTION:
URL:https://izzbw.de/termin/zukunft-karriere-tauberbischofsheim-4/
LOCATION:Emil-Beck-Halle\, Pestalozziallee 12\, Tauberbischofsheim\, 97941
CATEGORIES:Ausbildung
ATTACH;FMTTYPE=image/jpeg:https://izzbw.de/wp-content/uploads/VORSCHAU_JPF_200710_1839.jpg
END:VEVENT
BEGIN:VEVENT
DTSTART;TZID=Europe/Berlin:20240302T100000
DTEND;TZID=Europe/Berlin:20240302T130000
DTSTAMP:20260420T101530
CREATED:20240104T072640Z
LAST-MODIFIED:20240226T100408Z
UID:10000203-1709373600-1709384400@izzbw.de
SUMMARY:Berufsinfomarkt\, Herrenberg
DESCRIPTION:
URL:https://izzbw.de/termin/berufsinfomarkt-herrenberg-3/
LOCATION:Aischbachhalle\, Markweghalle und Mensa Markweg\, Schießtäle 33\, Herrenberg\, 71083
CATEGORIES:Ausbildung
ATTACH;FMTTYPE=image/jpeg:https://izzbw.de/wp-content/uploads/VORSCHAU_JPF_200710_2040.jpg
END:VEVENT
END:VCALENDAR