BEGIN:VCALENDAR
VERSION:2.0
PRODID:-//IZZBW - ECPv6.15.20//NONSGML v1.0//EN
CALSCALE:GREGORIAN
METHOD:PUBLISH
X-ORIGINAL-URL:https://izzbw.de
X-WR-CALDESC:Veranstaltungen für IZZBW
REFRESH-INTERVAL;VALUE=DURATION:PT1H
X-Robots-Tag:noindex
X-PUBLISHED-TTL:PT1H
BEGIN:VTIMEZONE
TZID:Europe/Berlin
BEGIN:DAYLIGHT
TZOFFSETFROM:+0100
TZOFFSETTO:+0200
TZNAME:CEST
DTSTART:20190331T010000
END:DAYLIGHT
BEGIN:STANDARD
TZOFFSETFROM:+0200
TZOFFSETTO:+0100
TZNAME:CET
DTSTART:20191027T010000
END:STANDARD
BEGIN:DAYLIGHT
TZOFFSETFROM:+0100
TZOFFSETTO:+0200
TZNAME:CEST
DTSTART:20200329T010000
END:DAYLIGHT
BEGIN:STANDARD
TZOFFSETFROM:+0200
TZOFFSETTO:+0100
TZNAME:CET
DTSTART:20201025T010000
END:STANDARD
BEGIN:DAYLIGHT
TZOFFSETFROM:+0100
TZOFFSETTO:+0200
TZNAME:CEST
DTSTART:20210328T010000
END:DAYLIGHT
BEGIN:STANDARD
TZOFFSETFROM:+0200
TZOFFSETTO:+0100
TZNAME:CET
DTSTART:20211031T010000
END:STANDARD
END:VTIMEZONE
BEGIN:VEVENT
DTSTART;TZID=Europe/Berlin:20201015T083000
DTEND;TZID=Europe/Berlin:20201015T130000
DTSTAMP:20260422T025535
CREATED:20200906T193017Z
LAST-MODIFIED:20200906T193017Z
UID:10000007-1602750600-1602766800@izzbw.de
SUMMARY:Job-Start-Börse\, Waldkirch
DESCRIPTION:
URL:https://izzbw.de/termin/job-start-boerse-2/
CATEGORIES:Ausbildung
ATTACH;FMTTYPE=image/jpeg:https://izzbw.de/wp-content/uploads/FRK_4552-1-scaled-1.jpg
END:VEVENT
BEGIN:VEVENT
DTSTART;TZID=Europe/Berlin:20201014T180000
DTEND;TZID=Europe/Berlin:20201014T203000
DTSTAMP:20260422T025535
CREATED:20200906T192751Z
LAST-MODIFIED:20200906T192751Z
UID:10000006-1602698400-1602707400@izzbw.de
SUMMARY:Job-Start-Börse\, Waldkirch
DESCRIPTION:
URL:https://izzbw.de/termin/job-start-boerse/
LOCATION:Stadthalle Waldkirch\, Hindenburgstraße 4\, Waldkirch\, 79183
CATEGORIES:Ausbildung
ATTACH;FMTTYPE=image/jpeg:https://izzbw.de/wp-content/uploads/FRK_4552-1-scaled-1.jpg
END:VEVENT
BEGIN:VEVENT
DTSTART;VALUE=DATE:20201008
DTEND;VALUE=DATE:20201010
DTSTAMP:20260422T025535
CREATED:20200906T192137Z
LAST-MODIFIED:20200906T192137Z
UID:10000004-1602115200-1602287999@izzbw.de
SUMMARY:Einstieg Karlsruhe
DESCRIPTION:
URL:https://izzbw.de/termin/einstieg-karlsruhe/
LOCATION:Online
CATEGORIES:Ausbildung
ATTACH;FMTTYPE=image/jpeg:https://izzbw.de/wp-content/uploads/FRK_4552-1-scaled-1.jpg
END:VEVENT
BEGIN:VEVENT
DTSTART;VALUE=DATE:20200926
DTEND;VALUE=DATE:20200927
DTSTAMP:20260422T025535
CREATED:20200906T191911Z
LAST-MODIFIED:20200906T191911Z
UID:10000003-1601078400-1601164799@izzbw.de
SUMMARY:Ausbildungsbörse\, Weil am Rhein
DESCRIPTION:
URL:https://izzbw.de/termin/ausbildungsboerse-weil-am-rhein/
LOCATION:Online
CATEGORIES:Ausbildung
ATTACH;FMTTYPE=image/jpeg:https://izzbw.de/wp-content/uploads/FRK_4552-1-scaled-1.jpg
END:VEVENT
BEGIN:VEVENT
DTSTART;TZID=Europe/Berlin:20200925T100000
DTEND;TZID=Europe/Berlin:20200926T160000
DTSTAMP:20260422T025535
CREATED:20200906T191640Z
LAST-MODIFIED:20200906T191640Z
UID:10000002-1601028000-1601136000@izzbw.de
SUMMARY:First Job. Ausbildungsmesse\, Stuttgart
DESCRIPTION:
URL:https://izzbw.de/termin/first-job-ausbildungsmesse/
LOCATION:Wagenhallen Stuttgart\, Innerer Nordbahnhof 1\, 70191 Stuttgart
CATEGORIES:Ausbildung
ATTACH;FMTTYPE=image/jpeg:https://izzbw.de/wp-content/uploads/FRK_4552-1-scaled-1.jpg
END:VEVENT
BEGIN:VEVENT
DTSTART;TZID=Europe/Berlin:20200924T100000
DTEND;TZID=Europe/Berlin:20200926T170000
DTSTAMP:20260422T025535
CREATED:20200906T185945Z
LAST-MODIFIED:20200906T185945Z
UID:10000001-1600941600-1601139600@izzbw.de
SUMMARY:Jobs for Future\, Villingen-Schwenningen
DESCRIPTION:
URL:https://izzbw.de/termin/jobs-for-future/
LOCATION:Messegelände VS-Schwenningen\, Waldeckweg 1\, Villingen-Schwenningen\, 78056
CATEGORIES:Ausbildung
ATTACH;FMTTYPE=image/jpeg:https://izzbw.de/wp-content/uploads/FRK_4552-1-scaled-1.jpg
END:VEVENT
END:VCALENDAR