BEGIN:VCALENDAR
VERSION:2.0
PRODID:-//IZZBW - ECPv6.15.20//NONSGML v1.0//EN
CALSCALE:GREGORIAN
METHOD:PUBLISH
X-ORIGINAL-URL:https://izzbw.de
X-WR-CALDESC:Veranstaltungen für IZZBW
REFRESH-INTERVAL;VALUE=DURATION:PT1H
X-Robots-Tag:noindex
X-PUBLISHED-TTL:PT1H
BEGIN:VTIMEZONE
TZID:Europe/Berlin
BEGIN:DAYLIGHT
TZOFFSETFROM:+0100
TZOFFSETTO:+0200
TZNAME:CEST
DTSTART:20200329T010000
END:DAYLIGHT
BEGIN:STANDARD
TZOFFSETFROM:+0200
TZOFFSETTO:+0100
TZNAME:CET
DTSTART:20201025T010000
END:STANDARD
BEGIN:DAYLIGHT
TZOFFSETFROM:+0100
TZOFFSETTO:+0200
TZNAME:CEST
DTSTART:20210328T010000
END:DAYLIGHT
BEGIN:STANDARD
TZOFFSETFROM:+0200
TZOFFSETTO:+0100
TZNAME:CET
DTSTART:20211031T010000
END:STANDARD
BEGIN:DAYLIGHT
TZOFFSETFROM:+0100
TZOFFSETTO:+0200
TZNAME:CEST
DTSTART:20220327T010000
END:DAYLIGHT
BEGIN:STANDARD
TZOFFSETFROM:+0200
TZOFFSETTO:+0100
TZNAME:CET
DTSTART:20221030T010000
END:STANDARD
END:VTIMEZONE
BEGIN:VEVENT
DTSTART;TZID=Europe/Berlin:20211023T100000
DTEND;TZID=Europe/Berlin:20211023T160000
DTSTAMP:20260421T204302
CREATED:20211013T133545Z
LAST-MODIFIED:20211013T133545Z
UID:10000058-1634983200-1635004800@izzbw.de
SUMMARY:Starter\, Rottweil
DESCRIPTION:
URL:https://izzbw.de/termin/starter-rottweil-3/
LOCATION:Berner Feld\, Berner Feld\, Rottweil\, 78628
CATEGORIES:Ausbildung
ATTACH;FMTTYPE=image/jpeg:https://izzbw.de/wp-content/uploads/Franziska-Kraufmann-2-scaled-1.jpg
END:VEVENT
BEGIN:VEVENT
DTSTART;TZID=Europe/Berlin:20211022T100000
DTEND;TZID=Europe/Berlin:20211022T170000
DTSTAMP:20260421T204302
CREATED:20210615T105325Z
LAST-MODIFIED:20210615T105325Z
UID:10000043-1634896800-1634922000@izzbw.de
SUMMARY:Zukunft Karriere\, Tauberbischofsheim
DESCRIPTION:
URL:https://izzbw.de/termin/zukunft-karriere-tauberbischofsheim-2/
LOCATION:Online
CATEGORIES:Ausbildung
ATTACH;FMTTYPE=image/jpeg:https://izzbw.de/wp-content/uploads/VORSCHAU_JPF_200710_2942.jpg
END:VEVENT
BEGIN:VEVENT
DTSTART;TZID=Europe/Berlin:20211022T090000
DTEND;TZID=Europe/Berlin:20211022T160000
DTSTAMP:20260421T204302
CREATED:20210426T145516Z
LAST-MODIFIED:20210426T145516Z
UID:10000040-1634893200-1634918400@izzbw.de
SUMMARY:Starter\, Rottweil
DESCRIPTION:
URL:https://izzbw.de/termin/starter-rottweil/
LOCATION:Berner Feld\, Berner Feld\, Rottweil\, 78628
CATEGORIES:Ausbildung
ATTACH;FMTTYPE=image/jpeg:https://izzbw.de/wp-content/uploads/Franziska-Kraufmann-2-scaled-1.jpg
END:VEVENT
BEGIN:VEVENT
DTSTART;TZID=Europe/Berlin:20211022T090000
DTEND;TZID=Europe/Berlin:20211022T123000
DTSTAMP:20260421T204302
CREATED:20210713T074937Z
LAST-MODIFIED:20210713T074937Z
UID:10000055-1634893200-1634905800@izzbw.de
SUMMARY:Job-Start-Börse\, Emmendingen
DESCRIPTION:
URL:https://izzbw.de/termin/job-start-boerse-emmendingen-2/
LOCATION:Fritz-Boehle-Halle\, Rosenweg 3\, Emmendingen\, 79312
CATEGORIES:Ausbildung
ATTACH;FMTTYPE=image/jpeg:https://izzbw.de/wp-content/uploads/Schwarz-Messe_3-scaled-1.jpg
END:VEVENT
BEGIN:VEVENT
DTSTART;TZID=Europe/Berlin:20211021T180000
DTEND;TZID=Europe/Berlin:20211021T203000
DTSTAMP:20260421T204302
CREATED:20210713T074825Z
LAST-MODIFIED:20210713T074825Z
UID:10000054-1634839200-1634848200@izzbw.de
SUMMARY:Job-Start-Börse\, Emmendingen
DESCRIPTION:
URL:https://izzbw.de/termin/job-start-boerse-emmendingen/
LOCATION:Fritz-Boehle-Halle\, Rosenweg 3\, Emmendingen\, 79312
CATEGORIES:Ausbildung
ATTACH;FMTTYPE=image/jpeg:https://izzbw.de/wp-content/uploads/Schwarz-Messe_3-scaled-1.jpg
END:VEVENT
BEGIN:VEVENT
DTSTART;TZID=Europe/Berlin:20211020T083000
DTEND;TZID=Europe/Berlin:20211020T120000
DTSTAMP:20260421T204302
CREATED:20210712T134251Z
LAST-MODIFIED:20210712T134251Z
UID:10000053-1634718600-1634731200@izzbw.de
SUMMARY:Job-Start-Börse\, Müllheim
DESCRIPTION:
URL:https://izzbw.de/termin/job-start-boerse-muellheim-2/
LOCATION:Bürgerhaus Müllheim\, Hauptstraße 122\, Müllheim\, 79379
CATEGORIES:Ausbildung
ATTACH;FMTTYPE=image/jpeg:https://izzbw.de/wp-content/uploads/VORSCHAU_JPF_200710_3817.jpg
END:VEVENT
BEGIN:VEVENT
DTSTART;TZID=Europe/Berlin:20211019T180000
DTEND;TZID=Europe/Berlin:20211019T200000
DTSTAMP:20260421T204302
CREATED:20210712T134113Z
LAST-MODIFIED:20210712T134113Z
UID:10000052-1634666400-1634673600@izzbw.de
SUMMARY:Job-Start-Börse\, Müllheim
DESCRIPTION:
URL:https://izzbw.de/termin/job-start-boerse-muellheim/
LOCATION:Bürgerhaus Müllheim\, Hauptstraße 122\, Müllheim\, 79379
CATEGORIES:Ausbildung
ATTACH;FMTTYPE=image/jpeg:https://izzbw.de/wp-content/uploads/VORSCHAU_JPF_200710_3817.jpg
END:VEVENT
BEGIN:VEVENT
DTSTART;TZID=Europe/Berlin:20211016T100000
DTEND;TZID=Europe/Berlin:20211016T140000
DTSTAMP:20260421T204302
CREATED:20210712T133703Z
LAST-MODIFIED:20210712T133703Z
UID:10000051-1634378400-1634392800@izzbw.de
SUMMARY:Job-Start-Börse\, Titisee-Neustadt
DESCRIPTION:
URL:https://izzbw.de/termin/job-start-boerse-titisee-neustadt/
LOCATION:Kurhaus am Titisee\, Strandbadstraße 4\, Titisee-Neustadt\, 79822
CATEGORIES:Ausbildung
ATTACH;FMTTYPE=image/jpeg:https://izzbw.de/wp-content/uploads/VORSCHAU_JPF_200710_2497-1.jpg
END:VEVENT
BEGIN:VEVENT
DTSTART;TZID=Europe/Berlin:20211016T093000
DTEND;TZID=Europe/Berlin:20211016T130000
DTSTAMP:20260421T204302
CREATED:20210615T112019Z
LAST-MODIFIED:20210615T112019Z
UID:10000045-1634376600-1634389200@izzbw.de
SUMMARY:IBIS\, Holzgerlingen
DESCRIPTION:
URL:https://izzbw.de/termin/ibis-holzgerlingen/
LOCATION:Stadthalle Holzgerlingen\, Berkenstraße 18\, Holzgerlingen\, 71088
CATEGORIES:Ausbildung
ATTACH;FMTTYPE=image/jpeg:https://izzbw.de/wp-content/uploads/JPF_200504_8744-scaled-1.jpg
END:VEVENT
BEGIN:VEVENT
DTSTART;TZID=Europe/Berlin:20211015T090000
DTEND;TZID=Europe/Berlin:20211016T153000
DTSTAMP:20260421T204302
CREATED:20210303T145925Z
LAST-MODIFIED:20210303T145925Z
UID:10000035-1634288400-1634398200@izzbw.de
SUMMARY:Bildungsmesse\, Lauda-Königshofen
DESCRIPTION:
URL:https://izzbw.de/termin/bildungsmesse-lauda-koenigshofen/
LOCATION:Stadt- & Sporthalle Lauda\, Becksteiner Str. 58-60\, Lauda-Königshofen\, 97922
CATEGORIES:Ausbildung
ATTACH;FMTTYPE=image/jpeg:https://izzbw.de/wp-content/uploads/VORSCHAU_JPF_200710_2073.jpg
END:VEVENT
BEGIN:VEVENT
DTSTART;TZID=Europe/Berlin:20211012T083000
DTEND;TZID=Europe/Berlin:20211012T130000
DTSTAMP:20260421T204302
CREATED:20210630T150940Z
LAST-MODIFIED:20210630T150940Z
UID:10000048-1634027400-1634043600@izzbw.de
SUMMARY:Job-Start-Börse\, Waldkirch
DESCRIPTION:
URL:https://izzbw.de/termin/job-start-boerse-waldkirch-2/
LOCATION:Stadthalle Waldkirch\, Hindenburgstraße 4\, Waldkirch\, 79183
CATEGORIES:Ausbildung
ATTACH;FMTTYPE=image/jpeg:https://izzbw.de/wp-content/uploads/AdobeStock_281403975_Robert-Kneschke-scaled-1.jpeg
END:VEVENT
BEGIN:VEVENT
DTSTART;TZID=Europe/Berlin:20211011T180000
DTEND;TZID=Europe/Berlin:20211011T203000
DTSTAMP:20260421T204302
CREATED:20210630T150829Z
LAST-MODIFIED:20210630T150829Z
UID:10000047-1633975200-1633984200@izzbw.de
SUMMARY:Job-Start-Börse\, Waldkirch
DESCRIPTION:
URL:https://izzbw.de/termin/job-start-boerse-waldkirch/
LOCATION:Stadthalle Waldkirch\, Hindenburgstraße 4\, Waldkirch\, 79183
CATEGORIES:Ausbildung
ATTACH;FMTTYPE=image/jpeg:https://izzbw.de/wp-content/uploads/AdobeStock_281403975_Robert-Kneschke-scaled-1.jpeg
END:VEVENT
BEGIN:VEVENT
DTSTART;TZID=Europe/Berlin:20211008T090000
DTEND;TZID=Europe/Berlin:20211009T170000
DTSTAMP:20260421T204302
CREATED:20210204T142309Z
LAST-MODIFIED:20210204T142309Z
UID:10000027-1633683600-1633798800@izzbw.de
SUMMARY:Bildungsmesse\, Heilbronn
DESCRIPTION:
URL:https://izzbw.de/termin/bildungsmesse-heilbronn/
LOCATION:INTERSPORT redblue\, Wannenäckerstraße 50\, Heilbronn\, 74078
CATEGORIES:Ausbildung
ATTACH;FMTTYPE=image/jpeg:https://izzbw.de/wp-content/uploads/VORSCHAU_JPF_200710_3793.jpg
END:VEVENT
BEGIN:VEVENT
DTSTART;VALUE=DATE:20211007
DTEND;VALUE=DATE:20211010
DTSTAMP:20260421T204302
CREATED:20210712T131200Z
LAST-MODIFIED:20210712T131200Z
UID:10000050-1633564800-1633823999@izzbw.de
SUMMARY:Aus- und Weiterbildungsbörse\, Mühlacker-Pforzheim-Enzkreis
DESCRIPTION:
URL:https://izzbw.de/termin/aus-und-weiterbildungsboerse-muehlacker-pforzheim-enkreis/
LOCATION:Online
CATEGORIES:Ausbildung
ATTACH;FMTTYPE=image/jpeg:https://izzbw.de/wp-content/uploads/VORSCHAU_JPF_200710_1715.jpg
END:VEVENT
BEGIN:VEVENT
DTSTART;VALUE=DATE:20211004
DTEND;VALUE=DATE:20211115
DTSTAMP:20260421T204302
CREATED:20210712T130938Z
LAST-MODIFIED:20210712T130938Z
UID:10000049-1633305600-1636934399@izzbw.de
SUMMARY:Job-Start-Börse\, Raum Freiburg
DESCRIPTION:
URL:https://izzbw.de/termin/job-start-boerse-raum-freiburg/
LOCATION:Online
CATEGORIES:Ausbildung
ATTACH;FMTTYPE=image/jpeg:https://izzbw.de/wp-content/uploads/AdobeStock_108634665_Photographee.eu_-scaled-2.jpeg
END:VEVENT
BEGIN:VEVENT
DTSTART;TZID=Europe/Berlin:20210929T140000
DTEND;TZID=Europe/Berlin:20210929T170000
DTSTAMP:20260421T204302
CREATED:20210615T111137Z
LAST-MODIFIED:20210615T111137Z
UID:10000044-1632924000-1632934800@izzbw.de
SUMMARY:Ausbildungsplattform\, Stutensee
DESCRIPTION:
URL:https://izzbw.de/termin/ausbildungsplattform-stutensee/
LOCATION:Online
CATEGORIES:Ausbildung
ATTACH;FMTTYPE=image/jpeg:https://izzbw.de/wp-content/uploads/DSC_8333-scaled-1.jpg
END:VEVENT
BEGIN:VEVENT
DTSTART;TZID=Europe/Berlin:20210924T100000
DTEND;TZID=Europe/Berlin:20210925T160000
DTSTAMP:20260421T204302
CREATED:20210204T155925Z
LAST-MODIFIED:20210204T155925Z
UID:10000030-1632477600-1632585600@izzbw.de
SUMMARY:First Job. Ausbildungsmesse\, Stuttgart
DESCRIPTION:
URL:https://izzbw.de/termin/first-job-ausbildungsmesse-stuttgart/
LOCATION:Wagenhallen Stuttgart\,\, Innerer Nordbahnhof 1\, Stuttgart\, 70191
CATEGORIES:Ausbildung
ATTACH;FMTTYPE=image/jpeg:https://izzbw.de/wp-content/uploads/VORSCHAU_JPF_200710_3651-1.jpg
END:VEVENT
BEGIN:VEVENT
DTSTART;TZID=Europe/Berlin:20210923T090000
DTEND;TZID=Europe/Berlin:20210925T170000
DTSTAMP:20260421T204302
CREATED:20201209T082247Z
LAST-MODIFIED:20201209T082247Z
UID:10000017-1632387600-1632589200@izzbw.de
SUMMARY:Jobs for Future\, Villingen-Schwenningen
DESCRIPTION:
URL:https://izzbw.de/termin/jobs-for-future-villingen-schwenningen/
LOCATION:Messegelände VS-Schwenningen\, Waldeckweg 1\, Villingen-Schwenningen\, 78056
CATEGORIES:Ausbildung
ATTACH;FMTTYPE=image/jpeg:https://izzbw.de/wp-content/uploads/VORSCHAU_JPF_200710_1153.jpg
END:VEVENT
BEGIN:VEVENT
DTSTART;TZID=Europe/Berlin:20210922T090000
DTEND;TZID=Europe/Berlin:20210925T170000
DTSTAMP:20260421T204302
CREATED:20210427T134326Z
LAST-MODIFIED:20210427T134326Z
UID:10000041-1632301200-1632589200@izzbw.de
SUMMARY:Bildungsmesse Visionen\, Balingen
DESCRIPTION:
URL:https://izzbw.de/termin/bildungsmesse-visionen-balingen/
LOCATION:Online
CATEGORIES:Ausbildung
ATTACH;FMTTYPE=image/jpeg:https://izzbw.de/wp-content/uploads/DSC_8320-Rita-Eggstein-scaled-1.jpg
END:VEVENT
BEGIN:VEVENT
DTSTART;TZID=Europe/Berlin:20210916T090000
DTEND;TZID=Europe/Berlin:20210918T170000
DTSTAMP:20260421T204302
CREATED:20210303T154915Z
LAST-MODIFIED:20210303T154915Z
UID:10000036-1631782800-1631984400@izzbw.de
SUMMARY:Jobs for Future\, Mannheim
DESCRIPTION:
URL:https://izzbw.de/termin/jobs-for-future-mannheim/
LOCATION:Maimarkthalle Mannheim\, Xaver-Fuhr-Straße. 101\, Mannheim\, 68163
CATEGORIES:Ausbildung
ATTACH;FMTTYPE=image/jpeg:https://izzbw.de/wp-content/uploads/VORSCHAU_JPF_200710_2170.jpg
END:VEVENT
BEGIN:VEVENT
DTSTART;TZID=Europe/Berlin:20210710T090000
DTEND;TZID=Europe/Berlin:20210710T163000
DTSTAMP:20260421T204302
CREATED:20210204T115042Z
LAST-MODIFIED:20210204T115042Z
UID:10000022-1625907600-1625934600@izzbw.de
SUMMARY:Karriere. Aus- und Weiterbildungsmesse\, Esslingen
DESCRIPTION:
URL:https://izzbw.de/termin/karriere-aus-und-weiterbildungsmesse-esslingen-3/
LOCATION:Neckar Forum\, Ebershaldenstraße 12\, Esslingen am Neckar\, 73728
CATEGORIES:Ausbildung
ATTACH;FMTTYPE=image/jpeg:https://izzbw.de/wp-content/uploads/VORSCHAU_JPF_200710_2334.jpg
END:VEVENT
BEGIN:VEVENT
DTSTART;TZID=Europe/Berlin:20210708T080000
DTEND;TZID=Europe/Berlin:20210711T170000
DTSTAMP:20260421T204302
CREATED:20210204T114029Z
LAST-MODIFIED:20210204T114029Z
UID:10000021-1625731200-1626022800@izzbw.de
SUMMARY:Karriere. Aus- und Weiterbildungsmesse\, Esslingen
DESCRIPTION:
URL:https://izzbw.de/termin/karriere-aus-und-weiterbildungsmesse-esslingen-2/
LOCATION:Online
CATEGORIES:Ausbildung
ATTACH;FMTTYPE=image/jpeg:https://izzbw.de/wp-content/uploads/AdobeStock_281403975_Robert-Kneschke-scaled-1.jpeg
END:VEVENT
BEGIN:VEVENT
DTSTART;TZID=Europe/Berlin:20210630T150000
DTEND;TZID=Europe/Berlin:20210630T173000
DTSTAMP:20260421T204302
CREATED:20210615T100025Z
LAST-MODIFIED:20210615T100025Z
UID:10000042-1625065200-1625074200@izzbw.de
SUMMARY:Markt der Berufe\, Bruchsal
DESCRIPTION:
URL:https://izzbw.de/termin/markt-der-berufe-bruchsal-2/
LOCATION:Online
CATEGORIES:Ausbildung
ATTACH;FMTTYPE=image/jpeg:https://izzbw.de/wp-content/uploads/VORSCHAU_JPF_200710_3793.jpg
END:VEVENT
BEGIN:VEVENT
DTSTART;VALUE=DATE:20210625
DTEND;VALUE=DATE:20210627
DTSTAMP:20260421T204302
CREATED:20210615T114135Z
LAST-MODIFIED:20210615T114135Z
UID:10000046-1624579200-1624751999@izzbw.de
SUMMARY:Starter\, Rottweil
DESCRIPTION:
URL:https://izzbw.de/termin/starter-rottweil-2/
LOCATION:Online
CATEGORIES:Ausbildung
ATTACH;FMTTYPE=image/jpeg:https://izzbw.de/wp-content/uploads/VORSCHAU_JPF_200710_1988.jpg
END:VEVENT
BEGIN:VEVENT
DTSTART;TZID=Europe/Berlin:20210624T140000
DTEND;TZID=Europe/Berlin:20210624T190000
DTSTAMP:20260421T204302
CREATED:20210319T091402Z
LAST-MODIFIED:20210319T091402Z
UID:10000037-1624543200-1624561200@izzbw.de
SUMMARY:Einstieg Baden-Württemberg
DESCRIPTION:
URL:https://izzbw.de/termin/einstieg-baden-wuerttemberg/
LOCATION:Online
CATEGORIES:Ausbildung
ATTACH;FMTTYPE=image/jpeg:https://izzbw.de/wp-content/uploads/BAM7218-Michael-Bamberg-1-scaled-1.jpg
END:VEVENT
BEGIN:VEVENT
DTSTART;TZID=Europe/Berlin:20210616T090000
DTEND;TZID=Europe/Berlin:20210616T170000
DTSTAMP:20260421T204302
CREATED:20210319T094901Z
LAST-MODIFIED:20210319T094901Z
UID:10000038-1623834000-1623862800@izzbw.de
SUMMARY:WHAT 2021\, Weinheim
DESCRIPTION:
URL:https://izzbw.de/termin/what-2021-weinheim/
LOCATION:Online
CATEGORIES:Ausbildung
ATTACH;FMTTYPE=image/jpeg:https://izzbw.de/wp-content/uploads/VORSCHAU_JPF_200710_1796.jpg
END:VEVENT
BEGIN:VEVENT
DTSTART;TZID=Europe/Berlin:20210507T090000
DTEND;TZID=Europe/Berlin:20210508T170000
DTSTAMP:20260421T204302
CREATED:20210217T124114Z
LAST-MODIFIED:20210217T124114Z
UID:10000032-1620378000-1620493200@izzbw.de
SUMMARY:Berufsinfomesse\, Offenburg
DESCRIPTION:
URL:https://izzbw.de/termin/berufsinfomesse-offenburg/
LOCATION:Online
CATEGORIES:Ausbildung
ATTACH;FMTTYPE=image/jpeg:https://izzbw.de/wp-content/uploads/AdobeStock_108634665_Photographee.eu_-scaled-1.jpeg
END:VEVENT
BEGIN:VEVENT
DTSTART;TZID=Europe/Berlin:20210503T100000
DTEND;TZID=Europe/Berlin:20210507T160000
DTSTAMP:20260421T204302
CREATED:20210217T131242Z
LAST-MODIFIED:20210217T131242Z
UID:10000033-1620036000-1620403200@izzbw.de
SUMMARY:Bildung & Karriere Bodensee\, Friedrichshafen
DESCRIPTION:
URL:https://izzbw.de/termin/bildung-karriere-bodensee-friedrichshafen/
LOCATION:Online
CATEGORIES:Ausbildung
ATTACH;FMTTYPE=image/jpeg:https://izzbw.de/wp-content/uploads/VORSCHAU_JPF_200710_2891.jpg
END:VEVENT
BEGIN:VEVENT
DTSTART;VALUE=DATE:20210430
DTEND;VALUE=DATE:20210501
DTSTAMP:20260421T204302
CREATED:20210204T140956Z
LAST-MODIFIED:20210204T140956Z
UID:10000026-1619740800-1619827199@izzbw.de
SUMMARY:Future 4 you\, Biberach
DESCRIPTION:
URL:https://izzbw.de/termin/future-4-you-biberach/
LOCATION:Online
CATEGORIES:Ausbildung
ATTACH;FMTTYPE=image/jpeg:https://izzbw.de/wp-content/uploads/DSC_8333-scaled-1.jpg
END:VEVENT
BEGIN:VEVENT
DTSTART;VALUE=DATE:20210421
DTEND;VALUE=DATE:20210503
DTSTAMP:20260421T204302
CREATED:20210204T132546Z
LAST-MODIFIED:20210204T132546Z
UID:10000025-1618963200-1619999999@izzbw.de
SUMMARY:FirstJob-Frühjahrs-Ausbildungsmesse\, Stuttgart
DESCRIPTION:
URL:https://izzbw.de/termin/firstjob-fruehjahrs-ausbildungsmesse-stuttgart/
LOCATION:Online
CATEGORIES:Ausbildung
ATTACH;FMTTYPE=image/jpeg:https://izzbw.de/wp-content/uploads/DSC_8358-scaled-1.jpg
END:VEVENT
END:VCALENDAR