BEGIN:VCALENDAR
VERSION:2.0
PRODID:-//IZZBW - ECPv6.15.20//NONSGML v1.0//EN
CALSCALE:GREGORIAN
METHOD:PUBLISH
X-ORIGINAL-URL:https://izzbw.de
X-WR-CALDESC:Veranstaltungen für IZZBW
REFRESH-INTERVAL;VALUE=DURATION:PT1H
X-Robots-Tag:noindex
X-PUBLISHED-TTL:PT1H
BEGIN:VTIMEZONE
TZID:Europe/Berlin
BEGIN:DAYLIGHT
TZOFFSETFROM:+0100
TZOFFSETTO:+0200
TZNAME:CEST
DTSTART:20210328T010000
END:DAYLIGHT
BEGIN:STANDARD
TZOFFSETFROM:+0200
TZOFFSETTO:+0100
TZNAME:CET
DTSTART:20211031T010000
END:STANDARD
BEGIN:DAYLIGHT
TZOFFSETFROM:+0100
TZOFFSETTO:+0200
TZNAME:CEST
DTSTART:20220327T010000
END:DAYLIGHT
BEGIN:STANDARD
TZOFFSETFROM:+0200
TZOFFSETTO:+0100
TZNAME:CET
DTSTART:20221030T010000
END:STANDARD
BEGIN:DAYLIGHT
TZOFFSETFROM:+0100
TZOFFSETTO:+0200
TZNAME:CEST
DTSTART:20230326T010000
END:DAYLIGHT
BEGIN:STANDARD
TZOFFSETFROM:+0200
TZOFFSETTO:+0100
TZNAME:CET
DTSTART:20231029T010000
END:STANDARD
END:VTIMEZONE
BEGIN:VEVENT
DTSTART;TZID=Europe/Berlin:20221119T100000
DTEND;TZID=Europe/Berlin:20221119T160000
DTSTAMP:20260421T062217
CREATED:20221018T150804Z
LAST-MODIFIED:20221018T150804Z
UID:10000113-1668852000-1668873600@izzbw.de
SUMMARY:Marktplatz: Arbeit Südbaden\, Freiburg
DESCRIPTION:
URL:https://izzbw.de/termin/marktplatz-arbeit-suedbaden-freiburg-4/
LOCATION:Messe Freiburg\, Hermann-Mitsch-Straße 3\, Freiburg im Breisgau\, 79108
CATEGORIES:Ausbildung
ATTACH;FMTTYPE=image/jpeg:https://izzbw.de/wp-content/uploads/JPF_200504_8744-scaled-1.jpg
END:VEVENT
BEGIN:VEVENT
DTSTART;TZID=Europe/Berlin:20221119T090000
DTEND;TZID=Europe/Berlin:20221119T130000
DTSTAMP:20260421T062217
CREATED:20221018T151607Z
LAST-MODIFIED:20221018T151607Z
UID:10000114-1668848400-1668862800@izzbw.de
SUMMARY:Ausbildungs- und Studienmesse\, Ellwangen
DESCRIPTION:
URL:https://izzbw.de/termin/ausbildungs-und-studienmesse-ellwangen/
LOCATION:Berufliches Schulzentrum Ellwangen\, Hariolf-Gymnasium und Eugen-Bolz-Realschule\, 73479 Ellwangen (Jagst)
CATEGORIES:Ausbildung
ATTACH;FMTTYPE=image/jpeg:https://izzbw.de/wp-content/uploads/VORSCHAU_JPF_200710_1715.jpg
END:VEVENT
BEGIN:VEVENT
DTSTART;TZID=Europe/Berlin:20221118T150000
DTEND;TZID=Europe/Berlin:20221118T190000
DTSTAMP:20260421T062217
CREATED:20221018T145946Z
LAST-MODIFIED:20221018T145946Z
UID:10000112-1668783600-1668798000@izzbw.de
SUMMARY:Marktplatz: Arbeit Südbaden\, Freiburg
DESCRIPTION:
URL:https://izzbw.de/termin/marktplatz-arbeit-suedbaden-freiburg-3/
LOCATION:Messe Freiburg\, Hermann-Mitsch-Straße 3\, Freiburg im Breisgau\, 79108
CATEGORIES:Ausbildung
ATTACH;FMTTYPE=image/jpeg:https://izzbw.de/wp-content/uploads/JPF_200504_8744-scaled-1.jpg
END:VEVENT
BEGIN:VEVENT
DTSTART;TZID=Europe/Berlin:20221117T080000
DTEND;TZID=Europe/Berlin:20221117T160000
DTSTAMP:20260421T062217
CREATED:20221018T144609Z
LAST-MODIFIED:20221018T144609Z
UID:10000111-1668672000-1668700800@izzbw.de
SUMMARY:Berufe am See\, Überlingen
DESCRIPTION:
URL:https://izzbw.de/termin/berufe-am-see-ueberlingen/
LOCATION:Kinderpass-Einleger-Schwangerschaft-ukrainisch.jpg
CATEGORIES:Ausbildung
ATTACH;FMTTYPE=image/jpeg:https://izzbw.de/wp-content/uploads/VORSCHAU_JPF_200710_2497-1.jpg
END:VEVENT
BEGIN:VEVENT
DTSTART;TZID=Europe/Berlin:20221112T093000
DTEND;TZID=Europe/Berlin:20221112T163000
DTSTAMP:20260421T062217
CREATED:20221018T142145Z
LAST-MODIFIED:20221018T142145Z
UID:10000110-1668245400-1668270600@izzbw.de
SUMMARY:Ausbildungs- und Studienmesse\, Heidenheim
DESCRIPTION:
URL:https://izzbw.de/termin/ausbildungs-und-studienmesse-heidenheim/
LOCATION:Kinderpass-ukrainisch.jpg
CATEGORIES:Ausbildung
ATTACH;FMTTYPE=image/jpeg:https://izzbw.de/wp-content/uploads/VORSCHAU_JPF_200710_3282-1.jpg
END:VEVENT
BEGIN:VEVENT
DTSTART;TZID=Europe/Berlin:20221112T080000
DTEND;TZID=Europe/Berlin:20221112T170000
DTSTAMP:20260421T062217
CREATED:20221018T135717Z
LAST-MODIFIED:20221018T135717Z
UID:10000109-1668240000-1668272400@izzbw.de
SUMMARY:Bildung\, Göppingen
DESCRIPTION:
URL:https://izzbw.de/termin/bildung-goeppingen-3/
LOCATION:Werthalle\, Manfred-Wörner-Str. 104\, Göppingen\, 73037
CATEGORIES:Ausbildung
ATTACH;FMTTYPE=image/jpeg:https://izzbw.de/wp-content/uploads/VORSCHAU_JPF_200710_1796-1.jpg
END:VEVENT
BEGIN:VEVENT
DTSTART;TZID=Europe/Berlin:20221028T090000
DTEND;TZID=Europe/Berlin:20221028T123000
DTSTAMP:20260421T062217
CREATED:20221018T134614Z
LAST-MODIFIED:20221018T134614Z
UID:10000108-1666947600-1666960200@izzbw.de
SUMMARY:Job-Start-Börse\, Breisach am Rhein
DESCRIPTION:
URL:https://izzbw.de/termin/job-start-boerse-breisach-am-rhein-2/
LOCATION:Kinderpass-deutsch.jpg
CATEGORIES:Ausbildung
ATTACH;FMTTYPE=image/jpeg:https://izzbw.de/wp-content/uploads/VORSCHAU_JPF_200710_2082.jpg
END:VEVENT
BEGIN:VEVENT
DTSTART;TZID=Europe/Berlin:20221027T180000
DTEND;TZID=Europe/Berlin:20221027T203000
DTSTAMP:20260421T062217
CREATED:20221018T133511Z
LAST-MODIFIED:20221018T133511Z
UID:10000107-1666893600-1666902600@izzbw.de
SUMMARY:Job-Start-Börse\, Breisach am Rhein
DESCRIPTION:
URL:https://izzbw.de/termin/job-start-boerse-breisach-am-rhein/
LOCATION:Kinderpass-deutsch.jpg
CATEGORIES:Ausbildung
ATTACH;FMTTYPE=image/jpeg:https://izzbw.de/wp-content/uploads/VORSCHAU_JPF_200710_2082.jpg
END:VEVENT
BEGIN:VEVENT
DTSTART;TZID=Europe/Berlin:20221026T083000
DTEND;TZID=Europe/Berlin:20221026T130000
DTSTAMP:20260421T062217
CREATED:20221018T120304Z
LAST-MODIFIED:20221018T120304Z
UID:10000106-1666773000-1666789200@izzbw.de
SUMMARY:Job-Start-Börse\, Waldkirch-Kollnau
DESCRIPTION:
URL:https://izzbw.de/termin/job-start-boerse-waldkirch-kollnau-2/
LOCATION:Kinderpass-Einleger-Schwangerschaft-deutsch.jpg
CATEGORIES:Ausbildung
ATTACH;FMTTYPE=image/jpeg:https://izzbw.de/wp-content/uploads/VORSCHAU_JPF_200710_2170.jpg
END:VEVENT
BEGIN:VEVENT
DTSTART;TZID=Europe/Berlin:20221025T180000
DTEND;TZID=Europe/Berlin:20221025T203000
DTSTAMP:20260421T062217
CREATED:20221018T115430Z
LAST-MODIFIED:20221018T115430Z
UID:10000105-1666720800-1666729800@izzbw.de
SUMMARY:Job-Start-Börse\, Waldkirch-Kollnau
DESCRIPTION:
URL:https://izzbw.de/termin/job-start-boerse-waldkirch-kollnau/
LOCATION:Kinderpass-Einleger-Schwangerschaft-deutsch.jpg
CATEGORIES:Ausbildung
ATTACH;FMTTYPE=image/jpeg:https://izzbw.de/wp-content/uploads/VORSCHAU_JPF_200710_2170.jpg
END:VEVENT
BEGIN:VEVENT
DTSTART;TZID=Europe/Berlin:20221022T100000
DTEND;TZID=Europe/Berlin:20221022T140000
DTSTAMP:20260421T062217
CREATED:20220930T131524Z
LAST-MODIFIED:20220930T131524Z
UID:10000104-1666432800-1666447200@izzbw.de
SUMMARY:Job-Start-Börse\, Titisee-Neustadt
DESCRIPTION:
URL:https://izzbw.de/termin/job-start-boerse-titisee-neustadt-2/
LOCATION:Kurhaus am Titisee\, Strandbadstraße 4\, Titisee-Neustadt\, 79822
CATEGORIES:Ausbildung
ATTACH;FMTTYPE=image/jpeg:https://izzbw.de/wp-content/uploads/VORSCHAU_JPF_200710_3651.jpg
END:VEVENT
BEGIN:VEVENT
DTSTART;TZID=Europe/Berlin:20221022T100000
DTEND;TZID=Europe/Berlin:20221022T130000
DTSTAMP:20260421T062218
CREATED:20220930T131322Z
LAST-MODIFIED:20220930T131322Z
UID:10000103-1666432800-1666443600@izzbw.de
SUMMARY:BANE - Berufs-Ausbildung Neckar-Enz\, Besigheim
DESCRIPTION:
URL:https://izzbw.de/termin/bane-berufs-ausbildung-neckar-enz-besigheim-2/
LOCATION:Stadthalle Alte Kelter Besigheim\, Hauptstraße 57\, Besigheim\, 74354
CATEGORIES:Ausbildung
ATTACH;FMTTYPE=image/jpeg:https://izzbw.de/wp-content/uploads/Header-Patienten-1.jpg
END:VEVENT
BEGIN:VEVENT
DTSTART;TZID=Europe/Berlin:20221021T090000
DTEND;TZID=Europe/Berlin:20221021T123000
DTSTAMP:20260421T062218
CREATED:20220930T130755Z
LAST-MODIFIED:20220930T130755Z
UID:10000101-1666342800-1666355400@izzbw.de
SUMMARY:Job-Start-Börse\, Emmendingen
DESCRIPTION:
URL:https://izzbw.de/termin/job-start-boerse-emmendingen-4/
LOCATION:Fritz-Boehle-Halle\, Rosenweg 3\, Emmendingen\, 79312
CATEGORIES:Ausbildung
ATTACH;FMTTYPE=image/jpeg:https://izzbw.de/wp-content/uploads/VORSCHAU_JPF_200710_1988.jpg
END:VEVENT
BEGIN:VEVENT
DTSTART;TZID=Europe/Berlin:20221021T080000
DTEND;TZID=Europe/Berlin:20221111T170000
DTSTAMP:20260421T062218
CREATED:20220930T131030Z
LAST-MODIFIED:20220930T131030Z
UID:10000102-1666339200-1668186000@izzbw.de
SUMMARY:BANE - Berufs-Ausbildung Neckar-Enz\, Besigheim
DESCRIPTION:
URL:https://izzbw.de/termin/bane-berufs-ausbildung-neckar-enz-besigheim/
LOCATION:Stadthalle Alte Kelter Besigheim\, Hauptstraße 57\, Besigheim\, 74354
CATEGORIES:Ausbildung
ATTACH;FMTTYPE=image/jpeg:https://izzbw.de/wp-content/uploads/Header-Patienten-1.jpg
END:VEVENT
BEGIN:VEVENT
DTSTART;TZID=Europe/Berlin:20221020T180000
DTEND;TZID=Europe/Berlin:20221020T203000
DTSTAMP:20260421T062218
CREATED:20220930T130605Z
LAST-MODIFIED:20220930T130605Z
UID:10000100-1666288800-1666297800@izzbw.de
SUMMARY:Job-Start-Börse\, Emmendingen
DESCRIPTION:
URL:https://izzbw.de/termin/job-start-boerse-emmendingen-3/
LOCATION:Fritz-Boehle-Halle\, Rosenweg 3\, Emmendingen\, 79312
CATEGORIES:Ausbildung
ATTACH;FMTTYPE=image/jpeg:https://izzbw.de/wp-content/uploads/VORSCHAU_JPF_200710_1988.jpg
END:VEVENT
BEGIN:VEVENT
DTSTART;TZID=Europe/Berlin:20221019T083000
DTEND;TZID=Europe/Berlin:20221019T120000
DTSTAMP:20260421T062218
CREATED:20220930T130259Z
LAST-MODIFIED:20220930T130259Z
UID:10000099-1666168200-1666180800@izzbw.de
SUMMARY:Job-Start-Börse\, Müllheim
DESCRIPTION:
URL:https://izzbw.de/termin/job-start-boerse-muellheim-4/
LOCATION:Bürgerhaus Müllheim\, Hauptstraße 122\, Müllheim\, 79379
CATEGORIES:Ausbildung
ATTACH;FMTTYPE=image/jpeg:https://izzbw.de/wp-content/uploads/VORSCHAU_JPF_200710_1715.jpg
END:VEVENT
BEGIN:VEVENT
DTSTART;TZID=Europe/Berlin:20221018T180000
DTEND;TZID=Europe/Berlin:20221018T200000
DTSTAMP:20260421T062218
CREATED:20220930T130130Z
LAST-MODIFIED:20220930T130130Z
UID:10000098-1666116000-1666123200@izzbw.de
SUMMARY:Job-Start-Börse\, Müllheim
DESCRIPTION:
URL:https://izzbw.de/termin/job-start-boerse-muellheim-3/
LOCATION:Bürgerhaus Müllheim\, Hauptstraße 122\, Müllheim\, 79379
CATEGORIES:Ausbildung
ATTACH;FMTTYPE=image/jpeg:https://izzbw.de/wp-content/uploads/VORSCHAU_JPF_200710_1715.jpg
END:VEVENT
BEGIN:VEVENT
DTSTART;TZID=Europe/Berlin:20221014T090000
DTEND;TZID=Europe/Berlin:20221014T170000
DTSTAMP:20260421T062218
CREATED:20220103T152059Z
LAST-MODIFIED:20220103T152059Z
UID:10000070-1665738000-1665766800@izzbw.de
SUMMARY:Durchstarter\, Nürtingen
DESCRIPTION:
URL:https://izzbw.de/termin/durchstarter-nuertingen/
LOCATION:Stadthalle K3N\, Heiligkreuzstraße 4\, Nürtingen\, 72622
CATEGORIES:Ausbildung
ATTACH;FMTTYPE=image/jpeg:https://izzbw.de/wp-content/uploads/JPF_200504_8744-scaled-1.jpg
END:VEVENT
BEGIN:VEVENT
DTSTART;TZID=Europe/Berlin:20221013T090000
DTEND;TZID=Europe/Berlin:20221013T160000
DTSTAMP:20260421T062218
CREATED:20220930T125913Z
LAST-MODIFIED:20220930T125913Z
UID:10000097-1665651600-1665676800@izzbw.de
SUMMARY:Berufsorientierungstag\, Waldshut
DESCRIPTION:
URL:https://izzbw.de/termin/berufsorientierungstag-waldshut/
LOCATION:Gewerbliche Schulen Waldshut\, Friedrichstraße 22\, Waldshut\, 79761
CATEGORIES:Ausbildung
ATTACH;FMTTYPE=image/jpeg:https://izzbw.de/wp-content/uploads/VORSCHAU_JPF_200710_2497-1.jpg
END:VEVENT
BEGIN:VEVENT
DTSTART;TZID=Europe/Berlin:20221008T093000
DTEND;TZID=Europe/Berlin:20221008T130000
DTSTAMP:20260421T062218
CREATED:20220930T125645Z
LAST-MODIFIED:20220930T125645Z
UID:10000096-1665221400-1665234000@izzbw.de
SUMMARY:IBIS\, Holzgerlingen
DESCRIPTION:
URL:https://izzbw.de/termin/ibis-holzgerlingen-2/
LOCATION:Stadthalle Holzgerlingen\, Berkenstraße 18\, Holzgerlingen\, 71088
CATEGORIES:Ausbildung
ATTACH;FMTTYPE=image/jpeg:https://izzbw.de/wp-content/uploads/VORSCHAU_JPF_200710_3165.jpg
END:VEVENT
BEGIN:VEVENT
DTSTART;TZID=Europe/Berlin:20221008T090000
DTEND;TZID=Europe/Berlin:20221008T140000
DTSTAMP:20260421T062218
CREATED:20220930T125447Z
LAST-MODIFIED:20220930T125447Z
UID:10000095-1665219600-1665237600@izzbw.de
SUMMARY:Aus- und Weiterbildungsbörse\, Mühlacker-Pforzheim-Enzkreis
DESCRIPTION:
URL:https://izzbw.de/termin/aus-und-weiterbildungsboerse-muehlacker-pforzheim-enzkreis/
LOCATION:Berufliche Schule Mühlacker\, Lienzinger Str. 46\, Mühlacker\, 75417
CATEGORIES:Ausbildung
ATTACH;FMTTYPE=image/jpeg:https://izzbw.de/wp-content/uploads/VORSCHAU_JPF_200710_2082.jpg
END:VEVENT
BEGIN:VEVENT
DTSTART;TZID=Europe/Berlin:20220923T100000
DTEND;TZID=Europe/Berlin:20220924T160000
DTSTAMP:20260421T062218
CREATED:20220905T121521Z
LAST-MODIFIED:20220905T121521Z
UID:10000094-1663927200-1664035200@izzbw.de
SUMMARY:First Job. Ausbildungsmesse\, Stuttgart
DESCRIPTION:
URL:https://izzbw.de/termin/first-job-ausbildungsmesse-stuttgart-2/
LOCATION:Wagenhallen Stuttgart\,\, Innerer Nordbahnhof 1\, Stuttgart\, 70191
CATEGORIES:Ausbildung
ATTACH;FMTTYPE=image/jpeg:https://izzbw.de/wp-content/uploads/VORSCHAU_JPF_200710_1518.jpg
END:VEVENT
BEGIN:VEVENT
DTSTART;TZID=Europe/Berlin:20220922T090000
DTEND;TZID=Europe/Berlin:20220924T170000
DTSTAMP:20260421T062218
CREATED:20211221T151138Z
LAST-MODIFIED:20211221T151138Z
UID:10000064-1663837200-1664038800@izzbw.de
SUMMARY:Jobs for Future\, Villingen-Schwenningen
DESCRIPTION:
URL:https://izzbw.de/termin/jobs-for-future-villingen-schwenningen-2/
LOCATION:Messegelände VS-Schwenningen\, Waldeckweg 1\, Villingen-Schwenningen\, 78056
CATEGORIES:Ausbildung
ATTACH;FMTTYPE=image/jpeg:https://izzbw.de/wp-content/uploads/VORSCHAU_JPF_200710_2170.jpg
END:VEVENT
BEGIN:VEVENT
DTSTART;TZID=Europe/Berlin:20220922T090000
DTEND;TZID=Europe/Berlin:20220924T160000
DTSTAMP:20260421T062218
CREATED:20220727T151232Z
LAST-MODIFIED:20220727T151232Z
UID:10000093-1663837200-1664035200@izzbw.de
SUMMARY:Bildungsmesse\, Balingen
DESCRIPTION:
URL:https://izzbw.de/termin/bildungsmesse-balingen/
LOCATION:Volksbankmesse Balingen\, Auf Stetten\, Balingen\, 72336
CATEGORIES:Ausbildung
ATTACH;FMTTYPE=image/jpeg:https://izzbw.de/wp-content/uploads/VORSCHAU_JPF_200710_2942.jpg
END:VEVENT
BEGIN:VEVENT
DTSTART;TZID=Europe/Berlin:20220915T090000
DTEND;TZID=Europe/Berlin:20220917T170000
DTSTAMP:20260421T062218
CREATED:20211221T150240Z
LAST-MODIFIED:20211221T150240Z
UID:10000062-1663232400-1663434000@izzbw.de
SUMMARY:Jobs for Future\, Mannheim
DESCRIPTION:
URL:https://izzbw.de/termin/jobs-for-future-mannheim-2/
LOCATION:Maimarkthalle Mannheim\, Xaver-Fuhr-Straße. 101\, Mannheim\, 68163
CATEGORIES:Ausbildung
ATTACH;FMTTYPE=image/jpeg:https://izzbw.de/wp-content/uploads/Franziska-Kraufmann-2-scaled-1.jpg
END:VEVENT
BEGIN:VEVENT
DTSTART;TZID=Europe/Berlin:20220719T090000
DTEND;TZID=Europe/Berlin:20220719T170000
DTSTAMP:20260421T062218
CREATED:20220713T120629Z
LAST-MODIFIED:20220713T120629Z
UID:10000092-1658221200-1658250000@izzbw.de
SUMMARY:WHAT 2022\, Weinheim
DESCRIPTION:
URL:https://izzbw.de/termin/what-2022-weinheim/
LOCATION:Stadthalle Weinheim\, Birkenauer Talstraße 1\, Weinheim\, 69469
CATEGORIES:Ausbildung
ATTACH;FMTTYPE=image/jpeg:https://izzbw.de/wp-content/uploads/VORSCHAU_JPF_200710_1518.jpg
END:VEVENT
BEGIN:VEVENT
DTSTART;TZID=Europe/Berlin:20220624T090000
DTEND;TZID=Europe/Berlin:20220624T170000
DTSTAMP:20260421T062218
CREATED:20211222T101734Z
LAST-MODIFIED:20211222T101734Z
UID:10000069-1656061200-1656090000@izzbw.de
SUMMARY:Future 4 you\, Biberach
DESCRIPTION:
URL:https://izzbw.de/termin/future-4-you-biberach-2/
LOCATION:Kaufland Biberach\, Ob. Stegwiesen 10\, Biberach an der Riß\, 88400
CATEGORIES:Ausbildung
ATTACH;FMTTYPE=image/jpeg:https://izzbw.de/wp-content/uploads/VORSCHAU_JPF_200710_3793.jpg
END:VEVENT
BEGIN:VEVENT
DTSTART;TZID=Europe/Berlin:20220624T080000
DTEND;TZID=Europe/Berlin:20220625T170000
DTSTAMP:20260421T062218
CREATED:20220104T101241Z
LAST-MODIFIED:20220104T101241Z
UID:10000072-1656057600-1656176400@izzbw.de
SUMMARY:Fokus Beruf\, Rems-Murr-Kreis\, Schorndorf
DESCRIPTION:
URL:https://izzbw.de/termin/fokus-beruf-rems-murr-kreis-schorndorf/
LOCATION:Schulzentrum Grauhalde\, Rehhaldenweg 10\, Schorndorf\, 73614
CATEGORIES:Ausbildung
ATTACH;FMTTYPE=image/jpeg:https://izzbw.de/wp-content/uploads/DSC_8358-scaled-1.jpg
END:VEVENT
BEGIN:VEVENT
DTSTART;TZID=Europe/Berlin:20220521T090000
DTEND;TZID=Europe/Berlin:20220521T130000
DTSTAMP:20260421T062218
CREATED:20220104T151855Z
LAST-MODIFIED:20220104T151855Z
UID:10000081-1653123600-1653138000@izzbw.de
SUMMARY:Ausbildungsmesse Ostwürttemberg\, Aalen
DESCRIPTION:
URL:https://izzbw.de/termin/ausbildungsmesse-ostwuerttemberg-aalen-2/
LOCATION:Berufliches Schulzentrum Aalen\, Steinbeisstraße 4\, Aalen\, 73430
CATEGORIES:Ausbildung
ATTACH;FMTTYPE=image/jpeg:https://izzbw.de/wp-content/uploads/VORSCHAU_JPF_200710_3282-1.jpg
END:VEVENT
BEGIN:VEVENT
DTSTART;TZID=Europe/Berlin:20220520T093000
DTEND;TZID=Europe/Berlin:20220520T160000
DTSTAMP:20260421T062218
CREATED:20220209T155458Z
LAST-MODIFIED:20220209T155458Z
UID:10000086-1653039000-1653062400@izzbw.de
SUMMARY:Zukunft Karriere\, Tauberbischofsheim
DESCRIPTION:
URL:https://izzbw.de/termin/zukunft-karriere-tauberbischofsheim-3/
LOCATION:Fechtzentrum\, Pestalozziallee 12\, Tauberbischofsheim\, 97941
CATEGORIES:Ausbildung
ATTACH;FMTTYPE=image/jpeg:https://izzbw.de/wp-content/uploads/VORSCHAU_JPF_200710_1988.jpg
END:VEVENT
END:VCALENDAR