BEGIN:VCALENDAR
VERSION:2.0
PRODID:-//IZZBW - ECPv6.15.20//NONSGML v1.0//EN
CALSCALE:GREGORIAN
METHOD:PUBLISH
X-ORIGINAL-URL:https://izzbw.de
X-WR-CALDESC:Veranstaltungen für IZZBW
REFRESH-INTERVAL;VALUE=DURATION:PT1H
X-Robots-Tag:noindex
X-PUBLISHED-TTL:PT1H
BEGIN:VTIMEZONE
TZID:Europe/Berlin
BEGIN:DAYLIGHT
TZOFFSETFROM:+0100
TZOFFSETTO:+0200
TZNAME:CEST
DTSTART:20230326T010000
END:DAYLIGHT
BEGIN:STANDARD
TZOFFSETFROM:+0200
TZOFFSETTO:+0100
TZNAME:CET
DTSTART:20231029T010000
END:STANDARD
BEGIN:DAYLIGHT
TZOFFSETFROM:+0100
TZOFFSETTO:+0200
TZNAME:CEST
DTSTART:20240331T010000
END:DAYLIGHT
BEGIN:STANDARD
TZOFFSETFROM:+0200
TZOFFSETTO:+0100
TZNAME:CET
DTSTART:20241027T010000
END:STANDARD
BEGIN:DAYLIGHT
TZOFFSETFROM:+0100
TZOFFSETTO:+0200
TZNAME:CEST
DTSTART:20250330T010000
END:DAYLIGHT
BEGIN:STANDARD
TZOFFSETFROM:+0200
TZOFFSETTO:+0100
TZNAME:CET
DTSTART:20251026T010000
END:STANDARD
END:VTIMEZONE
BEGIN:VEVENT
DTSTART;TZID=Europe/Berlin:20240419T090000
DTEND;TZID=Europe/Berlin:20240420T170000
DTSTAMP:20260423T111800
CREATED:20240104T091155Z
LAST-MODIFIED:20240104T091155Z
UID:10000214-1713517200-1713632400@izzbw.de
SUMMARY:Berufinfomesse\, Offenburg
DESCRIPTION:
URL:https://izzbw.de/termin/berufinfomesse-offenburg/
LOCATION:Messegelände Offenburg\, Oberrheinhalle\, Ortenauhalle und Baden-Arena\, Schutterwälder Str. 3\, Offenburg\, 77656
CATEGORIES:Ausbildung
ATTACH;FMTTYPE=image/jpeg:https://izzbw.de/wp-content/uploads/VORSCHAU_JPF_200710_3793-1.jpg
END:VEVENT
BEGIN:VEVENT
DTSTART;TZID=Europe/Berlin:20240420T090000
DTEND;TZID=Europe/Berlin:20240420T130000
DTSTAMP:20260423T111800
CREATED:20240104T091717Z
LAST-MODIFIED:20240104T091717Z
UID:10000215-1713603600-1713618000@izzbw.de
SUMMARY:Ausbildungsmesse\, Geislingen an der Steige
DESCRIPTION:
URL:https://izzbw.de/termin/ausbildungsmesse-geislingen-an-der-steige-2/
LOCATION:Berufschule Geislingen\, Rheinlandstraße 80\, Geislingen an der Steige\, 73312
CATEGORIES:Ausbildung
ATTACH;FMTTYPE=image/jpeg:https://izzbw.de/wp-content/uploads/VORSCHAU_JPF_200710_2891-1.jpg
END:VEVENT
END:VCALENDAR