BEGIN:VCALENDAR
VERSION:2.0
PRODID:-//IZZBW - ECPv6.15.20//NONSGML v1.0//EN
CALSCALE:GREGORIAN
METHOD:PUBLISH
X-ORIGINAL-URL:https://izzbw.de
X-WR-CALDESC:Veranstaltungen für IZZBW
REFRESH-INTERVAL;VALUE=DURATION:PT1H
X-Robots-Tag:noindex
X-PUBLISHED-TTL:PT1H
BEGIN:VTIMEZONE
TZID:Europe/Berlin
BEGIN:DAYLIGHT
TZOFFSETFROM:+0100
TZOFFSETTO:+0200
TZNAME:CEST
DTSTART:20230326T010000
END:DAYLIGHT
BEGIN:STANDARD
TZOFFSETFROM:+0200
TZOFFSETTO:+0100
TZNAME:CET
DTSTART:20231029T010000
END:STANDARD
BEGIN:DAYLIGHT
TZOFFSETFROM:+0100
TZOFFSETTO:+0200
TZNAME:CEST
DTSTART:20240331T010000
END:DAYLIGHT
BEGIN:STANDARD
TZOFFSETFROM:+0200
TZOFFSETTO:+0100
TZNAME:CET
DTSTART:20241027T010000
END:STANDARD
BEGIN:DAYLIGHT
TZOFFSETFROM:+0100
TZOFFSETTO:+0200
TZNAME:CEST
DTSTART:20250330T010000
END:DAYLIGHT
BEGIN:STANDARD
TZOFFSETFROM:+0200
TZOFFSETTO:+0100
TZNAME:CET
DTSTART:20251026T010000
END:STANDARD
END:VTIMEZONE
BEGIN:VEVENT
DTSTART;TZID=Europe/Berlin:20240308T083000
DTEND;TZID=Europe/Berlin:20240308T143000
DTSTAMP:20260423T122821
CREATED:20240104T074812Z
LAST-MODIFIED:20240104T074812Z
UID:10000205-1709886600-1709908200@izzbw.de
SUMMARY:Karrieremesse Bodensee- Oberschwaben- Allgäu\, Friedrichshafen
DESCRIPTION:
URL:https://izzbw.de/termin/karrieremesse-bodensee-oberschwaben-allgaeu-friedrichshafen/
LOCATION:Messe Friedrichshafen\, Neue Messe 1\, Friedrichshafen\, 88046
CATEGORIES:Ausbildung
ATTACH;FMTTYPE=image/jpeg:https://izzbw.de/wp-content/uploads/VORSCHAU_JPF_200710_2891-1.jpg
END:VEVENT
BEGIN:VEVENT
DTSTART;TZID=Europe/Berlin:20240308T090000
DTEND;TZID=Europe/Berlin:20240309T160000
DTSTAMP:20260423T122821
CREATED:20240229T150436Z
LAST-MODIFIED:20240229T150436Z
UID:10000223-1709888400-1710000000@izzbw.de
SUMMARY:Karriere. Ausbildungs- und Weiterbildungsmesse\, Esslingen
DESCRIPTION:
URL:https://izzbw.de/termin/karriere-ausbildungs-und-weiterbildungsmesse-esslingen/
LOCATION:Neckar Forum\, Ebershaldenstraße 12\, Esslingen am Neckar\, 73728
CATEGORIES:Ausbildung
ATTACH;FMTTYPE=image/jpeg:https://izzbw.de/wp-content/uploads/VORSCHAU_JPF_200710_2040.jpg
END:VEVENT
BEGIN:VEVENT
DTSTART;TZID=Europe/Berlin:20240308T160000
DTEND;TZID=Europe/Berlin:20240308T200000
DTSTAMP:20260423T122821
CREATED:20240104T075445Z
LAST-MODIFIED:20240104T075445Z
UID:10000206-1709913600-1709928000@izzbw.de
SUMMARY:Gmünder Ausbildungs- und Studienmesse\, Schwäbisch Gmünd
DESCRIPTION:
URL:https://izzbw.de/termin/gmuender-ausbildungs-und-studienmesse-schwaebisch-gmuend/
LOCATION:Congress-Centrum Stadtgarten\, Rektor-Klaus-Straße 9\, Schwäbisch Gmünd\, 73525
CATEGORIES:Ausbildung
ATTACH;FMTTYPE=image/jpeg:https://izzbw.de/wp-content/uploads/VORSCHAU_JPF_200710_2497-2.jpg
END:VEVENT
END:VCALENDAR