BEGIN:VCALENDAR
VERSION:2.0
PRODID:-//IZZBW - ECPv6.15.20//NONSGML v1.0//EN
CALSCALE:GREGORIAN
METHOD:PUBLISH
X-WR-CALNAME:IZZBW
X-ORIGINAL-URL:https://izzbw.de
X-WR-CALDESC:Veranstaltungen für IZZBW
REFRESH-INTERVAL;VALUE=DURATION:PT1H
X-Robots-Tag:noindex
X-PUBLISHED-TTL:PT1H
BEGIN:VTIMEZONE
TZID:Europe/Berlin
BEGIN:DAYLIGHT
TZOFFSETFROM:+0100
TZOFFSETTO:+0200
TZNAME:CEST
DTSTART:20230326T010000
END:DAYLIGHT
BEGIN:STANDARD
TZOFFSETFROM:+0200
TZOFFSETTO:+0100
TZNAME:CET
DTSTART:20231029T010000
END:STANDARD
BEGIN:DAYLIGHT
TZOFFSETFROM:+0100
TZOFFSETTO:+0200
TZNAME:CEST
DTSTART:20240331T010000
END:DAYLIGHT
BEGIN:STANDARD
TZOFFSETFROM:+0200
TZOFFSETTO:+0100
TZNAME:CET
DTSTART:20241027T010000
END:STANDARD
BEGIN:DAYLIGHT
TZOFFSETFROM:+0100
TZOFFSETTO:+0200
TZNAME:CEST
DTSTART:20250330T010000
END:DAYLIGHT
BEGIN:STANDARD
TZOFFSETFROM:+0200
TZOFFSETTO:+0100
TZNAME:CET
DTSTART:20251026T010000
END:STANDARD
END:VTIMEZONE
BEGIN:VEVENT
DTSTART;TZID=Europe/Berlin:20240201T140000
DTEND;TZID=Europe/Berlin:20240202T133000
DTSTAMP:20260423T134512
CREATED:20231121T142807Z
LAST-MODIFIED:20231121T142807Z
UID:10000191-1706796000-1706880600@izzbw.de
SUMMARY:Job-Start-Börse\, Freiburg
DESCRIPTION:
URL:https://izzbw.de/termin/job-start-boerse-freiburg-3/
LOCATION:Messe Freiburg\, Hermann-Mitsch-Straße 3\, Freiburg im Breisgau\, 79108
CATEGORIES:Ausbildung
ATTACH;FMTTYPE=image/jpeg:https://izzbw.de/wp-content/uploads/VORSCHAU_JPF_200710_3651-2.jpg
END:VEVENT
BEGIN:VEVENT
DTSTART;TZID=Europe/Berlin:20240202T090000
DTEND;TZID=Europe/Berlin:20240202T150000
DTSTAMP:20260423T134512
CREATED:20231122T080438Z
LAST-MODIFIED:20231122T080438Z
UID:10000194-1706864400-1706886000@izzbw.de
SUMMARY:Marktplatz Ausbildung\, Bad Saulgau
DESCRIPTION:
URL:https://izzbw.de/termin/marktplatz-ausbildung-bad-saulgau/
LOCATION:Berufschulzentrum Bad Saulgau\, Wuhrweg 36\, Bad Saulgau\, 88348
CATEGORIES:Ausbildung
ATTACH;FMTTYPE=image/jpeg:https://izzbw.de/wp-content/uploads/VORSCHAU_JPF_200710_1796.jpg
END:VEVENT
BEGIN:VEVENT
DTSTART;TZID=Europe/Berlin:20240202T090000
DTEND;TZID=Europe/Berlin:20240202T150000
DTSTAMP:20260423T134512
CREATED:20231213T102902Z
LAST-MODIFIED:20231213T102902Z
UID:10000195-1706864400-1706886000@izzbw.de
SUMMARY:Marktplatz Ausbildung\, Bad Saulgau
DESCRIPTION:
URL:https://izzbw.de/termin/marktplatz-ausbildung-bad-saulgau-2/
LOCATION:Berufschulzentrum Bad Saulgau\, Wuhrweg 36\, Bad Saulgau\, 88348
CATEGORIES:Ausbildung
ATTACH;FMTTYPE=image/jpeg:https://izzbw.de/wp-content/uploads/VORSCHAU_JPF_200710_1548.jpg
END:VEVENT
BEGIN:VEVENT
DTSTART;TZID=Europe/Berlin:20240202T130000
DTEND;TZID=Europe/Berlin:20240202T160000
DTSTAMP:20260423T134512
CREATED:20231121T143841Z
LAST-MODIFIED:20231121T143841Z
UID:10000192-1706878800-1706889600@izzbw.de
SUMMARY:Berufsinformationstag\, Gäufelden
DESCRIPTION:
URL:https://izzbw.de/termin/berufsinformationstag-gaeufelden/
LOCATION:Gemeinschaftsschule Gäufelden\, Schollerstraße 10\, Gäufelden\, 71126
CATEGORIES:Ausbildung
ATTACH;FMTTYPE=image/jpeg:https://izzbw.de/wp-content/uploads/VORSCHAU_JPF_200710_2073-1.jpg
END:VEVENT
END:VCALENDAR