BEGIN:VCALENDAR
VERSION:2.0
PRODID:-//IZZBW - ECPv6.15.20//NONSGML v1.0//EN
CALSCALE:GREGORIAN
METHOD:PUBLISH
X-WR-CALNAME:IZZBW
X-ORIGINAL-URL:https://izzbw.de
X-WR-CALDESC:Veranstaltungen für IZZBW
REFRESH-INTERVAL;VALUE=DURATION:PT1H
X-Robots-Tag:noindex
X-PUBLISHED-TTL:PT1H
BEGIN:VTIMEZONE
TZID:Europe/Berlin
BEGIN:DAYLIGHT
TZOFFSETFROM:+0100
TZOFFSETTO:+0200
TZNAME:CEST
DTSTART:20220327T010000
END:DAYLIGHT
BEGIN:STANDARD
TZOFFSETFROM:+0200
TZOFFSETTO:+0100
TZNAME:CET
DTSTART:20221030T010000
END:STANDARD
BEGIN:DAYLIGHT
TZOFFSETFROM:+0100
TZOFFSETTO:+0200
TZNAME:CEST
DTSTART:20230326T010000
END:DAYLIGHT
BEGIN:STANDARD
TZOFFSETFROM:+0200
TZOFFSETTO:+0100
TZNAME:CET
DTSTART:20231029T010000
END:STANDARD
BEGIN:DAYLIGHT
TZOFFSETFROM:+0100
TZOFFSETTO:+0200
TZNAME:CEST
DTSTART:20240331T010000
END:DAYLIGHT
BEGIN:STANDARD
TZOFFSETFROM:+0200
TZOFFSETTO:+0100
TZNAME:CET
DTSTART:20241027T010000
END:STANDARD
END:VTIMEZONE
BEGIN:VEVENT
DTSTART;TZID=Europe/Berlin:20231014T090000
DTEND;TZID=Europe/Berlin:20231014T140000
DTSTAMP:20260423T182813
CREATED:20230727T105651Z
LAST-MODIFIED:20230727T120542Z
UID:10000167-1697274000-1697292000@izzbw.de
SUMMARY:Aus- und Weiterbildungsbörse\, Mühlacker-Pforzheim-Enzkreis
DESCRIPTION:
URL:https://izzbw.de/termin/aus-und-weiterbildungsboerse-muehlacker-pforzheim-enzkreis-2/
LOCATION:Berufliche Schule Mühlacker\, Lienzinger Str. 46\, Mühlacker\, 75417
CATEGORIES:Ausbildung
ATTACH;FMTTYPE=image/jpeg:https://izzbw.de/wp-content/uploads/VORSCHAU_JPF_200710_1839.jpg
END:VEVENT
BEGIN:VEVENT
DTSTART;TZID=Europe/Berlin:20231014T093000
DTEND;TZID=Europe/Berlin:20231014T130000
DTSTAMP:20260423T182813
CREATED:20230620T142058Z
LAST-MODIFIED:20230620T142058Z
UID:10000157-1697275800-1697288400@izzbw.de
SUMMARY:IBIS\, Holzgerlingen
DESCRIPTION:
URL:https://izzbw.de/termin/ibis-holzgerlingen-3/
LOCATION:Stadthalle Holzgerlingen\, Berkenstraße 18\, Holzgerlingen\, 71088
CATEGORIES:Ausbildung
ATTACH;FMTTYPE=image/jpeg:https://izzbw.de/wp-content/uploads/VORSCHAU_JPF_200710_1446.jpg
END:VEVENT
BEGIN:VEVENT
DTSTART;TZID=Europe/Berlin:20231014T100000
DTEND;TZID=Europe/Berlin:20231014T140000
DTSTAMP:20260423T182813
CREATED:20230727T091427Z
LAST-MODIFIED:20230727T091427Z
UID:10000164-1697277600-1697292000@izzbw.de
SUMMARY:Bildungsmesse\, Balingen
DESCRIPTION:
URL:https://izzbw.de/termin/bildungsmesse-balingen-4/
LOCATION:Volksbankmesse Balingen\, Auf Stetten\, Balingen\, 72336
CATEGORIES:Ausbildung
ATTACH;FMTTYPE=image/jpeg:https://izzbw.de/wp-content/uploads/VORSCHAU_JPF_200710_3425.jpg
END:VEVENT
END:VCALENDAR