BEGIN:VCALENDAR
VERSION:2.0
PRODID:-//IZZBW - ECPv6.15.20//NONSGML v1.0//EN
CALSCALE:GREGORIAN
METHOD:PUBLISH
X-WR-CALNAME:IZZBW
X-ORIGINAL-URL:https://izzbw.de
X-WR-CALDESC:Veranstaltungen für IZZBW
REFRESH-INTERVAL;VALUE=DURATION:PT1H
X-Robots-Tag:noindex
X-PUBLISHED-TTL:PT1H
BEGIN:VTIMEZONE
TZID:Europe/Berlin
BEGIN:DAYLIGHT
TZOFFSETFROM:+0100
TZOFFSETTO:+0200
TZNAME:CEST
DTSTART:20220327T010000
END:DAYLIGHT
BEGIN:STANDARD
TZOFFSETFROM:+0200
TZOFFSETTO:+0100
TZNAME:CET
DTSTART:20221030T010000
END:STANDARD
BEGIN:DAYLIGHT
TZOFFSETFROM:+0100
TZOFFSETTO:+0200
TZNAME:CEST
DTSTART:20230326T010000
END:DAYLIGHT
BEGIN:STANDARD
TZOFFSETFROM:+0200
TZOFFSETTO:+0100
TZNAME:CET
DTSTART:20231029T010000
END:STANDARD
BEGIN:DAYLIGHT
TZOFFSETFROM:+0100
TZOFFSETTO:+0200
TZNAME:CEST
DTSTART:20240331T010000
END:DAYLIGHT
BEGIN:STANDARD
TZOFFSETFROM:+0200
TZOFFSETTO:+0100
TZNAME:CET
DTSTART:20241027T010000
END:STANDARD
END:VTIMEZONE
BEGIN:VEVENT
DTSTART;TZID=Europe/Berlin:20231012T090000
DTEND;TZID=Europe/Berlin:20231012T160000
DTSTAMP:20260423T182814
CREATED:20230620T144848Z
LAST-MODIFIED:20230620T144848Z
UID:10000158-1697101200-1697126400@izzbw.de
SUMMARY:Berufsorientierungstag\, Waldshut
DESCRIPTION:
URL:https://izzbw.de/termin/berufsorientierungstag-waldshut-2/
LOCATION:Gewerbliche Schulen Waldshut\, Friedrichstraße 22\, Waldshut\, 79761
CATEGORIES:Ausbildung
ATTACH;FMTTYPE=image/jpeg:https://izzbw.de/wp-content/uploads/VORSCHAU_JPF_200710_3793-1.jpg
END:VEVENT
BEGIN:VEVENT
DTSTART;TZID=Europe/Berlin:20231012T090000
DTEND;TZID=Europe/Berlin:20231012T160000
DTSTAMP:20260423T182814
CREATED:20230727T090633Z
LAST-MODIFIED:20230727T090633Z
UID:10000162-1697101200-1697126400@izzbw.de
SUMMARY:Bildungsmesse\, Balingen
DESCRIPTION:
URL:https://izzbw.de/termin/bildungsmesse-balingen-2/
LOCATION:Volksbankmesse Balingen\, Auf Stetten\, Balingen\, 72336
CATEGORIES:Ausbildung
ATTACH;FMTTYPE=image/jpeg:https://izzbw.de/wp-content/uploads/VORSCHAU_JPF_200710_3425.jpg
END:VEVENT
BEGIN:VEVENT
DTSTART;TZID=Europe/Berlin:20231012T180000
DTEND;TZID=Europe/Berlin:20231012T203000
DTSTAMP:20260423T182814
CREATED:20230727T093338Z
LAST-MODIFIED:20230727T094036Z
UID:10000165-1697133600-1697142600@izzbw.de
SUMMARY:Job-Start-Börse\, Endingen
DESCRIPTION:
URL:https://izzbw.de/termin/job-start-boerse-endingen-3/
LOCATION:Stadthalle Endigen\, Bahlinger Weg 2\, Endingen am Kaiserstuhl\, 79346
CATEGORIES:Ausbildung
ATTACH;FMTTYPE=image/jpeg:https://izzbw.de/wp-content/uploads/VORSCHAU_JPF_200710_1153-1.jpg
END:VEVENT
END:VCALENDAR