BEGIN:VCALENDAR
VERSION:2.0
PRODID:-//IZZBW - ECPv6.15.20//NONSGML v1.0//EN
CALSCALE:GREGORIAN
METHOD:PUBLISH
X-ORIGINAL-URL:https://izzbw.de
X-WR-CALDESC:Veranstaltungen für IZZBW
REFRESH-INTERVAL;VALUE=DURATION:PT1H
X-Robots-Tag:noindex
X-PUBLISHED-TTL:PT1H
BEGIN:VTIMEZONE
TZID:Europe/Berlin
BEGIN:DAYLIGHT
TZOFFSETFROM:+0100
TZOFFSETTO:+0200
TZNAME:CEST
DTSTART:20220327T010000
END:DAYLIGHT
BEGIN:STANDARD
TZOFFSETFROM:+0200
TZOFFSETTO:+0100
TZNAME:CET
DTSTART:20221030T010000
END:STANDARD
BEGIN:DAYLIGHT
TZOFFSETFROM:+0100
TZOFFSETTO:+0200
TZNAME:CEST
DTSTART:20230326T010000
END:DAYLIGHT
BEGIN:STANDARD
TZOFFSETFROM:+0200
TZOFFSETTO:+0100
TZNAME:CET
DTSTART:20231029T010000
END:STANDARD
BEGIN:DAYLIGHT
TZOFFSETFROM:+0100
TZOFFSETTO:+0200
TZNAME:CEST
DTSTART:20240331T010000
END:DAYLIGHT
BEGIN:STANDARD
TZOFFSETFROM:+0200
TZOFFSETTO:+0100
TZNAME:CET
DTSTART:20241027T010000
END:STANDARD
END:VTIMEZONE
BEGIN:VEVENT
DTSTART;TZID=Europe/Berlin:20231007T090000
DTEND;TZID=Europe/Berlin:20231007T140000
DTSTAMP:20260423T182829
CREATED:20230810T113547Z
LAST-MODIFIED:20230810T113547Z
UID:10000186-1696669200-1696687200@izzbw.de
SUMMARY:Bildungsmesse\, Uhingen
DESCRIPTION:
URL:https://izzbw.de/termin/bildungsmesse-uhingen/
LOCATION:Uditorium Uhingen\, Ulmer Str. 7\, Uhingen\, Badenwüttenberg\, 73066\, Germany
CATEGORIES:Ausbildung
ATTACH;FMTTYPE=image/jpeg:https://izzbw.de/wp-content/uploads/VORSCHAU_JPF_200710_1446.jpg
END:VEVENT
BEGIN:VEVENT
DTSTART;TZID=Europe/Berlin:20231007T100000
DTEND;TZID=Europe/Berlin:20231007T140000
DTSTAMP:20260423T182829
CREATED:20230620T134505Z
LAST-MODIFIED:20230620T134505Z
UID:10000156-1696672800-1696687200@izzbw.de
SUMMARY:Ausbildungsplattform Stutensee 2023 – Rundgang in die Zukunft\, Stutensee
DESCRIPTION:
URL:https://izzbw.de/termin/ausbildungsplattform-stutensee-2023-rundgang-in-die-zukunft-stutensee/
LOCATION:Messezelt Festplatz Stutensee\, Erich-Kästner-Straße\, Stutensee\, 76297
CATEGORIES:Ausbildung
ATTACH;FMTTYPE=image/jpeg:https://izzbw.de/wp-content/uploads/VORSCHAU_JPF_200710_3823.jpg
END:VEVENT
END:VCALENDAR