BEGIN:VCALENDAR
VERSION:2.0
PRODID:-//IZZBW - ECPv6.15.20//NONSGML v1.0//EN
CALSCALE:GREGORIAN
METHOD:PUBLISH
X-ORIGINAL-URL:https://izzbw.de
X-WR-CALDESC:Veranstaltungen für IZZBW
REFRESH-INTERVAL;VALUE=DURATION:PT1H
X-Robots-Tag:noindex
X-PUBLISHED-TTL:PT1H
BEGIN:VTIMEZONE
TZID:Europe/Berlin
BEGIN:DAYLIGHT
TZOFFSETFROM:+0100
TZOFFSETTO:+0200
TZNAME:CEST
DTSTART:20220327T010000
END:DAYLIGHT
BEGIN:STANDARD
TZOFFSETFROM:+0200
TZOFFSETTO:+0100
TZNAME:CET
DTSTART:20221030T010000
END:STANDARD
BEGIN:DAYLIGHT
TZOFFSETFROM:+0100
TZOFFSETTO:+0200
TZNAME:CEST
DTSTART:20230326T010000
END:DAYLIGHT
BEGIN:STANDARD
TZOFFSETFROM:+0200
TZOFFSETTO:+0100
TZNAME:CET
DTSTART:20231029T010000
END:STANDARD
BEGIN:DAYLIGHT
TZOFFSETFROM:+0100
TZOFFSETTO:+0200
TZNAME:CEST
DTSTART:20240331T010000
END:DAYLIGHT
BEGIN:STANDARD
TZOFFSETFROM:+0200
TZOFFSETTO:+0100
TZNAME:CET
DTSTART:20241027T010000
END:STANDARD
END:VTIMEZONE
BEGIN:VEVENT
DTSTART;TZID=Europe/Berlin:20230505T090000
DTEND;TZID=Europe/Berlin:20230506T150000
DTSTAMP:20260424T004539
CREATED:20221220T160459Z
LAST-MODIFIED:20221220T160459Z
UID:10000137-1683277200-1683385200@izzbw.de
SUMMARY:Fokus Beruf\, Rems-Murr-Kreis\, Fellbach
DESCRIPTION:
URL:https://izzbw.de/termin/fokus-beruf-rems-murr-kreis-fellbach/
LOCATION:Alte Kelter Fellbach\, Untertürkheimer Str. 33\, Fellbach\, 70734
CATEGORIES:Ausbildung
ATTACH;FMTTYPE=image/jpeg:https://izzbw.de/wp-content/uploads/VORSCHAU_JPF_200710_3793-1.jpg
END:VEVENT
END:VCALENDAR