BEGIN:VCALENDAR
VERSION:2.0
PRODID:-//IZZBW - ECPv6.15.20//NONSGML v1.0//EN
CALSCALE:GREGORIAN
METHOD:PUBLISH
X-ORIGINAL-URL:https://izzbw.de
X-WR-CALDESC:Veranstaltungen für IZZBW
REFRESH-INTERVAL;VALUE=DURATION:PT1H
X-Robots-Tag:noindex
X-PUBLISHED-TTL:PT1H
BEGIN:VTIMEZONE
TZID:Europe/Berlin
BEGIN:DAYLIGHT
TZOFFSETFROM:+0100
TZOFFSETTO:+0200
TZNAME:CEST
DTSTART:20220327T010000
END:DAYLIGHT
BEGIN:STANDARD
TZOFFSETFROM:+0200
TZOFFSETTO:+0100
TZNAME:CET
DTSTART:20221030T010000
END:STANDARD
BEGIN:DAYLIGHT
TZOFFSETFROM:+0100
TZOFFSETTO:+0200
TZNAME:CEST
DTSTART:20230326T010000
END:DAYLIGHT
BEGIN:STANDARD
TZOFFSETFROM:+0200
TZOFFSETTO:+0100
TZNAME:CET
DTSTART:20231029T010000
END:STANDARD
BEGIN:DAYLIGHT
TZOFFSETFROM:+0100
TZOFFSETTO:+0200
TZNAME:CEST
DTSTART:20240331T010000
END:DAYLIGHT
BEGIN:STANDARD
TZOFFSETFROM:+0200
TZOFFSETTO:+0100
TZNAME:CET
DTSTART:20241027T010000
END:STANDARD
END:VTIMEZONE
BEGIN:VEVENT
DTSTART;VALUE=DATE:20230312
DTEND;VALUE=DATE:20230320
DTSTAMP:20260424T030504
CREATED:20221214T153833Z
LAST-MODIFIED:20221214T153833Z
UID:10000134-1678579200-1679270399@izzbw.de
SUMMARY:Karriere. Aus- und Weiterbildungsmesse\, Esslingen
DESCRIPTION:
URL:https://izzbw.de/termin/karriere-aus-und-weiterbildungsmesse-esslingen-10/
LOCATION:Online
CATEGORIES:Ausbildung
ATTACH;FMTTYPE=image/jpeg:https://izzbw.de/wp-content/uploads/VORSCHAU_JPF_200710_2370.jpg
END:VEVENT
BEGIN:VEVENT
DTSTART;TZID=Europe/Berlin:20230318T093000
DTEND;TZID=Europe/Berlin:20230318T160000
DTSTAMP:20260424T030504
CREATED:20230228T161643Z
LAST-MODIFIED:20230228T161643Z
UID:10000141-1679131800-1679155200@izzbw.de
SUMMARY:Zukunft Karriere 2023\, Wertheim
DESCRIPTION:
URL:https://izzbw.de/termin/zukunft-karriere-2023-wertheim/
LOCATION:Main-Tauber -Halle\, u. Leberklinge 13\, Wertheim\, 97877
CATEGORIES:Ausbildung
ATTACH;FMTTYPE=image/jpeg:https://izzbw.de/wp-content/uploads/VORSCHAU_JPF_200710_1205.jpg
END:VEVENT
END:VCALENDAR