BEGIN:VCALENDAR
VERSION:2.0
PRODID:-//IZZBW - ECPv6.15.20//NONSGML v1.0//EN
CALSCALE:GREGORIAN
METHOD:PUBLISH
X-WR-CALNAME:IZZBW
X-ORIGINAL-URL:https://izzbw.de
X-WR-CALDESC:Veranstaltungen für IZZBW
REFRESH-INTERVAL;VALUE=DURATION:PT1H
X-Robots-Tag:noindex
X-PUBLISHED-TTL:PT1H
BEGIN:VTIMEZONE
TZID:Europe/Berlin
BEGIN:DAYLIGHT
TZOFFSETFROM:+0100
TZOFFSETTO:+0200
TZNAME:CEST
DTSTART:20210328T010000
END:DAYLIGHT
BEGIN:STANDARD
TZOFFSETFROM:+0200
TZOFFSETTO:+0100
TZNAME:CET
DTSTART:20211031T010000
END:STANDARD
BEGIN:DAYLIGHT
TZOFFSETFROM:+0100
TZOFFSETTO:+0200
TZNAME:CEST
DTSTART:20220327T010000
END:DAYLIGHT
BEGIN:STANDARD
TZOFFSETFROM:+0200
TZOFFSETTO:+0100
TZNAME:CET
DTSTART:20221030T010000
END:STANDARD
BEGIN:DAYLIGHT
TZOFFSETFROM:+0100
TZOFFSETTO:+0200
TZNAME:CEST
DTSTART:20230326T010000
END:DAYLIGHT
BEGIN:STANDARD
TZOFFSETFROM:+0200
TZOFFSETTO:+0100
TZNAME:CET
DTSTART:20231029T010000
END:STANDARD
END:VTIMEZONE
BEGIN:VEVENT
DTSTART;TZID=Europe/Berlin:20221008T090000
DTEND;TZID=Europe/Berlin:20221008T140000
DTSTAMP:20260424T130002
CREATED:20220930T125447Z
LAST-MODIFIED:20220930T125447Z
UID:10000095-1665219600-1665237600@izzbw.de
SUMMARY:Aus- und Weiterbildungsbörse\, Mühlacker-Pforzheim-Enzkreis
DESCRIPTION:
URL:https://izzbw.de/termin/aus-und-weiterbildungsboerse-muehlacker-pforzheim-enzkreis/
LOCATION:Berufliche Schule Mühlacker\, Lienzinger Str. 46\, Mühlacker\, 75417
CATEGORIES:Ausbildung
ATTACH;FMTTYPE=image/jpeg:https://izzbw.de/wp-content/uploads/VORSCHAU_JPF_200710_2082.jpg
END:VEVENT
BEGIN:VEVENT
DTSTART;TZID=Europe/Berlin:20221008T093000
DTEND;TZID=Europe/Berlin:20221008T130000
DTSTAMP:20260424T130002
CREATED:20220930T125645Z
LAST-MODIFIED:20220930T125645Z
UID:10000096-1665221400-1665234000@izzbw.de
SUMMARY:IBIS\, Holzgerlingen
DESCRIPTION:
URL:https://izzbw.de/termin/ibis-holzgerlingen-2/
LOCATION:Stadthalle Holzgerlingen\, Berkenstraße 18\, Holzgerlingen\, 71088
CATEGORIES:Ausbildung
ATTACH;FMTTYPE=image/jpeg:https://izzbw.de/wp-content/uploads/VORSCHAU_JPF_200710_3165.jpg
END:VEVENT
END:VCALENDAR