BEGIN:VCALENDAR
VERSION:2.0
PRODID:-//IZZBW - ECPv6.15.20//NONSGML v1.0//EN
CALSCALE:GREGORIAN
METHOD:PUBLISH
X-WR-CALNAME:IZZBW
X-ORIGINAL-URL:https://izzbw.de
X-WR-CALDESC:Veranstaltungen für IZZBW
REFRESH-INTERVAL;VALUE=DURATION:PT1H
X-Robots-Tag:noindex
X-PUBLISHED-TTL:PT1H
BEGIN:VTIMEZONE
TZID:Europe/Berlin
BEGIN:DAYLIGHT
TZOFFSETFROM:+0100
TZOFFSETTO:+0200
TZNAME:CEST
DTSTART:20200329T010000
END:DAYLIGHT
BEGIN:STANDARD
TZOFFSETFROM:+0200
TZOFFSETTO:+0100
TZNAME:CET
DTSTART:20201025T010000
END:STANDARD
BEGIN:DAYLIGHT
TZOFFSETFROM:+0100
TZOFFSETTO:+0200
TZNAME:CEST
DTSTART:20210328T010000
END:DAYLIGHT
BEGIN:STANDARD
TZOFFSETFROM:+0200
TZOFFSETTO:+0100
TZNAME:CET
DTSTART:20211031T010000
END:STANDARD
BEGIN:DAYLIGHT
TZOFFSETFROM:+0100
TZOFFSETTO:+0200
TZNAME:CEST
DTSTART:20220327T010000
END:DAYLIGHT
BEGIN:STANDARD
TZOFFSETFROM:+0200
TZOFFSETTO:+0100
TZNAME:CET
DTSTART:20221030T010000
END:STANDARD
BEGIN:DAYLIGHT
TZOFFSETFROM:+0100
TZOFFSETTO:+0200
TZNAME:CEST
DTSTART:20230326T010000
END:DAYLIGHT
BEGIN:STANDARD
TZOFFSETFROM:+0200
TZOFFSETTO:+0100
TZNAME:CET
DTSTART:20231029T010000
END:STANDARD
END:VTIMEZONE
BEGIN:VEVENT
DTSTART;TZID=Europe/Berlin:20220719T090000
DTEND;TZID=Europe/Berlin:20220719T170000
DTSTAMP:20260421T070509
CREATED:20220713T120629Z
LAST-MODIFIED:20220713T120629Z
UID:10000092-1658221200-1658250000@izzbw.de
SUMMARY:WHAT 2022\, Weinheim
DESCRIPTION:
URL:https://izzbw.de/termin/what-2022-weinheim/
LOCATION:Stadthalle Weinheim\, Birkenauer Talstraße 1\, Weinheim\, 69469
CATEGORIES:Ausbildung
ATTACH;FMTTYPE=image/jpeg:https://izzbw.de/wp-content/uploads/VORSCHAU_JPF_200710_1518.jpg
END:VEVENT
BEGIN:VEVENT
DTSTART;TZID=Europe/Berlin:20220624T090000
DTEND;TZID=Europe/Berlin:20220624T170000
DTSTAMP:20260421T070509
CREATED:20211222T101734Z
LAST-MODIFIED:20211222T101734Z
UID:10000069-1656061200-1656090000@izzbw.de
SUMMARY:Future 4 you\, Biberach
DESCRIPTION:
URL:https://izzbw.de/termin/future-4-you-biberach-2/
LOCATION:Kaufland Biberach\, Ob. Stegwiesen 10\, Biberach an der Riß\, 88400
CATEGORIES:Ausbildung
ATTACH;FMTTYPE=image/jpeg:https://izzbw.de/wp-content/uploads/VORSCHAU_JPF_200710_3793.jpg
END:VEVENT
BEGIN:VEVENT
DTSTART;TZID=Europe/Berlin:20220624T080000
DTEND;TZID=Europe/Berlin:20220625T170000
DTSTAMP:20260421T070509
CREATED:20220104T101241Z
LAST-MODIFIED:20220104T101241Z
UID:10000072-1656057600-1656176400@izzbw.de
SUMMARY:Fokus Beruf\, Rems-Murr-Kreis\, Schorndorf
DESCRIPTION:
URL:https://izzbw.de/termin/fokus-beruf-rems-murr-kreis-schorndorf/
LOCATION:Schulzentrum Grauhalde\, Rehhaldenweg 10\, Schorndorf\, 73614
CATEGORIES:Ausbildung
ATTACH;FMTTYPE=image/jpeg:https://izzbw.de/wp-content/uploads/DSC_8358-scaled-1.jpg
END:VEVENT
BEGIN:VEVENT
DTSTART;TZID=Europe/Berlin:20220521T090000
DTEND;TZID=Europe/Berlin:20220521T130000
DTSTAMP:20260421T070509
CREATED:20220104T151855Z
LAST-MODIFIED:20220104T151855Z
UID:10000081-1653123600-1653138000@izzbw.de
SUMMARY:Ausbildungsmesse Ostwürttemberg\, Aalen
DESCRIPTION:
URL:https://izzbw.de/termin/ausbildungsmesse-ostwuerttemberg-aalen-2/
LOCATION:Berufliches Schulzentrum Aalen\, Steinbeisstraße 4\, Aalen\, 73430
CATEGORIES:Ausbildung
ATTACH;FMTTYPE=image/jpeg:https://izzbw.de/wp-content/uploads/VORSCHAU_JPF_200710_3282-1.jpg
END:VEVENT
BEGIN:VEVENT
DTSTART;TZID=Europe/Berlin:20220520T093000
DTEND;TZID=Europe/Berlin:20220520T160000
DTSTAMP:20260421T070509
CREATED:20220209T155458Z
LAST-MODIFIED:20220209T155458Z
UID:10000086-1653039000-1653062400@izzbw.de
SUMMARY:Zukunft Karriere\, Tauberbischofsheim
DESCRIPTION:
URL:https://izzbw.de/termin/zukunft-karriere-tauberbischofsheim-3/
LOCATION:Fechtzentrum\, Pestalozziallee 12\, Tauberbischofsheim\, 97941
CATEGORIES:Ausbildung
ATTACH;FMTTYPE=image/jpeg:https://izzbw.de/wp-content/uploads/VORSCHAU_JPF_200710_1988.jpg
END:VEVENT
BEGIN:VEVENT
DTSTART;TZID=Europe/Berlin:20220513T090000
DTEND;TZID=Europe/Berlin:20220514T170000
DTSTAMP:20260421T070509
CREATED:20220104T150634Z
LAST-MODIFIED:20220104T150634Z
UID:10000080-1652432400-1652547600@izzbw.de
SUMMARY:Berufsinfomesse BIM\, Offenburg
DESCRIPTION:
URL:https://izzbw.de/termin/berufsinfomesse-bim-offenburg/
LOCATION:Messegelände Offenburg\, Oberrheinhalle\, Ortenauhalle und Baden-Arena\, Schutterwälder Str. 3\, Offenburg\, 77656
CATEGORIES:Ausbildung
ATTACH;FMTTYPE=image/jpeg:https://izzbw.de/wp-content/uploads/VORSCHAU_JPF_200710_2082.jpg
END:VEVENT
BEGIN:VEVENT
DTSTART;TZID=Europe/Berlin:20220511T093000
DTEND;TZID=Europe/Berlin:20220511T160000
DTSTAMP:20260421T070509
CREATED:20220209T154026Z
LAST-MODIFIED:20220209T154026Z
UID:10000085-1652261400-1652284800@izzbw.de
SUMMARY:Zukunft Karriere\, Wertheim
DESCRIPTION:
URL:https://izzbw.de/termin/zukunft-karriere-wertheim/
LOCATION:Main-Tauber -Halle\, u. Leberklinge 13\, Wertheim\, 97877
CATEGORIES:Ausbildung
ATTACH;FMTTYPE=image/jpeg:https://izzbw.de/wp-content/uploads/VORSCHAU_JPF_200710_3817.jpg
END:VEVENT
BEGIN:VEVENT
DTSTART;TZID=Europe/Berlin:20220507T090000
DTEND;TZID=Europe/Berlin:20220507T130000
DTSTAMP:20260421T070509
CREATED:20220207T164613Z
LAST-MODIFIED:20220207T164613Z
UID:10000084-1651914000-1651928400@izzbw.de
SUMMARY:Ausbildungsmesse\, Geislingen an der Steige
DESCRIPTION:
URL:https://izzbw.de/termin/ausbildungsmesse-geislingen-an-der-steige/
LOCATION:Berufsschulzentrum in der Wölk\, Rheinlandstr. 80\, Geislingen an der Steige\, 73312
CATEGORIES:Ausbildung
ATTACH;FMTTYPE=image/jpeg:https://izzbw.de/wp-content/uploads/VORSCHAU_JPF_200710_1796.jpg
END:VEVENT
BEGIN:VEVENT
DTSTART;TZID=Europe/Berlin:20220506T090000
DTEND;TZID=Europe/Berlin:20220507T170000
DTSTAMP:20260421T070509
CREATED:20220104T142910Z
LAST-MODIFIED:20220104T142910Z
UID:10000079-1651827600-1651942800@izzbw.de
SUMMARY:Azubi-Messe\, Heilbronn
DESCRIPTION:
URL:https://izzbw.de/termin/azubi-messe-heilbronn/
LOCATION:INTERSPORT redblue\, Wannenäckerstraße 50\, Heilbronn\, 74078
CATEGORIES:Ausbildung
ATTACH;FMTTYPE=image/jpeg:https://izzbw.de/wp-content/uploads/VORSCHAU_JPF_200710_3165.jpg
END:VEVENT
BEGIN:VEVENT
DTSTART;TZID=Europe/Berlin:20220503T100000
DTEND;TZID=Europe/Berlin:20220503T180000
DTSTAMP:20260421T070509
CREATED:20220104T095924Z
LAST-MODIFIED:20220104T095924Z
UID:10000071-1651572000-1651600800@izzbw.de
SUMMARY:Gmünder Ausbildungsmesse - Dein Beruf\, Deine Zukunft\, Schwäbisch Gmünd
DESCRIPTION:
URL:https://izzbw.de/termin/gmuender-ausbildungsmesse-dein-beruf-deine-zukunft-schwaebisch-gmuend/
LOCATION:Congress-Centrum Stadtgarten\, Rektor-Klaus-Straße 9\, Schwäbisch Gmünd\, 73525
CATEGORIES:Ausbildung
ATTACH;FMTTYPE=image/jpeg:https://izzbw.de/wp-content/uploads/Schwarz-Messe_3-scaled-1.jpg
END:VEVENT
BEGIN:VEVENT
DTSTART;TZID=Europe/Berlin:20220430T090000
DTEND;TZID=Europe/Berlin:20220430T130000
DTSTAMP:20260421T070509
CREATED:20220207T160439Z
LAST-MODIFIED:20220207T160439Z
UID:10000083-1651309200-1651323600@izzbw.de
SUMMARY:Berufsinformationstag\, Crailsheim
DESCRIPTION:
URL:https://izzbw.de/termin/berufsinformationstag-crailsheim/
LOCATION:Hangar\, Im Fliegerhorst 2\, Crailsheim\, 74564
CATEGORIES:Ausbildung
ATTACH;FMTTYPE=image/jpeg:https://izzbw.de/wp-content/uploads/VORSCHAU_JPF_200710_1988.jpg
END:VEVENT
BEGIN:VEVENT
DTSTART;TZID=Europe/Berlin:20220423T090000
DTEND;TZID=Europe/Berlin:20220424T170000
DTSTAMP:20260421T070509
CREATED:20220104T135214Z
LAST-MODIFIED:20220104T135214Z
UID:10000078-1650704400-1650819600@izzbw.de
SUMMARY:Ausbildungsbörse\, Tuttlingen
DESCRIPTION:
URL:https://izzbw.de/termin/ausbildungsboerse-tuttlingen/
LOCATION:Stadthalle Tuttlingen\, Königstraße 39\, Tuttlingen\, 78532
CATEGORIES:Ausbildung
ATTACH;FMTTYPE=image/jpeg:https://izzbw.de/wp-content/uploads/VORSCHAU_JPF_200710_1518.jpg
END:VEVENT
BEGIN:VEVENT
DTSTART;VALUE=DATE:20220410
DTEND;VALUE=DATE:20220413
DTSTAMP:20260421T070509
CREATED:20211222T082653Z
LAST-MODIFIED:20211222T082653Z
UID:10000068-1649548800-1649807999@izzbw.de
SUMMARY:Karriere. Aus- und Weiterbildungsmesse\, Esslingen
DESCRIPTION:
URL:https://izzbw.de/termin/karriere-aus-und-weiterbildungsmesse-esslingen-5/
LOCATION:Online
CATEGORIES:Ausbildung
ATTACH;FMTTYPE=image/jpeg:https://izzbw.de/wp-content/uploads/Unterseite_Ausbildung_Jan-Potente-1.jpg
END:VEVENT
BEGIN:VEVENT
DTSTART;TZID=Europe/Berlin:20220409T100000
DTEND;TZID=Europe/Berlin:20220409T160000
DTSTAMP:20260421T070509
CREATED:20220405T154335Z
LAST-MODIFIED:20220405T154335Z
UID:10000091-1649498400-1649520000@izzbw.de
SUMMARY:Karriere. Aus- und Weiterbildungsmesse\, Esslingen
DESCRIPTION:
URL:https://izzbw.de/termin/karriere-aus-und-weiterbildungsmesse-esslingen-6/
LOCATION:Neckar Forum\, Ebershaldenstraße 12\, Esslingen am Neckar\, 73728
CATEGORIES:Ausbildung
ATTACH;FMTTYPE=image/jpeg:https://izzbw.de/wp-content/uploads/Unterseite_Ausbildung_Jan-Potente-1.jpg
END:VEVENT
BEGIN:VEVENT
DTSTART;TZID=Europe/Berlin:20220409T090000
DTEND;TZID=Europe/Berlin:20220409T150000
DTSTAMP:20260421T070509
CREATED:20220104T134113Z
LAST-MODIFIED:20220104T134113Z
UID:10000077-1649494800-1649516400@izzbw.de
SUMMARY:Markt der Berufe\, Bruchsal
DESCRIPTION:
URL:https://izzbw.de/termin/markt-der-berufe-bruchsal-3/
LOCATION:Bürgerzentrum Bruchsal\, Am Alten Schloß 22\, Bruchsal\, 76646
CATEGORIES:Ausbildung
ATTACH;FMTTYPE=image/jpeg:https://izzbw.de/wp-content/uploads/VORSCHAU_JPF_200710_3651-1.jpg
END:VEVENT
BEGIN:VEVENT
DTSTART;TZID=Europe/Berlin:20220408T150000
DTEND;TZID=Europe/Berlin:20220408T200000
DTSTAMP:20260421T070509
CREATED:20220325T104119Z
LAST-MODIFIED:20220325T104119Z
UID:10000089-1649430000-1649448000@izzbw.de
SUMMARY:Berufsinfomarkt\, Herrenberg
DESCRIPTION:
URL:https://izzbw.de/termin/berufsinfomarkt-herrenberg/
LOCATION:Stadt- und Mehrzweckhalle Herrenberg\, Seestraße 29\, Herrenberg\, 71083
CATEGORIES:Ausbildung
ATTACH;FMTTYPE=image/jpeg:https://izzbw.de/wp-content/uploads/IMG_5606-scaled-1.jpg
END:VEVENT
BEGIN:VEVENT
DTSTART;TZID=Europe/Berlin:20220408T090000
DTEND;TZID=Europe/Berlin:20220408T143000
DTSTAMP:20260421T070509
CREATED:20211222T081748Z
LAST-MODIFIED:20211222T081748Z
UID:10000067-1649408400-1649428200@izzbw.de
SUMMARY:Karriere. Aus- und Weiterbildungsmesse\, Esslingen
DESCRIPTION:
URL:https://izzbw.de/termin/karriere-aus-und-weiterbildungsmesse-esslingen-4/
LOCATION:Neckar Forum\, Ebershaldenstraße 12\, Esslingen am Neckar\, 73728
CATEGORIES:Ausbildung
ATTACH;FMTTYPE=image/jpeg:https://izzbw.de/wp-content/uploads/Unterseite_Ausbildung_Jan-Potente-1.jpg
END:VEVENT
BEGIN:VEVENT
DTSTART;TZID=Europe/Berlin:20220403T100000
DTEND;TZID=Europe/Berlin:20220403T150000
DTSTAMP:20260421T070509
CREATED:20220302T124821Z
LAST-MODIFIED:20220302T124821Z
UID:10000087-1648980000-1648998000@izzbw.de
SUMMARY:Job & Azubi\, Böblingen
DESCRIPTION:
URL:https://izzbw.de/termin/job-azubi-boeblingen/
LOCATION:Kongresshalle Böblingen\, Ida-Ehre-Platz 1\, Böblingen\, 71032
CATEGORIES:Ausbildung
ATTACH;FMTTYPE=image/jpeg:https://izzbw.de/wp-content/uploads/VORSCHAU_JPF_200710_2497-1.jpg
END:VEVENT
BEGIN:VEVENT
DTSTART;VALUE=DATE:20220328
DTEND;VALUE=DATE:20221001
DTSTAMP:20260421T070509
CREATED:20220328T112223Z
LAST-MODIFIED:20220328T112223Z
UID:10000090-1648425600-1664582399@izzbw.de
SUMMARY:Binea\, Reutlingen
DESCRIPTION:
URL:https://izzbw.de/termin/binea-reutlingen/
LOCATION:Online
CATEGORIES:Ausbildung
ATTACH;FMTTYPE=image/jpeg:https://izzbw.de/wp-content/uploads/JPF_200504_8744-scaled-1.jpg
END:VEVENT
BEGIN:VEVENT
DTSTART;TZID=Europe/Berlin:20220326T100000
DTEND;TZID=Europe/Berlin:20220326T140000
DTSTAMP:20260421T070509
CREATED:20220104T130351Z
LAST-MODIFIED:20220104T130351Z
UID:10000074-1648288800-1648303200@izzbw.de
SUMMARY:Ausbildungsmesse\, Bretten
DESCRIPTION:
URL:https://izzbw.de/termin/ausbildungsmesse-bretten/
LOCATION:Hallensportzentrum „Im Grüne“\, Max-Planck-Straße 3\, Bretten\, 75015
CATEGORIES:Ausbildung
ATTACH;FMTTYPE=image/jpeg:https://izzbw.de/wp-content/uploads/VORSCHAU_JPF_200710_2891.jpg
END:VEVENT
BEGIN:VEVENT
DTSTART;TZID=Europe/Berlin:20220326T090000
DTEND;TZID=Europe/Berlin:20220326T143000
DTSTAMP:20260421T070509
CREATED:20220105T090629Z
LAST-MODIFIED:20220105T090629Z
UID:10000082-1648285200-1648305000@izzbw.de
SUMMARY:Bildung & Karriere Bodensee\, Friedrichshafen
DESCRIPTION:
URL:https://izzbw.de/termin/bildung-karriere-bodensee-friedrichshafen-3/
LOCATION:Messe Friedrichshafen\, Neue Messe 1\, Friedrichshafen\, 88046
CATEGORIES:Ausbildung
ATTACH;FMTTYPE=image/jpeg:https://izzbw.de/wp-content/uploads/VORSCHAU_JPF_200710_1153.jpg
END:VEVENT
BEGIN:VEVENT
DTSTART;TZID=Europe/Berlin:20220325T083000
DTEND;TZID=Europe/Berlin:20220325T143000
DTSTAMP:20260421T070509
CREATED:20220104T123558Z
LAST-MODIFIED:20220104T123558Z
UID:10000073-1648197000-1648218600@izzbw.de
SUMMARY:Bildung & Karriere Bodensee\, Friedrichshafen
DESCRIPTION:
URL:https://izzbw.de/termin/bildung-karriere-bodensee-friedrichshafen-2/
LOCATION:Messe Friedrichshafen\, Neue Messe 1\, Friedrichshafen\, 88046
CATEGORIES:Ausbildung
ATTACH;FMTTYPE=image/jpeg:https://izzbw.de/wp-content/uploads/VORSCHAU_JPF_200710_1153.jpg
END:VEVENT
BEGIN:VEVENT
DTSTART;TZID=Europe/Berlin:20220312T093000
DTEND;TZID=Europe/Berlin:20220312T140000
DTSTAMP:20260421T070509
CREATED:20220308T095112Z
LAST-MODIFIED:20220308T095112Z
UID:10000088-1647077400-1647093600@izzbw.de
SUMMARY:bam 2022\, Ludwigsburg
DESCRIPTION:
URL:https://izzbw.de/termin/bam-2022-ludwigsburg-3/
LOCATION:Forum am Schlossplatz\, Stuttgarter Str. 33\, Ludwigsburg\, 71638
CATEGORIES:Ausbildung
ATTACH;FMTTYPE=image/jpeg:https://izzbw.de/wp-content/uploads/VORSCHAU_JPF_200710_1715.jpg
END:VEVENT
BEGIN:VEVENT
DTSTART;TZID=Europe/Berlin:20220311T090000
DTEND;TZID=Europe/Berlin:20220311T163000
DTSTAMP:20260421T070509
CREATED:20211221T151849Z
LAST-MODIFIED:20211221T151849Z
UID:10000065-1646989200-1647016200@izzbw.de
SUMMARY:bam 2022\, Ludwigsburg
DESCRIPTION:
URL:https://izzbw.de/termin/bam-2022-ludwigsburg/
LOCATION:Forum am Schlossplatz\, Stuttgarter Str. 33\, Ludwigsburg\, 71638
CATEGORIES:Ausbildung
ATTACH;FMTTYPE=image/jpeg:https://izzbw.de/wp-content/uploads/VORSCHAU_JPF_200710_1715.jpg
END:VEVENT
BEGIN:VEVENT
DTSTART;TZID=Europe/Berlin:20220222T090000
DTEND;TZID=Europe/Berlin:20220222T170000
DTSTAMP:20260421T070509
CREATED:20211221T150507Z
LAST-MODIFIED:20211221T150507Z
UID:10000063-1645520400-1645549200@izzbw.de
SUMMARY:Berufsinformationstag BIT\, Tübingen
DESCRIPTION:
URL:https://izzbw.de/termin/berufsinformationstag-bit-tuebingen/
LOCATION:Online
CATEGORIES:Ausbildung
ATTACH;FMTTYPE=image/jpeg:https://izzbw.de/wp-content/uploads/VORSCHAU_JPF_200710_2497-1.jpg
END:VEVENT
BEGIN:VEVENT
DTSTART;TZID=Europe/Berlin:20220128T090000
DTEND;TZID=Europe/Berlin:20220129T170000
DTSTAMP:20260421T070509
CREATED:20211221T145447Z
LAST-MODIFIED:20211221T145447Z
UID:10000061-1643360400-1643475600@izzbw.de
SUMMARY:Binea - Bildungsmesse\, Reutlingen
DESCRIPTION:
URL:https://izzbw.de/termin/binea-bildungsmesse-reutlingen/
LOCATION:Online
CATEGORIES:Ausbildung
ATTACH;FMTTYPE=image/jpeg:https://izzbw.de/wp-content/uploads/VORSCHAU_JPF_200710_1988.jpg
END:VEVENT
BEGIN:VEVENT
DTSTART;TZID=Europe/Berlin:20211221T080000
DTEND;TZID=Europe/Berlin:20211221T170000
DTSTAMP:20260421T070509
CREATED:20211221T152047Z
LAST-MODIFIED:20211221T152047Z
UID:10000066-1640073600-1640106000@izzbw.de
SUMMARY: bam 2022\, Ludwigsburg
DESCRIPTION:
URL:https://izzbw.de/termin/bam-2022-ludwigsburg-2/
LOCATION:Online
CATEGORIES:Ausbildung
ATTACH;FMTTYPE=image/jpeg:https://izzbw.de/wp-content/uploads/VORSCHAU_JPF_200710_1715.jpg
END:VEVENT
BEGIN:VEVENT
DTSTART;TZID=Europe/Berlin:20211120T100000
DTEND;TZID=Europe/Berlin:20211120T160000
DTSTAMP:20260421T070509
CREATED:20211021T084403Z
LAST-MODIFIED:20211021T084403Z
UID:10000059-1637402400-1637424000@izzbw.de
SUMMARY:Marktplatz: Arbeit Südbaden\, Freiburg
DESCRIPTION:
URL:https://izzbw.de/termin/marktplatz-arbeit-suedbaden-freiburg-2/
LOCATION:Messe Freiburg\, Hermann-Mitsch-Straße 3\, Freiburg im Breisgau\, 79108
CATEGORIES:Ausbildung
ATTACH;FMTTYPE=image/jpeg:https://izzbw.de/wp-content/uploads/DSC_8338-scaled-1.jpg
END:VEVENT
BEGIN:VEVENT
DTSTART;TZID=Europe/Berlin:20211120T090000
DTEND;TZID=Europe/Berlin:20211120T130000
DTSTAMP:20260421T070509
CREATED:20211102T144206Z
LAST-MODIFIED:20211102T144206Z
UID:10000060-1637398800-1637413200@izzbw.de
SUMMARY:STARTit! Ellwangen 2021
DESCRIPTION:
URL:https://izzbw.de/termin/startit-ellwangen-2021/
LOCATION:Kreisberufsschulzentrum Ellwangen\, Hariolf-Gymnasium und Eugen-Bolz-Realschule\, Berliner Str. 19\, Ellwangen/Jagst\, 73479
CATEGORIES:Ausbildung
ATTACH;FMTTYPE=image/jpeg:https://izzbw.de/wp-content/uploads/FRK_5360-Franziska-Kraufmann-2-scaled-1.jpg
END:VEVENT
BEGIN:VEVENT
DTSTART;TZID=Europe/Berlin:20211119T150000
DTEND;TZID=Europe/Berlin:20211119T190000
DTSTAMP:20260421T070509
CREATED:20210204T153400Z
LAST-MODIFIED:20210204T153400Z
UID:10000028-1637334000-1637348400@izzbw.de
SUMMARY:Marktplatz: Arbeit Südbaden\, Freiburg
DESCRIPTION:
URL:https://izzbw.de/termin/marktplatz-arbeit-suedbaden-freiburg/
LOCATION:Messe Freiburg\, Hermann-Mitsch-Straße 3\, Freiburg im Breisgau\, 79108
CATEGORIES:Ausbildung
ATTACH;FMTTYPE=image/jpeg:https://izzbw.de/wp-content/uploads/DSC_8338-scaled-1.jpg
END:VEVENT
END:VCALENDAR