BEGIN:VCALENDAR
VERSION:2.0
PRODID:-//IZZBW - ECPv6.15.20//NONSGML v1.0//EN
CALSCALE:GREGORIAN
METHOD:PUBLISH
X-WR-CALNAME:IZZBW
X-ORIGINAL-URL:https://izzbw.de
X-WR-CALDESC:Veranstaltungen für IZZBW
REFRESH-INTERVAL;VALUE=DURATION:PT1H
X-Robots-Tag:noindex
X-PUBLISHED-TTL:PT1H
BEGIN:VTIMEZONE
TZID:Europe/Berlin
BEGIN:DAYLIGHT
TZOFFSETFROM:+0100
TZOFFSETTO:+0200
TZNAME:CEST
DTSTART:20240331T010000
END:DAYLIGHT
BEGIN:STANDARD
TZOFFSETFROM:+0200
TZOFFSETTO:+0100
TZNAME:CET
DTSTART:20241027T010000
END:STANDARD
BEGIN:DAYLIGHT
TZOFFSETFROM:+0100
TZOFFSETTO:+0200
TZNAME:CEST
DTSTART:20250330T010000
END:DAYLIGHT
BEGIN:STANDARD
TZOFFSETFROM:+0200
TZOFFSETTO:+0100
TZNAME:CET
DTSTART:20251026T010000
END:STANDARD
BEGIN:DAYLIGHT
TZOFFSETFROM:+0100
TZOFFSETTO:+0200
TZNAME:CEST
DTSTART:20260329T010000
END:DAYLIGHT
BEGIN:STANDARD
TZOFFSETFROM:+0200
TZOFFSETTO:+0100
TZNAME:CET
DTSTART:20261025T010000
END:STANDARD
BEGIN:DAYLIGHT
TZOFFSETFROM:+0100
TZOFFSETTO:+0200
TZNAME:CEST
DTSTART:20270328T010000
END:DAYLIGHT
BEGIN:STANDARD
TZOFFSETFROM:+0200
TZOFFSETTO:+0100
TZNAME:CET
DTSTART:20271031T010000
END:STANDARD
END:VTIMEZONE
BEGIN:VEVENT
DTSTART;TZID=Europe/Berlin:20260306T160000
DTEND;TZID=Europe/Berlin:20260306T200000
DTSTAMP:20260420T065000
CREATED:20251211T142421Z
LAST-MODIFIED:20251211T152859Z
UID:10000298-1772812800-1772827200@izzbw.de
SUMMARY:Gmünder Ausbildungsmesse\, Schwäbisch Gmünd
DESCRIPTION:
URL:https://izzbw.de/termin/gmuender-ausbildungsmesse-schwaebisch-gmuend/
LOCATION:Congress-Centrum Stadtgarten\, Rektor-Klaus-Straße 9\, Schwäbisch Gmünd\, 73525
CATEGORIES:Ausbildung
ATTACH;FMTTYPE=image/jpeg:https://izzbw.de/wp-content/uploads/VORSCHAU_JPF_200710_2891-1.jpg
END:VEVENT
BEGIN:VEVENT
DTSTART;TZID=Europe/Berlin:20260306T090000
DTEND;TZID=Europe/Berlin:20260307T140000
DTSTAMP:20260420T065000
CREATED:20251211T141348Z
LAST-MODIFIED:20251211T141348Z
UID:10000297-1772787600-1772892000@izzbw.de
SUMMARY:Cult\, Lörrach
DESCRIPTION:
URL:https://izzbw.de/termin/cult-loerrach-2/
LOCATION:mh3 GmbH\, Beim Haagensteg 5\, Lörrach\, Baden-Württemberg\, 79541
CATEGORIES:Ausbildung
ATTACH;FMTTYPE=image/jpeg:https://izzbw.de/wp-content/uploads/VORSCHAU_JPF_200710_1241.jpg
END:VEVENT
BEGIN:VEVENT
DTSTART;TZID=Europe/Berlin:20260227T090000
DTEND;TZID=Europe/Berlin:20260228T150000
DTSTAMP:20260420T065000
CREATED:20251211T135228Z
LAST-MODIFIED:20251211T135228Z
UID:10000296-1772182800-1772290800@izzbw.de
SUMMARY:First Job\, Stuttgart
DESCRIPTION:
URL:https://izzbw.de/termin/first-job-stuttgart-2/
LOCATION:Wagenhallen Stuttgart\, Innerer Nordbahnhof 1\, 70191 Stuttgart
CATEGORIES:Ausbildung
ATTACH;FMTTYPE=image/jpeg:https://izzbw.de/wp-content/uploads/VORSCHAU_JPF_200710_1715-1.jpg
END:VEVENT
BEGIN:VEVENT
DTSTART;TZID=Europe/Berlin:20260227T090000
DTEND;TZID=Europe/Berlin:20260227T160000
DTSTAMP:20260420T065000
CREATED:20251211T134546Z
LAST-MODIFIED:20251211T134546Z
UID:10000294-1772182800-1772208000@izzbw.de
SUMMARY:Durchstarter\, Nürtingen
DESCRIPTION:
URL:https://izzbw.de/termin/durchstarter-nuertingen-5/
LOCATION:Stadthalle K3N\, Heiligkreuzstraße 4\, Nürtingen\, 72622
CATEGORIES:Ausbildung
ATTACH;FMTTYPE=image/jpeg:https://izzbw.de/wp-content/uploads/VORSCHAU_JPF_200710_3823.jpg
END:VEVENT
BEGIN:VEVENT
DTSTART;TZID=Europe/Berlin:20260226T090000
DTEND;TZID=Europe/Berlin:20260228T160000
DTSTAMP:20260420T065000
CREATED:20251211T134813Z
LAST-MODIFIED:20251211T134813Z
UID:10000295-1772096400-1772294400@izzbw.de
SUMMARY:Jobs for Future\, Mannheim
DESCRIPTION:
URL:https://izzbw.de/termin/jobs-for-future-mannheim-6/
LOCATION:Maimarkthalle Mannheim\, Xaver-Fuhr-Straße. 101\, Mannheim\, 68163
CATEGORIES:Ausbildung
ATTACH;FMTTYPE=image/jpeg:https://izzbw.de/wp-content/uploads/VORSCHAU_JPF_200710_3282-3.jpg
END:VEVENT
BEGIN:VEVENT
DTSTART;TZID=Europe/Berlin:20260225T093000
DTEND;TZID=Europe/Berlin:20260225T140000
DTSTAMP:20260420T065000
CREATED:20251211T133527Z
LAST-MODIFIED:20251211T133527Z
UID:10000293-1772011800-1772028000@izzbw.de
SUMMARY:Zukunft Karriere\, Bad Mergentheim
DESCRIPTION:
URL:https://izzbw.de/termin/zukunft-karriere-bad-mergentheim-2/
LOCATION:Kursaal Bad Mergentheim\, Lothar-Daiker-Straße 2\, Bad Mergentheim\, 97980
CATEGORIES:Ausbildung
ATTACH;FMTTYPE=image/jpeg:https://izzbw.de/wp-content/uploads/VORSCHAU_JPF_200710_3425.jpg
END:VEVENT
BEGIN:VEVENT
DTSTART;TZID=Europe/Berlin:20260210T133000
DTEND;TZID=Europe/Berlin:20260210T153000
DTSTAMP:20260420T065000
CREATED:20251211T132412Z
LAST-MODIFIED:20251211T132412Z
UID:10000292-1770730200-1770737400@izzbw.de
SUMMARY:Berufsinformationsmarkt\, Weil im Schönbuch
DESCRIPTION:
URL:https://izzbw.de/termin/berufsinformationsmarkt-weil-im-schoenbuch/
LOCATION:Gemeinschaftsschule Weil im Schönbuch\, In der Röte 92\, Weil im Schönbuch\, 71093
CATEGORIES:Ausbildung
ATTACH;FMTTYPE=image/jpeg:https://izzbw.de/wp-content/uploads/VORSCHAU_JPF_200710_1548.jpg
END:VEVENT
BEGIN:VEVENT
DTSTART;TZID=Europe/Berlin:20260207T100000
DTEND;TZID=Europe/Berlin:20260207T150000
DTSTAMP:20260420T065000
CREATED:20251211T132226Z
LAST-MODIFIED:20251211T132226Z
UID:10000291-1770458400-1770476400@izzbw.de
SUMMARY:Job & Azubi\, Sindelfingen
DESCRIPTION:
URL:https://izzbw.de/termin/job-azubi-sindelfingen-2/
LOCATION:Stadthalle Sindelfingen\, Schillerstraße 23\, Sindelfingen\, 71065
CATEGORIES:Ausbildung
ATTACH;FMTTYPE=image/jpeg:https://izzbw.de/wp-content/uploads/VORSCHAU_JPF_200710_3651-2.jpg
END:VEVENT
BEGIN:VEVENT
DTSTART;TZID=Europe/Berlin:20260206T130000
DTEND;TZID=Europe/Berlin:20260206T160000
DTSTAMP:20260420T065000
CREATED:20251211T131854Z
LAST-MODIFIED:20251211T131854Z
UID:10000290-1770382800-1770393600@izzbw.de
SUMMARY:Ausbildungsmesse\, Gäufelden
DESCRIPTION:
URL:https://izzbw.de/termin/ausbildungsmesse-gaeufelden/
LOCATION:Gemeinschaftsschule Gäufelden\, Schollerstraße 10\, Gäufelden\, 71126
CATEGORIES:Ausbildung
ATTACH;FMTTYPE=image/jpeg:https://izzbw.de/wp-content/uploads/VORSCHAU_JPF_200710_2497-3.jpg
END:VEVENT
BEGIN:VEVENT
DTSTART;TZID=Europe/Berlin:20260205T090000
DTEND;TZID=Europe/Berlin:20260206T130000
DTSTAMP:20260420T065000
CREATED:20251211T131441Z
LAST-MODIFIED:20251211T131441Z
UID:10000289-1770282000-1770382800@izzbw.de
SUMMARY:Marktplatz Ausbildung\, Bad Saulgau
DESCRIPTION:
URL:https://izzbw.de/termin/marktplatz-ausbildung-bad-saulgau-3/
LOCATION:Berufschulzentrum Bad Saulgau\, Wuhrweg 36\, Bad Saulgau\, 88348
CATEGORIES:Ausbildung
ATTACH;FMTTYPE=image/jpeg:https://izzbw.de/wp-content/uploads/VORSCHAU_JPF_200710_2188.jpg
END:VEVENT
BEGIN:VEVENT
DTSTART;TZID=Europe/Berlin:20260204T083000
DTEND;TZID=Europe/Berlin:20260205T133000
DTSTAMP:20260420T065000
CREATED:20251211T131127Z
LAST-MODIFIED:20251211T131127Z
UID:10000288-1770193800-1770298200@izzbw.de
SUMMARY:Job-Start-Börse\, Freiburg
DESCRIPTION:
URL:https://izzbw.de/termin/job-start-boerse-freiburg-5/
LOCATION:Messe Freiburg\, Hermann-Mitsch-Straße 3\, Freiburg im Breisgau\, 79108
CATEGORIES:Ausbildung
ATTACH;FMTTYPE=image/jpeg:https://izzbw.de/wp-content/uploads/VORSCHAU_JPF_200710_2082.jpg
END:VEVENT
BEGIN:VEVENT
DTSTART;TZID=Europe/Berlin:20260130T100000
DTEND;TZID=Europe/Berlin:20260130T170000
DTSTAMP:20260420T065000
CREATED:20251211T130044Z
LAST-MODIFIED:20251211T130044Z
UID:10000286-1769767200-1769792400@izzbw.de
SUMMARY:Azubi-Messen\, Öhringen
DESCRIPTION:
URL:https://izzbw.de/termin/azubi-messen-oehringen/
LOCATION:Kultura Öhringen\, Herrenwiesenstraße 12\, Öhringen\, Baden-Württemberg\, 74613\, Germany
CATEGORIES:Ausbildung
ATTACH;FMTTYPE=image/jpeg:https://izzbw.de/wp-content/uploads/VORSCHAU_JPF_200710_2040.jpg
END:VEVENT
BEGIN:VEVENT
DTSTART;TZID=Europe/Berlin:20260130T090000
DTEND;TZID=Europe/Berlin:20260131T160000
DTSTAMP:20260420T065000
CREATED:20251211T130855Z
LAST-MODIFIED:20251211T130855Z
UID:10000287-1769763600-1769875200@izzbw.de
SUMMARY:Binea-Bildungsmesse\, Reutlingen
DESCRIPTION:
URL:https://izzbw.de/termin/binea-bildungsmesse-reutlingen-4/
LOCATION:Stadthalle Reutlingen\, Manfred-Oechsle-Platz 1\, Reutlingen\, 72762
CATEGORIES:Ausbildung
ATTACH;FMTTYPE=image/jpeg:https://izzbw.de/wp-content/uploads/VORSCHAU_JPF_200710_4004.jpg
END:VEVENT
BEGIN:VEVENT
DTSTART;TZID=Europe/Berlin:20260128T170000
DTEND;TZID=Europe/Berlin:20260129T160000
DTSTAMP:20260420T065000
CREATED:20251211T125518Z
LAST-MODIFIED:20251211T125518Z
UID:10000285-1769619600-1769702400@izzbw.de
SUMMARY:BerufsInfoBörse\, Friedrichshafen
DESCRIPTION:
URL:https://izzbw.de/termin/berufsinfoboerse-friedrichshafen/
LOCATION:Graf-Zeppelin-Haus\, Olgastraße 20\, Friedrichshafen\, Baden-Württemberg\, 88045
CATEGORIES:Ausbildung
ATTACH;FMTTYPE=image/jpeg:https://izzbw.de/wp-content/uploads/VORSCHAU_JPF_200710_3282-2.jpg
END:VEVENT
BEGIN:VEVENT
DTSTART;TZID=Europe/Berlin:20260124T090000
DTEND;TZID=Europe/Berlin:20260124T160000
DTSTAMP:20260420T065000
CREATED:20251211T124737Z
LAST-MODIFIED:20251211T124737Z
UID:10000284-1769245200-1769270400@izzbw.de
SUMMARY:Bildung\, Göppingen
DESCRIPTION:
URL:https://izzbw.de/termin/bildung-goeppingen-6/
LOCATION:EWS Arena Göppingen\, Nördliche Ringstraße 87\, Göppingen\, 73033
CATEGORIES:Ausbildung
ATTACH;FMTTYPE=image/jpeg:https://izzbw.de/wp-content/uploads/VORSCHAU_JPF_200710_1205.jpg
END:VEVENT
BEGIN:VEVENT
DTSTART;TZID=Europe/Berlin:20260117T093000
DTEND;TZID=Europe/Berlin:20260117T130000
DTSTAMP:20260420T065000
CREATED:20251211T124509Z
LAST-MODIFIED:20251211T124509Z
UID:10000283-1768642200-1768654800@izzbw.de
SUMMARY:Ausbildungsmesse\, Vaihingen an der Enz
DESCRIPTION:
URL:https://izzbw.de/termin/ausbildungsmesse-vaihingen-an-der-enz/
LOCATION:Stadthalle Vaihingen\, Heilbronner Str. 29\, Vaihingen an der Enz\, 71665\, Germany
CATEGORIES:Ausbildung
ATTACH;FMTTYPE=image/jpeg:https://izzbw.de/wp-content/uploads/VORSCHAU_JPF_200710_2370-1.jpg
END:VEVENT
BEGIN:VEVENT
DTSTART;TZID=Europe/Berlin:20251122T090000
DTEND;TZID=Europe/Berlin:20251122T130000
DTSTAMP:20260420T065000
CREATED:20250805T105941Z
LAST-MODIFIED:20250805T105941Z
UID:10000282-1763802000-1763816400@izzbw.de
SUMMARY:Ausbildungs- und Studienmesse\, Ellwangen
DESCRIPTION:
URL:https://izzbw.de/termin/ausbildungs-und-studienmesse-ellwangen-4/
LOCATION:Kreisberufsschulzentrum Ellwangen\, Hariolf-Gymnasium und Eugen-Bolz-Realschule\, Berliner Str. 19\, Ellwangen/Jagst\, 73479
CATEGORIES:Ausbildung
ATTACH;FMTTYPE=image/jpeg:https://izzbw.de/wp-content/uploads/VORSCHAU_JPF_200710_3282-3.jpg
END:VEVENT
BEGIN:VEVENT
DTSTART;TZID=Europe/Berlin:20251115T093000
DTEND;TZID=Europe/Berlin:20251115T143000
DTSTAMP:20260420T065000
CREATED:20250805T095856Z
LAST-MODIFIED:20250805T095856Z
UID:10000280-1763199000-1763217000@izzbw.de
SUMMARY:UP! Messe\, Heidenheim
DESCRIPTION:
URL:https://izzbw.de/termin/up-messe-heidenheim/
LOCATION:Congress Centrum Heidenheim\, Hugo-Rupf-Platz 1\, Heidenheim\, 89522
CATEGORIES:Ausbildung
ATTACH;FMTTYPE=image/jpeg:https://izzbw.de/wp-content/uploads/VORSCHAU_JPF_200710_1446.jpg
END:VEVENT
BEGIN:VEVENT
DTSTART;TZID=Europe/Berlin:20251107T140000
DTEND;TZID=Europe/Berlin:20251107T180000
DTSTAMP:20260420T065000
CREATED:20250805T100229Z
LAST-MODIFIED:20250805T100229Z
UID:10000281-1762524000-1762538400@izzbw.de
SUMMARY:Parentum\, Heilbronn
DESCRIPTION:
URL:https://izzbw.de/termin/parentum-heilbronn/
LOCATION:Bildungscampus Heilbronn\, Bildungscampus 6\, Heilbronn\, Baden-Württemberg\, 74076\, Germany
CATEGORIES:Ausbildung
ATTACH;FMTTYPE=image/jpeg:https://izzbw.de/wp-content/uploads/VORSCHAU_JPF_200710_3282-3.jpg
END:VEVENT
BEGIN:VEVENT
DTSTART;TZID=Europe/Berlin:20251106T080000
DTEND;TZID=Europe/Berlin:20251106T160000
DTSTAMP:20260420T065000
CREATED:20250805T095332Z
LAST-MODIFIED:20250805T095332Z
UID:10000279-1762416000-1762444800@izzbw.de
SUMMARY:Berufe am See\, Überlingen
DESCRIPTION:
URL:https://izzbw.de/termin/berufe-am-see-ueberlingen-4/
LOCATION:Kursaal\, Christophstraße 2B\, Überlingen\, 88662
CATEGORIES:Ausbildung
ATTACH;FMTTYPE=image/jpeg:https://izzbw.de/wp-content/uploads/VORSCHAU_JPF_200710_3823.jpg
END:VEVENT
BEGIN:VEVENT
DTSTART;TZID=Europe/Berlin:20251103T180000
DTEND;TZID=Europe/Berlin:20251104T120000
DTSTAMP:20260420T065000
CREATED:20250805T094121Z
LAST-MODIFIED:20250805T094239Z
UID:10000278-1762192800-1762257600@izzbw.de
SUMMARY:Job-Start-Börse\, Titisee-Neustadt
DESCRIPTION:
URL:https://izzbw.de/termin/job-start-boerse-titisee-neustadt-4/
LOCATION:Kurhaus am Titisee\, Strandbadstraße 4\, Titisee-Neustadt\, 79822
CATEGORIES:Ausbildung
ATTACH;FMTTYPE=image/jpeg:https://izzbw.de/wp-content/uploads/VORSCHAU_JPF_200710_2170-1.jpg
END:VEVENT
BEGIN:VEVENT
DTSTART;TZID=Europe/Berlin:20251018T093000
DTEND;TZID=Europe/Berlin:20251018T130000
DTSTAMP:20260420T065000
CREATED:20250805T093359Z
LAST-MODIFIED:20250805T093652Z
UID:10000277-1760779800-1760792400@izzbw.de
SUMMARY:IBIS\, Holzgerlingen
DESCRIPTION:
URL:https://izzbw.de/termin/ibis-holzgerlingen-5/
LOCATION:Stadthalle Holzgerlingen\, Berkenstraße 18\, Holzgerlingen\, 71088
CATEGORIES:Ausbildung
ATTACH;FMTTYPE=image/jpeg:https://izzbw.de/wp-content/uploads/VORSCHAU_JPF_200710_2040.jpg
END:VEVENT
BEGIN:VEVENT
DTSTART;TZID=Europe/Berlin:20251017T090000
DTEND;TZID=Europe/Berlin:20251018T130000
DTSTAMP:20260420T065000
CREATED:20250805T093317Z
LAST-MODIFIED:20250805T093317Z
UID:10000276-1760691600-1760792400@izzbw.de
SUMMARY:BANE-Berufs-Ausbildung Neckar-Enz\, Besigheim
DESCRIPTION:
URL:https://izzbw.de/termin/bane-berufs-ausbildung-neckar-enz-besigheim-6/
LOCATION:Stadthalle Alte Kelter Besigheim\, Hauptstraße 57\, Besigheim\, 74354
CATEGORIES:Ausbildung
ATTACH;FMTTYPE=image/jpeg:https://izzbw.de/wp-content/uploads/VORSCHAU_JPF_200710_4004.jpg
END:VEVENT
BEGIN:VEVENT
DTSTART;TZID=Europe/Berlin:20251016T180000
DTEND;TZID=Europe/Berlin:20251017T120000
DTSTAMP:20260420T065000
CREATED:20250805T091821Z
LAST-MODIFIED:20250805T091821Z
UID:10000274-1760637600-1760702400@izzbw.de
SUMMARY:Job-Start-Börse\, Breisach am Rhein
DESCRIPTION:
URL:https://izzbw.de/termin/job-start-boerse-breisach-am-rhein-3/
LOCATION:Breisgau-Halle\, Breisgaustraße 6\, Breisach\, 79206
CATEGORIES:Ausbildung
ATTACH;FMTTYPE=image/jpeg:https://izzbw.de/wp-content/uploads/VORSCHAU_JPF_200710_1241.jpg
END:VEVENT
BEGIN:VEVENT
DTSTART;TZID=Europe/Berlin:20251016T090000
DTEND;TZID=Europe/Berlin:20251018T140000
DTSTAMP:20260420T065000
CREATED:20250805T092420Z
LAST-MODIFIED:20250805T092420Z
UID:10000275-1760605200-1760796000@izzbw.de
SUMMARY:Visionen\, Balingen
DESCRIPTION:
URL:https://izzbw.de/termin/visionen-balingen/
LOCATION:Volksbankmesse Balingen\, Auf Stetten\, Balingen\, 72336
CATEGORIES:Ausbildung
ATTACH;FMTTYPE=image/jpeg:https://izzbw.de/wp-content/uploads/VORSCHAU_JPF_200710_3793-1.jpg
END:VEVENT
BEGIN:VEVENT
DTSTART;TZID=Europe/Berlin:20251011T090000
DTEND;TZID=Europe/Berlin:20251011T140000
DTSTAMP:20260420T065000
CREATED:20250805T091426Z
LAST-MODIFIED:20250805T091426Z
UID:10000273-1760173200-1760191200@izzbw.de
SUMMARY:Bildungsmesse\, Uhingen
DESCRIPTION:
URL:https://izzbw.de/termin/bildungsmesse-uhingen-2/
LOCATION:Uditorium Uhingen\, Ulmer Str. 7\, Uhingen\, Badenwüttenberg\, 73066\, Germany
CATEGORIES:Ausbildung
ATTACH;FMTTYPE=image/jpeg:https://izzbw.de/wp-content/uploads/VORSCHAU_JPF_200710_3580.jpg
END:VEVENT
BEGIN:VEVENT
DTSTART;TZID=Europe/Berlin:20251011T090000
DTEND;TZID=Europe/Berlin:20251011T140000
DTSTAMP:20260420T065000
CREATED:20250805T091051Z
LAST-MODIFIED:20250805T091051Z
UID:10000272-1760173200-1760191200@izzbw.de
SUMMARY:Aus- und Weiterbildungsbörse\, Mühlacker
DESCRIPTION:
URL:https://izzbw.de/termin/aus-und-weiterbildungsboerse-muehlacker-2/
LOCATION:Berufliche Schule Mühlacker\, Lienzinger Str. 46\, Mühlacker\, 75417
CATEGORIES:Ausbildung
ATTACH;FMTTYPE=image/jpeg:https://izzbw.de/wp-content/uploads/VORSCHAU_JPF_200710_2073-2.jpg
END:VEVENT
BEGIN:VEVENT
DTSTART;TZID=Europe/Berlin:20251009T090000
DTEND;TZID=Europe/Berlin:20251009T150000
DTSTAMP:20260420T065000
CREATED:20250805T090143Z
LAST-MODIFIED:20250805T090143Z
UID:10000270-1760000400-1760022000@izzbw.de
SUMMARY:Berufsorientierungstag\, Waldshut-Tiengen
DESCRIPTION:
URL:https://izzbw.de/termin/berufsorientierungstag-waldshut-tiengen/
LOCATION:Stadthalle Waldhut\, Friedrichstraße 9\, Waldshut\, Baden-Württemberg\, 79761\, Germany
CATEGORIES:Ausbildung
ATTACH;FMTTYPE=image/jpeg:https://izzbw.de/wp-content/uploads/VORSCHAU_JPF_200710_3274-1.jpg
END:VEVENT
BEGIN:VEVENT
DTSTART;TZID=Europe/Berlin:20251007T180000
DTEND;TZID=Europe/Berlin:20251008T120000
DTSTAMP:20260420T065000
CREATED:20250805T090713Z
LAST-MODIFIED:20250805T090713Z
UID:10000271-1759860000-1759924800@izzbw.de
SUMMARY:Job-Start-Börse\, Kirchzarten
DESCRIPTION:
URL:https://izzbw.de/termin/job-start-boerse-kirchzarten/
LOCATION:Black Forest Studios\, Dietenbacher Str. 20-22\, Kirchzarten\, Baden-Württemberg\, 79199\, Germany
CATEGORIES:Ausbildung
ATTACH;FMTTYPE=image/jpeg:https://izzbw.de/wp-content/uploads/VORSCHAU_JPF_200710_2891-1.jpg
END:VEVENT
BEGIN:VEVENT
DTSTART;TZID=Europe/Berlin:20250926T160000
DTEND;TZID=Europe/Berlin:20250926T190000
DTSTAMP:20260420T065000
CREATED:20250805T085004Z
LAST-MODIFIED:20250805T085004Z
UID:10000269-1758902400-1758913200@izzbw.de
SUMMARY:Ausbildungsbörse\, Isny
DESCRIPTION:
URL:https://izzbw.de/termin/ausbildungsboerse-isny-2/
LOCATION:Kurhaus am Park Isny\, Unterer Grabenweg 18\, Isny\, 88316
CATEGORIES:Ausbildung
ATTACH;FMTTYPE=image/jpeg:https://izzbw.de/wp-content/uploads/VORSCHAU_JPF_200710_1715-1.jpg
END:VEVENT
END:VCALENDAR